BEGIN:VCALENDAR
VERSION:2.0
PRODID:IEEE vTools.Events//EN
CALSCALE:GREGORIAN
BEGIN:VTIMEZONE
TZID:America/New_York
BEGIN:DAYLIGHT
DTSTART:20250309T030000
TZOFFSETFROM:-0500
TZOFFSETTO:-0400
RRULE:FREQ=YEARLY;BYDAY=2SU;BYMONTH=3
TZNAME:EDT
END:DAYLIGHT
BEGIN:STANDARD
DTSTART:20251102T010000
TZOFFSETFROM:-0400
TZOFFSETTO:-0500
RRULE:FREQ=YEARLY;BYDAY=1SU;BYMONTH=11
TZNAME:EST
END:STANDARD
END:VTIMEZONE
BEGIN:VEVENT
DTSTAMP:20250529T014351Z
UID:389CFC52-FC72-444F-B46F-438A489F5910
DTSTART;TZID=America/New_York:20250528T190000
DTEND;TZID=America/New_York:20250528T200000
DESCRIPTION:Dear IEEE Richmond Section Life Member Affinity Group Members\,
 \n\nInvitation to attend the First Life Member Affinity Group Member Intro
 duction Meet and Next Steps\n\nMeeting Details:\n\nDate: May 28\, 2025\n[
 ⏰] Time: 7:00 PM to 08:00 PM EST\n[📍] Location: Virtual (Webex)\n\n[
 🔗] Webex Meeting Link: [Join Meeting](https://www.google.com/url?q=http
 s%3A%2F%2Fieeemeetings.webex.com%2Fmeet%2Fwx3richmondieee.org&amp;sa=D&amp;ust=174
 8645040000000&amp;usg=AOvVaw3iXUd5zm55NT7Ml3sb3Vh3). ( [https://ieeemeetings.w
 ebex.com/meet/wx3richmondieee.org](https://www.google.com/url?q=https%3A%2
 F%2Fieeemeetings.webex.com%2Fmeet%2Fwx3richmondieee.org&amp;sa=D&amp;ust=174864504
 0000000&amp;usg=AOvVaw3iXUd5zm55NT7Ml3sb3Vh3))\n[📞] Join by Phone:\n\n- +1-
 415-655-0002 (United States Toll)\n- 1-855-282-6330 (United States Toll-Fr
 ee)\n[🔑] Access Code: 258 196 019\n\nAgenda Highlights:\n\n1- Introduct
 ion\n\n2- Volunteering\n\n3- Next Steps\n\nGokul Pandy\n\nChair\, IEEE Ric
 hmond Section\n\nGlen Allen\, VA 23060\n\nEmail: gokul.pandy@ieee.org\n\nC
 ell: +1 804 709 6460\n\nLinkedIn: [www.linkedin.com/in/](http://www.linked
 in.com/in/gokulpandy)gokulpandy\n\n[A picture containing clipart\n\nDescri
 ption automatically generated]\n\nVirtual: https://events.vtools.ieee.org/
 m/486726
LOCATION:Virtual: https://events.vtools.ieee.org/m/486726
ORGANIZER:gokul.pandy@ieee.org
SEQUENCE:14
SUMMARY:Life Member Affinity Group Introduction Meet
URL;VALUE=URI:https://events.vtools.ieee.org/m/486726
X-ALT-DESC:Description: &lt;br /&gt;&lt;p&gt;Dear IEEE Richmond Section Life Member Aff
 inity Group Members\,&lt;/p&gt;\n&lt;p&gt;Invitation to attend the First Life Member A
 ffinity Group Member Introduction Meet and Next Steps&amp;nbsp\;&lt;/p&gt;\n&lt;p&gt;&lt;stro
 ng&gt;Meeting Details:&lt;/strong&gt;&lt;/p&gt;\n&lt;p&gt;&amp;nbsp\;&lt;strong&gt;Date:&lt;/strong&gt; May 28\
 , 2025&lt;br&gt;&lt;img class=&quot;an1&quot; draggable=&quot;false&quot; src=&quot;https://fonts.gstatic.co
 m/s/e/notoemoji/16.0/23f0/72.png&quot; alt=&quot;⏰&quot; loading=&quot;lazy&quot; data-emoji=&quot;⏰
 &quot; aria-label=&quot;⏰&quot;&gt;&amp;nbsp\;&lt;strong&gt;Time:&lt;/strong&gt; 7:00 PM to 08:00 PM EST&lt;b
 r&gt;&lt;img class=&quot;an1&quot; draggable=&quot;false&quot; src=&quot;https://fonts.gstatic.com/s/e/no
 toemoji/16.0/1f4cd/72.png&quot; alt=&quot;📍&quot; loading=&quot;lazy&quot; data-emoji=&quot;📍&quot; ari
 a-label=&quot;📍&quot;&gt;&amp;nbsp\;&lt;strong&gt;Location:&lt;/strong&gt;&amp;nbsp\;Virtual (Webex)&lt;/p&gt;
 \n&lt;p&gt;&lt;img class=&quot;an1&quot; draggable=&quot;false&quot; src=&quot;https://fonts.gstatic.com/s/e
 /notoemoji/16.0/1f517/72.png&quot; alt=&quot;🔗&quot; loading=&quot;lazy&quot; data-emoji=&quot;🔗&quot; 
 aria-label=&quot;🔗&quot;&gt;&amp;nbsp\;&lt;strong&gt;Webex Meeting Link:&lt;/strong&gt;&amp;nbsp\;&lt;a hre
 f=&quot;https://www.google.com/url?q=https%3A%2F%2Fieeemeetings.webex.com%2Fmee
 t%2Fwx3richmondieee.org&amp;amp\;sa=D&amp;amp\;ust=1748645040000000&amp;amp\;usg=AOvVa
 w3iXUd5zm55NT7Ml3sb3Vh3&quot; target=&quot;_blank&quot; rel=&quot;noopener&quot; data-saferedirectu
 rl=&quot;https://www.google.com/url?q=https://www.google.com/url?q%3Dhttps%253A
 %252F%252Fieeemeetings.webex.com%252Fmeet%252Fwx3richmondieee.org%26sa%3DD
 %26ust%3D1748645040000000%26usg%3DAOvVaw3iXUd5zm55NT7Ml3sb3Vh3&amp;amp\;source
 =gmail&amp;amp\;ust=1748307850838000&amp;amp\;usg=AOvVaw22PPBgq6gT872zf0ELryNs&quot;&gt;Jo
 in Meeting&lt;/a&gt;.&amp;nbsp\; &amp;nbsp\;(&amp;nbsp\;&lt;a href=&quot;https://www.google.com/url?
 q=https%3A%2F%2Fieeemeetings.webex.com%2Fmeet%2Fwx3richmondieee.org&amp;amp\;s
 a=D&amp;amp\;ust=1748645040000000&amp;amp\;usg=AOvVaw3iXUd5zm55NT7Ml3sb3Vh3&quot; targe
 t=&quot;_blank&quot; rel=&quot;noopener&quot; data-saferedirecturl=&quot;https://www.google.com/url
 ?q=https://www.google.com/url?q%3Dhttps%253A%252F%252Fieeemeetings.webex.c
 om%252Fmeet%252Fwx3richmondieee.org%26sa%3DD%26ust%3D1748645040000000%26us
 g%3DAOvVaw3iXUd5zm55NT7Ml3sb3Vh3&amp;amp\;source=gmail&amp;amp\;ust=17483078508380
 00&amp;amp\;usg=AOvVaw22PPBgq6gT872zf0ELryNs&quot;&gt;https://ieeemeetings.webex.&lt;wbr&gt;
 com/meet/wx3richmondieee.org&lt;/a&gt;)&lt;br&gt;&lt;img class=&quot;an1&quot; draggable=&quot;false&quot; sr
 c=&quot;https://fonts.gstatic.com/s/e/notoemoji/16.0/1f4de/72.png&quot; alt=&quot;📞&quot; l
 oading=&quot;lazy&quot; data-emoji=&quot;📞&quot; aria-label=&quot;📞&quot;&gt;&amp;nbsp\;&lt;strong&gt;Join by P
 hone:&lt;/strong&gt;&lt;/p&gt;\n&lt;ul&gt;\n&lt;li&gt;&lt;strong&gt;+1-415-655-0002&lt;/strong&gt;&amp;nbsp\;(Unit
 ed States Toll)&lt;/li&gt;\n&lt;li&gt;&lt;strong&gt;1-855-282-6330&lt;/strong&gt;&amp;nbsp\;(United St
 ates Toll-Free)&lt;br&gt;&lt;img class=&quot;an1&quot; draggable=&quot;false&quot; src=&quot;https://fonts.g
 static.com/s/e/notoemoji/16.0/1f511/72.png&quot; alt=&quot;🔑&quot; loading=&quot;lazy&quot; data
 -emoji=&quot;🔑&quot; aria-label=&quot;🔑&quot;&gt;&amp;nbsp\;&lt;strong&gt;Access Code:&lt;/strong&gt;&amp;nbsp\
 ;258 196 019&lt;/li&gt;\n&lt;/ul&gt;\n&lt;h3&gt;&lt;strong&gt;Agenda Highlights:&lt;/strong&gt;&lt;/h3&gt;\n&lt;p
 &gt;&lt;strong&gt;1- Introduction&amp;nbsp\;&lt;/strong&gt;&lt;/p&gt;\n&lt;p&gt;&lt;strong&gt;2- Volunteering&amp;n
 bsp\;&lt;/strong&gt;&lt;/p&gt;\n&lt;p&gt;&lt;strong&gt;3- Next Steps&amp;nbsp\;&lt;/strong&gt;&lt;/p&gt;\n&lt;p&gt;&amp;nbsp
 \;&lt;/p&gt;\n&lt;p class=&quot;MsoNormal&quot;&gt;&lt;strong&gt;Gokul Pandy&lt;/strong&gt;&lt;/p&gt;\n&lt;p class=&quot;M
 soNormal&quot;&gt;&lt;strong&gt;Chair\, IEEE Richmond Section&lt;/strong&gt;&lt;/p&gt;\n&lt;p class=&quot;Ms
 oNormal&quot;&gt;Glen Allen\, VA 23060&lt;/p&gt;\n&lt;p class=&quot;MsoNormal&quot;&gt;&lt;strong&gt;Email:&lt;/s
 trong&gt;&amp;nbsp\;&lt;a href=&quot;mailto:gokul.pandy@ieee.org&quot; target=&quot;_blank&quot; rel=&quot;no
 opener&quot;&gt;gokul.pandy@ieee.org&lt;/a&gt;&lt;/p&gt;\n&lt;p class=&quot;MsoNormal&quot;&gt;&lt;strong&gt;Cell:&lt;/
 strong&gt;&amp;nbsp\; +1 804 709 6460&lt;/p&gt;\n&lt;p class=&quot;MsoNormal&quot;&gt;&lt;strong&gt;LinkedIn:
 &amp;nbsp\;&amp;nbsp\;&lt;/strong&gt;&lt;a href=&quot;http://www.linkedin.com/in/gokulpandy&quot; tar
 get=&quot;_blank&quot; rel=&quot;noopener&quot;&gt;www.linkedin.com/in/&lt;/a&gt;gokulpandy&lt;/p&gt;\n&lt;p cla
 ss=&quot;MsoNormal&quot;&gt;&amp;nbsp\;&lt;/p&gt;\n&lt;p class=&quot;MsoNormal&quot;&gt;&lt;img src=&quot;https://mail.go
 ogle.com/mail/u/1/?ui=2&amp;amp\;ik=6855072def&amp;amp\;attid=0.1&amp;amp\;permmsgid=m
 sg-a%3Ar8106994317602405697&amp;amp\;permmsgid=msg-a%3Ar8106994317602405697&amp;am
 p\;th=1952a6bc7f00e16d&amp;amp\;view=fimg&amp;amp\;fur=ip&amp;amp\;sz=s0-l75-ft&amp;amp\;a
 ttbid=ANGjdJ-C2wFSS-iwMVdAx_70IY-K86TdnW4mA-I4GXgfEo5KrtCNZ87sX57Gm_lfxr0D
 yYcNvC-nN_TTOiu-Ff2VKY7_SfUGdhadvR1VcXuk9NHPdKmw6YtGVibRrB0&amp;amp\;disp=emb&amp;
 amp\;realattid&amp;amp\;zw&quot; alt=&quot;A picture containing clipart\n\nDescription a
 utomatically generated&quot; width=&quot;96&quot; height=&quot;28&quot; border=&quot;0&quot;&gt;&lt;/p&gt;
END:VEVENT
END:VCALENDAR

