BEGIN:VCALENDAR
VERSION:2.0
PRODID:IEEE vTools.Events//EN
CALSCALE:GREGORIAN
BEGIN:VTIMEZONE
TZID:America/New_York
BEGIN:DAYLIGHT
DTSTART:20250309T030000
TZOFFSETFROM:-0500
TZOFFSETTO:-0400
RRULE:FREQ=YEARLY;BYDAY=2SU;BYMONTH=3
TZNAME:EDT
END:DAYLIGHT
BEGIN:STANDARD
DTSTART:20251102T010000
TZOFFSETFROM:-0400
TZOFFSETTO:-0500
RRULE:FREQ=YEARLY;BYDAY=1SU;BYMONTH=11
TZNAME:EST
END:STANDARD
END:VTIMEZONE
BEGIN:VEVENT
DTSTAMP:20250529T185009Z
UID:D9C7A6B4-AB5E-411B-B704-821D15835AC3
DTSTART;TZID=America/New_York:20250527T140000
DTEND;TZID=America/New_York:20250527T150000
DESCRIPTION:On May 27\, Commissioner Christy Goldsmith Romero of the Commod
 ities Futures Trading Commission will come to Brookings to speak about the
  future of financial regulation and reflect on her tenure at the CFTC\, pr
 ior experience serving under four presidents at the Securities and Exchang
 e Commission and U.S. Treasury Department\, and the path she sees ahead fo
 r financial regulation. As sponsor of [CFTC’s Technology Advisory Commit
 tee](https://nam10.safelinks.protection.outlook.com/?url=https%3A%2F%2Fwww
 .cftc.gov%2FAbout%2FAdvisoryCommittees%2FTAC&amp;data=05%7C02%7CMWaring%40broo
 kings.edu%7C11acf9ae37a04440e9f808dd8d847e0e%7C0a02388e617845139b8288b9dc6
 bf457%7C1%7C0%7C638822322415739284%7CUnknown%7CTWFpbGZsb3d8eyJFbXB0eU1hcGk
 iOnRydWUsIlYiOiIwLjAuMDAwMCIsIlAiOiJXaW4zMiIsIkFOIjoiTWFpbCIsIldUIjoyfQ%3D
 %3D%7C0%7C%7C%7C&amp;sdata=Rq3qY67NMU4ofrnIYndH0PK9zDEEWor00WA74NoTZf4%3D&amp;rese
 rved=0)\, Romero has focused on the impacts of AI\, digital assets\, inclu
 ding cryptocurrencies\, and cyber resilience\, all topics that will be dis
 cussed.\n\nThis event is a part of the [Center on Regulation and Markets](
 https://www.brookings.edu/centers/center-on-regulation-and-markets/) [Seri
 es on Financial Markets and Regulation](https://www.brookings.edu/tags/fin
 ancial-markets-and-regulation/) and is the fifth in the ongoing Future of 
 Financial Regulation series. Viewers can ask questions in advance by email
 ing events@brookings.edu and on X [@BrookingsEcon](https://x.com/brookings
 econ) using #FutureofReg.\n\nSpeaker(s): Christy Goldsmith Romero\, \n\nAg
 enda: \nThis talk will probably talk about AI tools for helping financial 
 regulations.\n\nBest regards\n\nVirtual: https://events.vtools.ieee.org/m/
 486785
LOCATION:Virtual: https://events.vtools.ieee.org/m/486785
ORGANIZER:baris.kazar@oracle.com
SEQUENCE:20
SUMMARY:The future of financial services regulation: A conversation with CF
 TC Commissioner Christy Goldsmith Romero (AI Talks with Coffee/Tea #25)
URL;VALUE=URI:https://events.vtools.ieee.org/m/486785
X-ALT-DESC:Description: &lt;br /&gt;&lt;p&gt;On May 27\, Commissioner Christy Goldsmith
  Romero of the Commodities Futures Trading Commission will come to Brookin
 gs to speak about the future of financial regulation and reflect on her te
 nure at the CFTC\, prior experience serving under four presidents at the S
 ecurities and Exchange Commission and U.S. Treasury Department\, and the p
 ath she sees ahead for financial regulation. As sponsor of &lt;a href=&quot;https:
 //nam10.safelinks.protection.outlook.com/?url=https%3A%2F%2Fwww.cftc.gov%2
 FAbout%2FAdvisoryCommittees%2FTAC&amp;amp\;data=05%7C02%7CMWaring%40brookings.
 edu%7C11acf9ae37a04440e9f808dd8d847e0e%7C0a02388e617845139b8288b9dc6bf457%
 7C1%7C0%7C638822322415739284%7CUnknown%7CTWFpbGZsb3d8eyJFbXB0eU1hcGkiOnRyd
 WUsIlYiOiIwLjAuMDAwMCIsIlAiOiJXaW4zMiIsIkFOIjoiTWFpbCIsIldUIjoyfQ%3D%3D%7C
 0%7C%7C%7C&amp;amp\;sdata=Rq3qY67NMU4ofrnIYndH0PK9zDEEWor00WA74NoTZf4%3D&amp;amp\;
 reserved=0&quot; target=&quot;_blank&quot; rel=&quot;noopener&quot;&gt;CFTC&amp;rsquo\;s Technology Adviso
 ry Committee&lt;/a&gt;\, Romero has focused on the impacts of AI\, digital asset
 s\, including cryptocurrencies\, and cyber resilience\, all topics that wi
 ll be discussed.&lt;/p&gt;\n&lt;p&gt;This event is a part of the &lt;a href=&quot;https://www.
 brookings.edu/centers/center-on-regulation-and-markets/&quot;&gt;Center on Regulat
 ion and Markets&lt;/a&gt; &lt;a href=&quot;https://www.brookings.edu/tags/financial-mark
 ets-and-regulation/&quot;&gt;Series on Financial Markets and Regulation&lt;/a&gt; and is
  the fifth in the ongoing Future of Financial Regulation series. Viewers c
 an ask questions in advance by emailing &lt;a href=&quot;mailto:events@brookings.e
 du&quot; target=&quot;_blank&quot; rel=&quot;noopener&quot;&gt;events@brookings.edu&lt;/a&gt; and on X &lt;a hr
 ef=&quot;https://x.com/brookingsecon&quot; target=&quot;_blank&quot; rel=&quot;noopener&quot;&gt;@Brookings
 Econ&lt;/a&gt; using &lt;strong&gt;#FutureofReg&lt;/strong&gt;.&lt;/p&gt;&lt;br /&gt;&lt;br /&gt;Agenda: &lt;br /
 &gt;&lt;p&gt;This talk will probably talk about AI tools for helping financial regu
 lations.&lt;/p&gt;\n&lt;p&gt;Best regards&lt;/p&gt;
END:VEVENT
END:VCALENDAR

