BEGIN:VCALENDAR
VERSION:2.0
PRODID:IEEE vTools.Events//EN
CALSCALE:GREGORIAN
BEGIN:VTIMEZONE
TZID:America/Bogota
BEGIN:DAYLIGHT
DTSTART:20380118T221407
TZOFFSETFROM:-0500
TZOFFSETTO:-0500
RRULE:FREQ=YEARLY;BYDAY=3MO;BYMONTH=1
TZNAME:-05
END:DAYLIGHT
BEGIN:STANDARD
DTSTART:19930206T230000
TZOFFSETFROM:-0400
TZOFFSETTO:-0500
RRULE:FREQ=YEARLY;BYDAY=1SA;BYMONTH=2
TZNAME:-05
END:STANDARD
END:VTIMEZONE
BEGIN:VEVENT
DTSTAMP:20250913T151134Z
UID:1BDE8EA0-AEE2-4CD7-BC97-4D6BC929AA53
DTSTART;TZID=America/Bogota:20250709T130000
DTEND;TZID=America/Bogota:20250710T210000
DESCRIPTION:Resumen:\n\nEste curso es un innovador enfoque holístico que r
 ompe los paradigmas existentes en las aplicaciones y prácticas de los est
 ándares NFPA\, IEEE e IEC para las protecciones con Sistemas de Puesta a 
 Tierra. Estudiando sus filosofías para el diseño\, suministros\, constru
 cción\, inspección y comisionamiento.\n\nDediado a:\n\n- Ingenieros en d
 iseño\n- Constructores e Inspectores de obras Eléctricas en BT y MT.\n- 
 Personal de comisionamiento de proyectos y suministros eléctricos\n- Inge
 nieros idóneos en peritaje para sistemas de protección\n- Personal de Ev
 alúo en Aseguradoras\n\nCostos de Inscripción **incluye libro de texto**
 :\n\n- Publico General: $310 dolares\n- Miembro IEEE: $210 dolares\n- Miem
 bro IAS: $180 dolares\n- Estudiantes de Licenciatura: $ 160 dolares\n- Hay
  descuento por grupos\, preguntar al tel: 223-7445\n\nCo-sponsored by: You
 ng Professional Seccion Panamá\n\nSpeaker(s): Gustavo Salloum\, \n\nAgend
 a: \nContenido:\n\n- Introduccion: Riesgos electricos asociados a los ambi
 entes de trabajo.\n- Parte I: Puesta a Tierra del sistema eléctrico de po
 tencia\n- Parte II: Puesta a Tierra de seguridad\n- Parte III: Puesta a Ti
 erra para control de tensiones\n- Parte IV: Puesta a Tierra para protecci
 ón contra rayos\n- Parte V: Puesta a Tierra para equipos sensibles\n- Par
 te VI: Puesta a Tierra y la electrostática\n- Parte VII: Materiales y acc
 esorios para Puesta a Tierra\n\nBldg: Hotel Hilton Garden Inn\, Calle Enri
 que Geenizier y Eusebio A. Morales. El Cangrejo\, Bella Vista\, Panama\, P
 anama\, Panama
LOCATION:Bldg: Hotel Hilton Garden Inn\, Calle Enrique Geenizier y Eusebio 
 A. Morales. El Cangrejo\, Bella Vista\, Panama\, Panama\, Panama
ORGANIZER:t.abrahams.pa@ieee.org
SEQUENCE:85
SUMMARY:Curso de Sistemas Puesta A Tierra
URL;VALUE=URI:https://events.vtools.ieee.org/m/486841
X-ALT-DESC:Description: &lt;br /&gt;&lt;p&gt;&lt;strong&gt;Resumen:&lt;/strong&gt;&lt;/p&gt;\n&lt;p&gt;Este cur
 so es un innovador enfoque hol&amp;iacute\;stico que rompe los paradigmas exis
 tentes en las aplicaciones y pr&amp;aacute\;cticas de los&amp;nbsp\;&lt;em&gt;est&amp;aacute
 \;ndares NFPA\, IEEE e IEC&lt;/em&gt; para las protecciones con Sistemas de Pues
 ta a Tierra.&amp;nbsp\; Estudiando sus filosof&amp;iacute\;as para el dise&amp;ntilde\
 ;o\, suministros\, construcci&amp;oacute\;n\, inspecci&amp;oacute\;n y comisionami
 ento.&lt;/p&gt;\n&lt;p&gt;&lt;strong&gt;&lt;span style=&quot;color: rgb(0\, 0\, 0)\;&quot;&gt;Dediado a:&lt;/sp
 an&gt;&lt;/strong&gt;&lt;/p&gt;\n&lt;ul&gt;\n&lt;li&gt;Ingenieros en dise&amp;ntilde\;o&lt;/li&gt;\n&lt;li&gt;Constru
 ctores e Inspectores de obras El&amp;eacute\;ctricas en BT y MT.&lt;/li&gt;\n&lt;li&gt;Per
 sonal de comisionamiento de proyectos y suministros el&amp;eacute\;ctricos&lt;/li
 &gt;\n&lt;li&gt;Ingenieros id&amp;oacute\;neos en peritaje para sistemas de protecci&amp;oa
 cute\;n&lt;/li&gt;\n&lt;li&gt;Personal de Eval&amp;uacute\;o en Aseguradoras&lt;/li&gt;\n&lt;/ul&gt;\n
 &lt;p&gt;&lt;strong&gt;Costos de Inscripci&amp;oacute\;n **incluye libro de texto**:&lt;/stro
 ng&gt;&lt;/p&gt;\n&lt;ul&gt;\n&lt;li&gt;Publico General:&amp;nbsp\; &amp;nbsp\;$310 dolares&lt;/li&gt;\n&lt;li&gt;M
 iembro IEEE:&amp;nbsp\; &amp;nbsp\; &amp;nbsp\; $210 dolares&lt;/li&gt;\n&lt;li&gt;Miembro IAS:&amp;nb
 sp\; &amp;nbsp\; &amp;nbsp\; &amp;nbsp\;$180 dolares&lt;/li&gt;\n&lt;li&gt;Estudiantes de Licencia
 tura:&amp;nbsp\; &amp;nbsp\; $ 160 dolares&lt;/li&gt;\n&lt;li&gt;Hay descuento por grupos\, pr
 eguntar al tel: 223-7445&lt;/li&gt;\n&lt;/ul&gt;&lt;br /&gt;&lt;br /&gt;Agenda: &lt;br /&gt;&lt;p&gt;&lt;strong&gt;C
 ontenido:&lt;/strong&gt;&lt;/p&gt;\n&lt;ul&gt;\n&lt;li&gt;Introduccion:&amp;nbsp\; Riesgos electricos 
 asociados a los ambientes de trabajo.&lt;/li&gt;\n&lt;li&gt;Parte I: Puesta a Tierra d
 el sistema el&amp;eacute\;ctrico de potencia&lt;/li&gt;\n&lt;li&gt;Parte II: Puesta a Tier
 ra de seguridad&lt;/li&gt;\n&lt;li&gt;Parte III: Puesta a Tierra para control de tensi
 ones&lt;/li&gt;\n&lt;li&gt;Parte IV: Puesta a Tierra para protecci&amp;oacute\;n contra ra
 yos&lt;/li&gt;\n&lt;li&gt;Parte V: Puesta a Tierra para equipos sensibles&lt;/li&gt;\n&lt;li&gt;Pa
 rte VI: Puesta a Tierra y la electrost&amp;aacute\;tica&lt;/li&gt;\n&lt;li&gt;Parte VII: M
 ateriales y accesorios para Puesta a Tierra&amp;nbsp\;&lt;/li&gt;\n&lt;/ul&gt;
END:VEVENT
END:VCALENDAR

