BEGIN:VCALENDAR
VERSION:2.0
PRODID:IEEE vTools.Events//EN
CALSCALE:GREGORIAN
BEGIN:VTIMEZONE
TZID:America/New_York
BEGIN:DAYLIGHT
DTSTART:20250309T030000
TZOFFSETFROM:-0500
TZOFFSETTO:-0400
RRULE:FREQ=YEARLY;BYDAY=2SU;BYMONTH=3
TZNAME:EDT
END:DAYLIGHT
BEGIN:STANDARD
DTSTART:20251102T010000
TZOFFSETFROM:-0400
TZOFFSETTO:-0500
RRULE:FREQ=YEARLY;BYDAY=1SU;BYMONTH=11
TZNAME:EST
END:STANDARD
END:VTIMEZONE
BEGIN:VEVENT
DTSTAMP:20250720T125850Z
UID:08B71E91-8121-4890-8CEA-9BB394E5611B
DTSTART;TZID=America/New_York:20250603T095000
DTEND;TZID=America/New_York:20250603T111500
DESCRIPTION:A recent WLOS news had reported that: &quot;Asheville and North Caro
 lina continue our tradition of leading in aviation innovation. This signif
 icant investment represents our commitment to this community and its workf
 orce”...&quot;Asheville plays a key role in producing parts needed for the ra
 mp-up of LEAP engines used on narrowbody aircraft\, along with parts in wi
 debody aircraft and military fighter jets\, helicopters and ships&quot;\n\nTues
 day June 3rd at 9:50AM Bernard Acquah one of our IEEE Western North Caroli
 na Section members will be giving us a tour of some parts of the GE Aerosp
 ace Manufacturing facility at 401 Sweeten Creek Industrial Park\, Ashevill
 e\, NC 28803 and talk about some of the innovative computer integration in
 to the manufacturing processes and systems.\n\nTuesday\, June 3\, 2025 9:5
 0 AM - 11:15 AM\n\n~AEROSPACE Asheville 401 Conference - Main 10\n\n9:50-1
 0:00 Arrive at Asheville\, hang out in the lobby and sign in\n\n10-10:10 I
 ntro to Asheville + Safety debrief\, Main conference room\n\n10:10-11:00 S
 HOP TOUR!!\n\n11:00-11:15 Follow-up questions and depart\, Main conference
  room\n\nVisitors MUST:\n\n- Wear closed toe shoes\, no heels\, or wedges\
 n- Wear jeans or slacks\n- Wear a shirt/blouse/jacket with covered shoulde
 rs\n- NO CAMERAS ON TOUR\, no exceptions\n- NO FOOD OR DRINK ON TOUR\, ver
 y few exceptions\n\nHopefully\, we can gather together afterwards for a no
 n-sponsored lunch at restaurant convenient to the location.\n\nPlease arri
 ve a little early.\n\nCo-sponsored by: GE\n\nSpeaker(s): Bernard\, \n\nAge
 nda: \nTuesday\, June 3\, 2025 9:50 AM - 11:15 AM\n\n~AEROSPACE Asheville 
 401 Conference - Main 10\n\n9:50-10:00 Arrive at Asheville\, hang out in t
 he lobby and sign in\n\n10-10:10 Intro to Asheville + Safety debrief\, Mai
 n conference room\n\n10:10-11:00 SHOP TOUR!!\n\n11:00-11:15 Follow-up ques
 tions and depart\, Main conference room\n\nVisitors MUST:\n\n- Wear closed
  toe shoes\, no heels\, or wedges\n- Wear jeans or slacks\n- Wear a shirt/
 blouse/jacket with covered shoulders\n- NO CAMERAS ON TOUR\, no exceptions
 \n- NO FOOD OR DRINK ON TOUR\, very few exceptions\n\nRoom: Conference - M
 ain 10\, Bldg: AEROSPACE Asheville 401 \, 401 Sweeten Creek Industrial Par
 k\, \, Asheville\, North Carolina\, United States\, 28803
LOCATION:Room: Conference - Main 10\, Bldg: AEROSPACE Asheville 401 \, 401 
 Sweeten Creek Industrial Park\, \, Asheville\, North Carolina\, United Sta
 tes\, 28803
ORGANIZER:greeniebees@hotmail.com
SEQUENCE:79
SUMMARY:GE Aerospace Manufacturing Tour 
URL;VALUE=URI:https://events.vtools.ieee.org/m/486882
X-ALT-DESC:Description: &lt;br /&gt;&lt;p&gt;A recent WLOS news had reported that: &quot;Ash
 eville and North Carolina continue our tradition of leading in aviation in
 novation. This significant investment represents our commitment to this co
 mmunity and its workforce&amp;rdquo\;...&quot;Asheville plays a key role in produci
 ng parts needed for the ramp-up of LEAP engines used on narrowbody aircraf
 t\, along with parts in widebody aircraft and military fighter jets\, heli
 copters and ships&quot;&lt;/p&gt;\n&lt;p&gt;Tuesday June 3rd at 9:50AM Bernard Acquah one o
 f our IEEE Western North Carolina Section members will be giving us a tour
  of some parts of the GE Aerospace Manufacturing facility at 401 Sweeten C
 reek Industrial Park\, Asheville\, NC 28803 and talk about some of the inn
 ovative computer integration into the manufacturing processes and systems.
 &amp;nbsp\;&amp;nbsp\;&lt;/p&gt;\n&lt;p class=&quot;x_MsoNormal&quot; data-olk-copy-source=&quot;MessageBo
 dy&quot;&gt;Tuesday\, June 3\, 2025 9:50 AM - 11:15 AM&lt;/p&gt;\n&lt;p class=&quot;x_MsoNormal&quot;
 &gt;~AEROSPACE Asheville 401 Conference - Main 10&lt;/p&gt;\n&lt;p class=&quot;x_MsoNormal&quot;
 &gt;9:50-10:00 Arrive at Asheville\, hang out in the lobby and sign in&lt;/p&gt;\n&lt;
 p class=&quot;x_MsoNormal&quot;&gt;10-10:10 Intro to Asheville + Safety debrief\, Main 
 conference room&lt;/p&gt;\n&lt;p class=&quot;x_MsoNormal&quot;&gt;10:10-11:00 SHOP TOUR!!&lt;/p&gt;\n&lt;
 p class=&quot;x_MsoNormal&quot;&gt;11:00-11:15 Follow-up questions and depart\, Main co
 nference room&lt;/p&gt;\n&lt;p class=&quot;x_MsoNormal&quot; aria-hidden=&quot;true&quot;&gt;&amp;nbsp\;&lt;/p&gt;\n
 &lt;p class=&quot;x_MsoNormal&quot;&gt;Visitors MUST:&lt;/p&gt;\n&lt;ul type=&quot;disc&quot;&gt;\n&lt;li class=&quot;x_
 MsoNormal&quot;&gt;Wear closed toe shoes\, no heels\, or wedges&lt;/li&gt;\n&lt;li class=&quot;x
 _MsoNormal&quot;&gt;Wear jeans or slacks&lt;/li&gt;\n&lt;li class=&quot;x_MsoNormal&quot;&gt;Wear a shir
 t/blouse/jacket with covered shoulders&lt;/li&gt;\n&lt;li class=&quot;x_MsoNormal&quot;&gt;NO CA
 MERAS ON TOUR\, no exceptions&lt;/li&gt;\n&lt;li class=&quot;x_MsoNormal&quot;&gt;NO FOOD OR DRI
 NK ON TOUR\, very few exceptions&lt;/li&gt;\n&lt;/ul&gt;\n&lt;p&gt;Hopefully\, we can gather
  together afterwards for a non-sponsored lunch at restaurant convenient to
  the location.&amp;nbsp\;&amp;nbsp\;&lt;/p&gt;\n&lt;p&gt;Please arrive a little early.&lt;/p&gt;\n&lt;p
 &gt;&amp;nbsp\;&lt;/p&gt;&lt;br /&gt;&lt;br /&gt;Agenda: &lt;br /&gt;&lt;p class=&quot;x_MsoNormal&quot; data-olk-copy
 -source=&quot;MessageBody&quot;&gt;Tuesday\, June 3\, 2025 9:50 AM - 11:15 AM&lt;/p&gt;\n&lt;p c
 lass=&quot;x_MsoNormal&quot;&gt;~AEROSPACE Asheville 401 Conference - Main 10&lt;/p&gt;\n&lt;p c
 lass=&quot;x_MsoNormal&quot;&gt;9:50-10:00 Arrive at Asheville\, hang out in the lobby 
 and sign in&lt;/p&gt;\n&lt;p class=&quot;x_MsoNormal&quot;&gt;10-10:10 Intro to Asheville + Safe
 ty debrief\, Main conference room&lt;/p&gt;\n&lt;p class=&quot;x_MsoNormal&quot;&gt;10:10-11:00 
 SHOP TOUR!!&lt;/p&gt;\n&lt;p class=&quot;x_MsoNormal&quot;&gt;11:00-11:15 Follow-up questions an
 d depart\, Main conference room&lt;/p&gt;\n&lt;p class=&quot;x_MsoNormal&quot; aria-hidden=&quot;t
 rue&quot;&gt;&amp;nbsp\;&lt;/p&gt;\n&lt;p class=&quot;x_MsoNormal&quot;&gt;Visitors MUST:&lt;/p&gt;\n&lt;ul type=&quot;dis
 c&quot;&gt;\n&lt;li class=&quot;x_MsoNormal&quot;&gt;Wear closed toe shoes\, no heels\, or wedges&lt;
 /li&gt;\n&lt;li class=&quot;x_MsoNormal&quot;&gt;Wear jeans or slacks&lt;/li&gt;\n&lt;li class=&quot;x_MsoN
 ormal&quot;&gt;Wear a shirt/blouse/jacket with covered shoulders&lt;/li&gt;\n&lt;li class=&quot;
 x_MsoNormal&quot;&gt;NO CAMERAS ON TOUR\, no exceptions&lt;/li&gt;\n&lt;li class=&quot;x_MsoNorm
 al&quot;&gt;NO FOOD OR DRINK ON TOUR\, very few exceptions&lt;/li&gt;\n&lt;/ul&gt;
END:VEVENT
END:VCALENDAR

