BEGIN:VCALENDAR
VERSION:2.0
PRODID:IEEE vTools.Events//EN
CALSCALE:GREGORIAN
BEGIN:VTIMEZONE
TZID:Asia/Calcutta
BEGIN:STANDARD
DTSTART:19451014T230000
TZOFFSETFROM:+0630
TZOFFSETTO:+0530
TZNAME:IST
END:STANDARD
END:VTIMEZONE
BEGIN:VEVENT
DTSTAMP:20171124T140018Z
UID:8C476512-D11F-11E7-A02F-0050568D7F66
DTSTART;TZID=Asia/Calcutta:20171211T153000
DTEND;TZID=Asia/Calcutta:20171211T180000
DESCRIPTION:Dr. Eli Brookner is delivering an AESS - Distinguished Lecture 
 on &quot;Radar Phased Arrays\, Meta Metarials\, Anti-Stealth and MIMO - Advance
 s and Breakthroughs&quot; at ECE Golden Jubilee Seminar Hall on 11th Dec 2017.\
 n\nSpeaker(s): Dr. Eli Brookner\, \n\nAgenda: \n1. High Tea and Networking
  3:30 PM - 4:00 PM\n\n2. Welcome by Sri. G. Viswanathan\, Chairman\, IEEE 
 AESS BLR Chapter 4:00PM - 4:10 PM\n\n3. Introduction of the speaker 4:10PM
  - 4:25PM\n\n4. Distinguished Lecture 4:25PM - 5:25PM\n\n5. Q &amp; A 5:25 PM 
 - 5:50PM\n\n6. Vote of Thanks 5:50 PM - 6:00PM\n\nBldg: ECE Building\, ECE
  Golden Jubilee Seminar Hall\, IISc\, C. V. Raman Road\, Bangalore\, Karna
 taka\, India\, 560012
LOCATION:Bldg: ECE Building\, ECE Golden Jubilee Seminar Hall\, IISc\, C. V
 . Raman Road\, Bangalore\, Karnataka\, India\, 560012
ORGANIZER:gemsvi@gmail.com
SEQUENCE:1
SUMMARY:AESS BLR Chapter DL by Dr. Eli Brookner
URL;VALUE=URI:https://events.vtools.ieee.org/m/48705
X-ALT-DESC:Description: &lt;br /&gt;&lt;p&gt;Dr. Eli Brookner is delivering an AESS - D
 istinguished Lecture on &quot;Radar Phased Arrays\, Meta Metarials\, Anti-Steal
 th and MIMO - Advances and Breakthroughs&quot; at ECE Golden Jubilee Seminar Ha
 ll on 11th Dec 2017.&amp;nbsp\;&lt;/p&gt;&lt;br /&gt;&lt;br /&gt;Agenda: &lt;br /&gt;&lt;p&gt;1. High Tea an
 d Networking 3:30 PM - 4:00 PM&lt;/p&gt;\n&lt;p&gt;2. Welcome by Sri. G. Viswanathan\,
  Chairman\, IEEE AESS BLR Chapter 4:00PM - 4:10 PM&lt;/p&gt;\n&lt;p&gt;3. Introduction
  of the speaker 4:10PM - 4:25PM&lt;/p&gt;\n&lt;p&gt;4. Distinguished Lecture&amp;nbsp\; 4:
 25PM - 5:25PM&lt;/p&gt;\n&lt;p&gt;5. Q &amp;amp\; A 5:25 PM - 5:50PM&lt;/p&gt;\n&lt;p&gt;6. Vote of Th
 anks 5:50 PM - 6:00PM&lt;/p&gt;
END:VEVENT
END:VCALENDAR

