BEGIN:VCALENDAR
VERSION:2.0
PRODID:IEEE vTools.Events//EN
CALSCALE:GREGORIAN
BEGIN:VTIMEZONE
TZID:America/Halifax
BEGIN:DAYLIGHT
DTSTART:20250309T030000
TZOFFSETFROM:-0400
TZOFFSETTO:-0300
RRULE:FREQ=YEARLY;BYDAY=2SU;BYMONTH=3
TZNAME:ADT
END:DAYLIGHT
BEGIN:STANDARD
DTSTART:20251102T010000
TZOFFSETFROM:-0300
TZOFFSETTO:-0400
RRULE:FREQ=YEARLY;BYDAY=1SU;BYMONTH=11
TZNAME:AST
END:STANDARD
END:VTIMEZONE
BEGIN:VEVENT
DTSTAMP:20250609T134736Z
UID:FC0E6CE4-8E76-45A3-B245-E2D75D6A4EA5
DTSTART;TZID=America/Halifax:20250606T130000
DTEND;TZID=America/Halifax:20250606T133000
DESCRIPTION:IEEE WIE New Brunswick – 4th Executive Committee Meeting\n\nA
 genda: \n- Welcome and opening remarks\n- Review and approval of May meeti
 ng minutes\n- Financial update – special funding form status\n- Social m
 edia updates – Craft Night post and future plans.\n- WIE Day – promo m
 aterial status and event planning\n- WIE Website update\n- AOB\n- Next mee
 ting and adjournment\n\nVirtual: https://events.vtools.ieee.org/m/487082
LOCATION:Virtual: https://events.vtools.ieee.org/m/487082
ORGANIZER:deshanihettiarachchi@gmail.com
SEQUENCE:8
SUMMARY:IEEE WIE New Brunswick – 4th Executive Committee Meeting (June 20
 25)
URL;VALUE=URI:https://events.vtools.ieee.org/m/487082
X-ALT-DESC:Description: &lt;br /&gt;&lt;p&gt;IEEE WIE New Brunswick &amp;ndash\; 4th Execut
 ive Committee Meeting &amp;nbsp\;&amp;nbsp\;&lt;/p&gt;&lt;br /&gt;&lt;br /&gt;Agenda: &lt;br /&gt;&lt;div cla
 ss=&quot;OutlineElement Ltr SCXW37640 BCX0&quot;&gt;&amp;nbsp\;&lt;/div&gt;\n&lt;div class=&quot;ListCont
 ainerWrapper SCXW37640 BCX0&quot;&gt;\n&lt;ol&gt;\n&lt;li&gt;&lt;span class=&quot;TextRun SCXW37640 BC
 X0&quot; lang=&quot;EN-US&quot; xml:lang=&quot;EN-US&quot; data-contrast=&quot;auto&quot;&gt;&lt;span class=&quot;Normal
 TextRun SCXW37640 BCX0&quot;&gt;Welcome and opening remarks&lt;/span&gt;&lt;/span&gt;&lt;/li&gt;\n&lt;l
 i&gt;&lt;span class=&quot;TextRun SCXW37640 BCX0&quot; lang=&quot;EN-US&quot; xml:lang=&quot;EN-US&quot; data-
 contrast=&quot;auto&quot;&gt;&lt;span class=&quot;NormalTextRun SCXW37640 BCX0&quot;&gt;Review and appr
 oval of May meeting minutes&lt;/span&gt;&lt;/span&gt;&lt;/li&gt;\n&lt;li&gt;&lt;span class=&quot;TextRun S
 CXW37640 BCX0&quot; lang=&quot;EN-US&quot; xml:lang=&quot;EN-US&quot; data-contrast=&quot;auto&quot;&gt;&lt;span cl
 ass=&quot;NormalTextRun SCXW37640 BCX0&quot;&gt;Financial update &amp;ndash\; special fundi
 ng form status&lt;/span&gt;&lt;/span&gt;&lt;/li&gt;\n&lt;li&gt;&lt;span class=&quot;TextRun SCXW37640 BCX0
 &quot; lang=&quot;EN-US&quot; xml:lang=&quot;EN-US&quot; data-contrast=&quot;auto&quot;&gt;&lt;span class=&quot;NormalTe
 xtRun SCXW37640 BCX0&quot;&gt;Social media updates &amp;ndash\; Craft Night&amp;nbsp\;&lt;/sp
 an&gt;&lt;span class=&quot;NormalTextRun SCXW37640 BCX0&quot;&gt;post&lt;/span&gt;&lt;span class=&quot;Norm
 alTextRun SCXW37640 BCX0&quot;&gt; and&lt;/span&gt; &lt;span class=&quot;NormalTextRun AdvancedP
 roofingIssueV2Themed SCXW37640 BCX0&quot;&gt;future plans&lt;/span&gt;&lt;span class=&quot;Norma
 lTextRun SCXW37640 BCX0&quot;&gt;.&lt;/span&gt;&lt;/span&gt;&lt;/li&gt;\n&lt;li&gt;&lt;span class=&quot;TextRun SC
 XW37640 BCX0&quot; lang=&quot;EN-US&quot; xml:lang=&quot;EN-US&quot; data-contrast=&quot;auto&quot;&gt;&lt;span cla
 ss=&quot;NormalTextRun SCXW37640 BCX0&quot;&gt;WIE Day &amp;ndash\; promo material status a
 nd event planning&lt;/span&gt;&lt;/span&gt;&lt;/li&gt;\n&lt;li&gt;&lt;span class=&quot;TextRun SCXW37640 B
 CX0&quot; lang=&quot;EN-US&quot; xml:lang=&quot;EN-US&quot; data-contrast=&quot;auto&quot;&gt;&lt;span class=&quot;Norma
 lTextRun SCXW37640 BCX0&quot;&gt;WIE&amp;nbsp\;&lt;/span&gt;&lt;span class=&quot;NormalTextRun SCXW3
 7640 BCX0&quot;&gt;Website update &lt;/span&gt;&lt;/span&gt;&lt;span class=&quot;EOP SCXW37640 BCX0&quot; d
 ata-ccp-props=&quot;{&amp;quot\;134233117&amp;quot\;:false\,&amp;quot\;134233118&amp;quot\;:fal
 se\,&amp;quot\;335559738&amp;quot\;:240\,&amp;quot\;335559739&amp;quot\;:240}&quot;&gt;&amp;nbsp\;&lt;/sp
 an&gt;&lt;/li&gt;\n&lt;li&gt;&lt;span class=&quot;TextRun SCXW37640 BCX0&quot; lang=&quot;EN-US&quot; xml:lang=&quot;
 EN-US&quot; data-contrast=&quot;auto&quot;&gt;&lt;span class=&quot;NormalTextRun SCXW37640 BCX0&quot;&gt;AOB
 &amp;nbsp\;&lt;/span&gt;&lt;/span&gt;&lt;/li&gt;\n&lt;li&gt;&lt;span class=&quot;TextRun SCXW37640 BCX0&quot; lang=
 &quot;EN-US&quot; xml:lang=&quot;EN-US&quot; data-contrast=&quot;auto&quot;&gt;&lt;span class=&quot;NormalTextRun S
 CXW37640 BCX0&quot;&gt;Next meeting and adjournment&lt;/span&gt;&lt;/span&gt;&lt;span class=&quot;EOP 
 SCXW37640 BCX0&quot; data-ccp-props=&quot;{&amp;quot\;134233117&amp;quot\;:false\,&amp;quot\;134
 233118&amp;quot\;:false\,&amp;quot\;335559738&amp;quot\;:240\,&amp;quot\;335559739&amp;quot\;:
 240}&quot;&gt;&amp;nbsp\;&lt;/span&gt;&lt;/li&gt;\n&lt;/ol&gt;\n&lt;/div&gt;
END:VEVENT
END:VCALENDAR

