BEGIN:VCALENDAR
VERSION:2.0
PRODID:IEEE vTools.Events//EN
CALSCALE:GREGORIAN
BEGIN:VTIMEZONE
TZID:US/Eastern
BEGIN:DAYLIGHT
DTSTART:20250309T030000
TZOFFSETFROM:-0500
TZOFFSETTO:-0400
RRULE:FREQ=YEARLY;BYDAY=2SU;BYMONTH=3
TZNAME:EDT
END:DAYLIGHT
BEGIN:STANDARD
DTSTART:20251102T010000
TZOFFSETFROM:-0400
TZOFFSETTO:-0500
RRULE:FREQ=YEARLY;BYDAY=1SU;BYMONTH=11
TZNAME:EST
END:STANDARD
END:VTIMEZONE
BEGIN:VEVENT
DTSTAMP:20250627T131343Z
UID:965710C9-4AA0-456A-B0E5-335640551891
DTSTART;TZID=US/Eastern:20250626T190000
DTEND;TZID=US/Eastern:20250626T200000
DESCRIPTION:Professional Communications Society\n\nEveryone is welcome to a
 ttend.\n\nEffective oral communication is a cornerstone of success in engi
 neering and technical fields\, whether delivering an academic conference t
 alk\, leading an industry team meeting\, or pitching ideas to clients. Thi
 s talk will focus on some basic tools needed to deliver impactful technica
 l presentations tailored to diverse audiences and contexts. Participants w
 ill leave with practical strategies for creating and delivering high-quali
 ty presentations.\n\nCo-sponsored by: Peter Silverberg\n\nSpeaker(s): Alan
  Chong\n\nAgenda: \n7 pm presentation\n\nVirtual: https://events.vtools.ie
 ee.org/m/487163
LOCATION:Virtual: https://events.vtools.ieee.org/m/487163
ORGANIZER:psilverberg3@comcast.net
SEQUENCE:21
SUMMARY:Some Secrets of Effective Oral Communication
URL;VALUE=URI:https://events.vtools.ieee.org/m/487163
X-ALT-DESC:Description: &lt;br /&gt;&lt;p&gt;&lt;strong&gt;Professional Communications&lt;/stron
 g&gt; &lt;strong&gt;Society&amp;nbsp\;&lt;/strong&gt;&lt;/p&gt;\n&lt;p&gt;&lt;span style=&quot;background-color: 
 rgb(245\, 222\, 68)\;&quot;&gt;&lt;strong&gt;Everyone is welcome to attend.&lt;/strong&gt;&lt;/sp
 an&gt;&lt;/p&gt;\n&lt;p class=&quot;MsoNormal&quot;&gt;Effective oral communication is a cornerston
 e of success in engineering and technical fields\, whether delivering an a
 cademic conference talk\, leading an industry team meeting\, or pitching i
 deas to clients. This talk will focus on some basic tools needed to delive
 r impactful technical presentations tailored to diverse audiences and cont
 exts. Participants will leave with practical strategies for creating and d
 elivering high-quality presentations.&lt;/p&gt;&lt;br /&gt;&lt;br /&gt;Agenda: &lt;br /&gt;&lt;p&gt;7 pm
  presentation&lt;/p&gt;
END:VEVENT
END:VCALENDAR

