BEGIN:VCALENDAR
VERSION:2.0
PRODID:IEEE vTools.Events//EN
CALSCALE:GREGORIAN
BEGIN:VTIMEZONE
TZID:America/New_York
BEGIN:DAYLIGHT
DTSTART:20250309T030000
TZOFFSETFROM:-0500
TZOFFSETTO:-0400
RRULE:FREQ=YEARLY;BYDAY=2SU;BYMONTH=3
TZNAME:EDT
END:DAYLIGHT
BEGIN:STANDARD
DTSTART:20251102T010000
TZOFFSETFROM:-0400
TZOFFSETTO:-0500
RRULE:FREQ=YEARLY;BYDAY=1SU;BYMONTH=11
TZNAME:EST
END:STANDARD
END:VTIMEZONE
BEGIN:VEVENT
DTSTAMP:20250607T180229Z
UID:BB11E8A6-978F-4C9D-ABB5-2DE1D8735D45
DTSTART;TZID=America/New_York:20250605T190000
DTEND;TZID=America/New_York:20250605T200000
DESCRIPTION:Chapter 3: Admin meeting\n\nNote: Meeting open to interested Ch
 apter 3 members:\n\n(Aerospace and Electronic Systems Society and Communic
 ations Society)\n\nPlease register!\n\n[Note: ZOOM Link will be sent to al
 l registered members before the meeting.](https://us06web.zoom.us/j/834359
 79233?pwd%3DDvGeIQqcjXucJkiUAc8biQzR7kA4y2.1)\n\nAgenda: \n19:00 Hrs Open 
 meeting (7PM for those who are 24 hour challenged.)\n\n- Discuss planning 
 for Chapter activities in 2025\n- Potential speaker for Face-to-Face meeti
 ngs\n- Potential speaker for Virtual (ZOOM) meetings\n- Possible Summer ac
 tivities (Join w/Section Picnic)\n- Links to other SEM Chapters with mutua
 l interests.\n- Walk-in topics.\n\n20:00 Adjourn.\n\nVirtual: https://even
 ts.vtools.ieee.org/m/487378
LOCATION:Virtual: https://events.vtools.ieee.org/m/487378
ORGANIZER:k.williams@ieee.org
SEQUENCE:62
SUMMARY:IEEE SEM Chapter 3 Officer ZOOM Meeting - Members invited. 
URL;VALUE=URI:https://events.vtools.ieee.org/m/487378
X-ALT-DESC:Description: &lt;br /&gt;&lt;p&gt;&lt;strong&gt;Chapter 3: Admin meeting&lt;/strong&gt;&lt;
 /p&gt;\n&lt;p&gt;&lt;strong&gt;Note: &lt;/strong&gt;Meeting open to interested Chapter 3 member
 s:&lt;/p&gt;\n&lt;p&gt;(Aerospace and Electronic Systems Society and Communications So
 ciety)&lt;/p&gt;\n&lt;p&gt;&lt;span style=&quot;text-decoration: underline\;&quot;&gt;&lt;strong&gt;Please r
 egister!&amp;nbsp\;&amp;nbsp\;&lt;/strong&gt;&lt;/span&gt;&lt;/p&gt;\n&lt;p&gt;&lt;span style=&quot;color: rgb(53\
 , 152\, 219)\; background-color: rgb(255\, 255\, 255)\;&quot;&gt;&lt;strong&gt;&lt;a style=
 &quot;background-color: rgb(255\, 255\, 255)\;&quot; href=&quot;https://us06web.zoom.us/j
 /83435979233?pwd%3DDvGeIQqcjXucJkiUAc8biQzR7kA4y2.1&quot;&gt;Note: ZOOM Link will 
 be sent to all registered members before the meeting.&amp;nbsp\;&lt;/a&gt;&amp;nbsp\;&lt;/s
 trong&gt;&lt;/span&gt;&lt;/p&gt;&lt;br /&gt;&lt;br /&gt;Agenda: &lt;br /&gt;&lt;p&gt;19:00 Hrs Open meeting (7PM 
 for those who are 24 hour challenged.)&amp;nbsp\;&amp;nbsp\;&lt;/p&gt;\n&lt;ul&gt;\n&lt;li&gt;Discus
 s planning for Chapter activities in 2025&lt;/li&gt;\n&lt;li&gt;Potential speaker for 
 Face-to-Face meetings&lt;/li&gt;\n&lt;li&gt;Potential speaker for Virtual (ZOOM) meeti
 ngs&lt;/li&gt;\n&lt;li&gt;Possible Summer activities (Join w/Section Picnic)&lt;/li&gt;\n&lt;li
 &gt;Links to other SEM Chapters with mutual interests.&amp;nbsp\;&amp;nbsp\;&lt;/li&gt;\n&lt;l
 i&gt;Walk-in topics.&amp;nbsp\;&amp;nbsp\;&lt;/li&gt;\n&lt;/ul&gt;\n&lt;p&gt;20:00 Adjourn.&lt;/p&gt;\n&lt;p&gt;&amp;nb
 sp\;&lt;/p&gt;
END:VEVENT
END:VCALENDAR

