BEGIN:VCALENDAR
VERSION:2.0
PRODID:IEEE vTools.Events//EN
CALSCALE:GREGORIAN
BEGIN:VTIMEZONE
TZID:America/New_York
BEGIN:DAYLIGHT
DTSTART:20250309T030000
TZOFFSETFROM:-0500
TZOFFSETTO:-0400
RRULE:FREQ=YEARLY;BYDAY=2SU;BYMONTH=3
TZNAME:EDT
END:DAYLIGHT
BEGIN:STANDARD
DTSTART:20251102T010000
TZOFFSETFROM:-0400
TZOFFSETTO:-0500
RRULE:FREQ=YEARLY;BYDAY=1SU;BYMONTH=11
TZNAME:EST
END:STANDARD
END:VTIMEZONE
BEGIN:VEVENT
DTSTAMP:20250702T160104Z
UID:9D167DD9-4250-4AA1-A984-AD259A8741FC
DTSTART;TZID=America/New_York:20250610T200000
DTEND;TZID=America/New_York:20250610T220000
DESCRIPTION:Careers in Technology: Resume Writing Workshop with Professor D
 r Dov Kruger\, Rutgers University\n\n[]\n\nLearn more about the critical s
 uccess factors of a Resume in today&#39;s world. Resumes are important for con
 tinuing education\, careers\, volunteer opportunities\, applying for fundi
 ng\, nominations for awards\, and planning. Resume success evidence and tr
 ack records will be available. Join the wider discussion.\n\nIf you are pr
 eparing a Resume\, if you are hiring\, if you are looking for volunteers\,
  if you are part of the community\, or if you are advising others\, this e
 vent is for you. Bring your ideas and questions. Join the discussion.\n\nI
 f you are hiring\, or if you are having trouble finding people\, bring you
 r ideas to the room.\n\n[]\n\nProfile\n\nDov Kruger got his BE in Electric
 al Engineering\, an MS in computer science and a PhD in Ocean Engineering\
 , all from Stevens Institute of Technology\, not continuously. He returned
  to become a professor in the ECE department at Stevens for 10 years befor
 e coming to Rutgers as a teaching associate professor.\n\nDov is intereste
 d in high performance computing\, re-engineering software to increase perf
 ormance\, and is working on a more efficient programming model for distrib
 uted and web programming\, computer architecture features to enable more e
 fficient programming\, algorithms\, 3d printing and computing education.\n
 \nDov Kruger&#39;s research interests focus on high performance\, high-securit
 y networking\, re-engineering the web to be much faster by transmitting da
 ta in binary\, explicit control of local data storage\, and innovative dat
 a compression.\n\nVirtual: https://events.vtools.ieee.org/m/487419
LOCATION:Virtual: https://events.vtools.ieee.org/m/487419
ORGANIZER:kit@ieee.org
SEQUENCE:18
SUMMARY:Resume Writing Workshop w Dr Dov Kruger: Careers in Technology
URL;VALUE=URI:https://events.vtools.ieee.org/m/487419
X-ALT-DESC:Description: &lt;br /&gt;&lt;p&gt;Careers in Technology: Resume Writing Work
 shop with Professor Dr Dov Kruger\, Rutgers University&lt;/p&gt;\n&lt;p&gt;&lt;img src=&quot;h
 ttps://events.vtools.ieee.org/vtools_ui/media/display/1e02456d-8390-4496-b
 242-c49d0cb8ebd0&quot; alt=&quot;&quot; width=&quot;1044&quot; height=&quot;236&quot;&gt;&lt;/p&gt;\n&lt;p&gt;Learn more abo
 ut the critical success factors of a Resume in today&#39;s world. Resumes are 
 important for continuing education\, careers\, volunteer opportunities\, a
 pplying for funding\, nominations for awards\, and planning. Resume succes
 s evidence and track records will be available. Join the wider discussion.
 &lt;/p&gt;\n&lt;p&gt;If you are preparing a Resume\, if you are hiring\, if you are lo
 oking for volunteers\, if you are part of the community\, or if you are ad
 vising others\, this event is for you. Bring your ideas and questions. Joi
 n the discussion.&amp;nbsp\;&amp;nbsp\;&lt;/p&gt;\n&lt;p&gt;If you are hiring\, or if you are 
 having trouble finding people\, bring your ideas to the room.&lt;/p&gt;\n&lt;p&gt;&lt;img
  src=&quot;https://events.vtools.ieee.org/vtools_ui/media/display/24d234b0-8825
 -4426-972a-d529196ca3c7&quot; alt=&quot;&quot; width=&quot;238&quot; height=&quot;318&quot;&gt;&lt;/p&gt;\n&lt;div class=
 &quot;f--field f--section-title&quot;&gt;\n&lt;h2&gt;Profile&lt;/h2&gt;\n&lt;/div&gt;\n&lt;div class=&quot;f--fie
 ld f--rich-text cropped&quot; style=&quot;height: 314px\;&quot;&gt;\n&lt;p&gt;Dov Kruger got his B
 E in Electrical Engineering\, an MS in computer science and a PhD in Ocean
  Engineering\, all from Stevens Institute of Technology\, not continuously
 .&amp;nbsp\; &amp;nbsp\;He returned to become a professor in the ECE department at
  Stevens for 10 years before coming to Rutgers as a teaching associate pro
 fessor.&lt;/p&gt;\n&lt;p&gt;Dov is interested in high performance computing\, re-engin
 eering software to increase performance\, and is working on a more efficie
 nt programming model for distributed and web programming\, computer archit
 ecture features to enable more efficient programming\, algorithms\, 3d pri
 nting and computing education.&lt;/p&gt;\n&lt;p&gt;Dov Kruger&#39;s research interests foc
 us on high performance\, high-security networking\, re-engineering the web
  to be much faster by transmitting data in binary\, explicit control of lo
 cal data storage\, and innovative data compression.&lt;/p&gt;\n&lt;/div&gt;
END:VEVENT
END:VCALENDAR

