BEGIN:VCALENDAR
VERSION:2.0
PRODID:IEEE vTools.Events//EN
CALSCALE:GREGORIAN
BEGIN:VTIMEZONE
TZID:America/New_York
BEGIN:DAYLIGHT
DTSTART:20250309T030000
TZOFFSETFROM:-0500
TZOFFSETTO:-0400
RRULE:FREQ=YEARLY;BYDAY=2SU;BYMONTH=3
TZNAME:EDT
END:DAYLIGHT
BEGIN:STANDARD
DTSTART:20251102T010000
TZOFFSETFROM:-0400
TZOFFSETTO:-0500
RRULE:FREQ=YEARLY;BYDAY=1SU;BYMONTH=11
TZNAME:EST
END:STANDARD
END:VTIMEZONE
BEGIN:VEVENT
DTSTAMP:20260124T051502Z
UID:45C5CCF6-2E61-43E5-AA8B-2B8D1955863C
DTSTART;TZID=America/New_York:20250624T160000
DTEND;TZID=America/New_York:20250624T183000
DESCRIPTION:IEEE Special Awards presentation - IEEE Young Engineering Award
 s 2025 - Tuesday 24 June 2025 at IEEE NJ HQ\n\nOn Sunday 23 March 2025\, I
 EEE evaluated projects at TNJSF and determined Special winners for the IEE
 E Young Engineering Awards 2025.\n\nWe&#39;d love for you to join us for the I
 EEE Young Engineer Award 2025 Presentation! This special event celebrates 
 the incredible achievements of our rising stars in engineering on Tuesday 
 June 24\, 2025.\n\nAt the presentation\, you&#39;ll have the opportunity to he
 ar directly from several of this year&#39;s deserving Young Engineer Award win
 ners as they share insights into their groundbreaking work.\n\nWe&#39;re also 
 thrilled to announce a special presentation from the IEEE History Center. 
 This promises to be a fascinating look into the rich legacy and impact of 
 IEEE.\n\nYour presence would mean a lot to us and the award recipients. It
 &#39;s a wonderful chance to celebrate excellence and connect with future lead
 ers in the STEM fields.\n\nDetails on TNJ Science Fair event: https://even
 ts.vtools.ieee.org/m/461348\n\nWhat is TNJSF?\n\nThe TNJSF (formerly the N
 JRSF) is a science fair competition for high school students (grades 9-12)
  for students in ten counties of northern New Jersey. The mission of the T
 NJSF is to support\, encourage\, and recognize student involvement in scie
 ntific research and engineering design. It is our belief that students can
  only truly appreciate the creative nature of the process if they have act
 ually experienced it themselves. In addition\, we endeavor to provide reso
 urces which further this overarching goal\, including giving students vari
 ous opportunities to interact with professional scientists and engineers. 
 The opportunity to partake of the TNJSF itself as well as other resources 
 we offer is intended to be open to all high school students in our norther
 n NJ region.\n\n*** Tuesday 24 June 2025 Schedule ***\n\nTuesday\, 24 June
  2025 - IEEE Young Engineer Award 2025 Presentation\nPlease arrive IEEE HQ
  lobby between 3:30-4pm\n3:30 - 4:00 p.m.	Award winner and guest arrival a
 nd sign-in\n4:00 - 4:15 p.m.	Welcome from IEEE\n4:15 - 4:45 p.m.	Special p
 resentation from IEEE History Center\n4:45 - 5:45 p.m.	Awardee presentatio
 ns\n5:45 - 6:00 p.m.	Closing statements\n6:00 - 6:30 p.m.	Networking\n\nAg
 enda: \n[]\n\n[]\n\nIEEE Operations Center\, 445 Hoes Lane\, Piscataway\, 
 New Jersey\, United States\, 08854\, Virtual: https://events.vtools.ieee.o
 rg/m/487622
LOCATION:IEEE Operations Center\, 445 Hoes Lane\, Piscataway\, New Jersey\,
  United States\, 08854\, Virtual: https://events.vtools.ieee.org/m/487622
ORGANIZER:chitra.venkatraman@ieee.org
SEQUENCE:47
SUMMARY:IEEE Young Engineer Award 2025 Presentation at IEEE NJ Headquarters
URL;VALUE=URI:https://events.vtools.ieee.org/m/487622
X-ALT-DESC:Description: &lt;br /&gt;&lt;div&gt;\n&lt;h4&gt;IEEE Special Awards presentation -
  IEEE Young Engineering Awards 2025 - Tuesday 24 June 2025 at IEEE NJ HQ&lt;/
 h4&gt;\n&lt;p&gt;On Sunday 23 March 2025\, IEEE evaluated projects at TNJSF and det
 ermined Special winners for the &lt;strong&gt;IEEE Young Engineering Awards 2025
 &lt;/strong&gt;.&lt;/p&gt;\n&lt;/div&gt;\n&lt;div&gt;We&#39;d love for you to join us for the &lt;strong&gt;
 IEEE Young Engineer Award 2025 Presentation&lt;/strong&gt;! This special event c
 elebrates the incredible achievements of our rising stars in engineering o
 n Tuesday June 24\, 2025.&lt;/div&gt;\n&lt;div&gt;\n&lt;p&gt;At the presentation\, you&#39;ll ha
 ve the opportunity to hear directly from several of this year&#39;s deserving 
 Young Engineer Award winners as they share insights into their groundbreak
 ing work.&lt;/p&gt;\n&lt;p&gt;We&#39;re also thrilled to announce a&amp;nbsp\;&lt;strong&gt;special 
 presentation from the IEEE History Center&lt;/strong&gt;. This promises to be a 
 fascinating look into the rich legacy and impact of IEEE.&lt;/p&gt;\n&lt;p&gt;Your pre
 sence would mean a lot to us and the award recipients. It&#39;s a wonderful ch
 ance to celebrate excellence and connect with future leaders in the STEM f
 ields.&lt;/p&gt;\n&lt;/div&gt;\n&lt;div&gt;Details on TNJ Science Fair event: &lt;a id=&quot;ow409&quot; 
 href=&quot;https://events.vtools.ieee.org/m/461348&quot;&gt;https://events.vtools.ieee.
 org/m/461348&lt;/a&gt;&lt;/div&gt;\n&lt;p&gt;&lt;strong&gt;What is TNJSF?&lt;/strong&gt;&lt;/p&gt;\n&lt;p&gt;The TNJ
 SF (formerly the NJRSF) is a science fair competition for high school stud
 ents (grades 9-12) for students in ten counties of northern New Jersey. Th
 e mission of the TNJSF is to support\, encourage\, and recognize student i
 nvolvement in scientific research and engineering design. It is our belief
  that students can only truly appreciate the creative nature of the proces
 s if they have actually experienced it themselves. In addition\, we endeav
 or to provide resources which further this overarching goal\, including gi
 ving students various opportunities to interact with professional scientis
 ts and engineers. The opportunity to partake of the TNJSF itself as well a
 s other resources we offer is intended to be open to all high school stude
 nts in our northern NJ region.&lt;/p&gt;\n&lt;div&gt;\n&lt;p&gt;*** Tuesday 24 June 2025 Sch
 edule ***&lt;/p&gt;\n&lt;table style=&quot;font-size: 1.05rem\; margin-left: auto\; marg
 in-right: auto\; margin-top: 1.5em\; border-collapse: collapse\; font-fami
 ly: &#39;Times New Roman&#39;\; letter-spacing: normal\; orphans: 2\; text-transfo
 rm: none\; widows: 2\; word-spacing: 0px\; -webkit-text-stroke-width: 0px\
 ; text-decoration-thickness: initial\; text-decoration-style: initial\; te
 xt-decoration-color: initial\; width: 63.4653%\; height: 217.25px\;&quot;&gt;\n&lt;tb
 ody&gt;\n&lt;tr id=&quot;r01&quot; style=&quot;text-align: center\; font-size: 1.25rem\; font-w
 eight: bold\; border: thin solid\; height: 56px\;&quot;&gt;\n&lt;td style=&quot;padding: 0
 .3em\; line-height: 1.4\; width: 99.9504%\; height: 56px\;&quot; colspan=&quot;2&quot;&gt;&lt;u
 &gt;Tuesday\, 24 June 2025&amp;nbsp\;- &lt;strong&gt;IEEE Young Engineer Award 2025 Pre
 sentation&lt;/strong&gt;&lt;/u&gt;&lt;br&gt;Please arrive IEEE HQ lobby between 3:30-4pm&lt;/td
 &gt;\n&lt;/tr&gt;\n&lt;tr style=&quot;height: 23.5208px\;&quot;&gt;\n&lt;td id=&quot;d01&quot; style=&quot;padding: 0
 .4em\; line-height: 1.4\; vertical-align: top\; width: 25.3331%\; height: 
 23.5208px\;&quot;&gt;3:30 - 4:00 p.m.&lt;/td&gt;\n&lt;td style=&quot;padding: 0.4em\; line-heigh
 t: 1.4\; width: 74.6174%\; height: 23.5208px\;&quot;&gt;Award winner and guest arr
 ival and sign-in&lt;/td&gt;\n&lt;/tr&gt;\n&lt;tr style=&quot;height: 23.5208px\;&quot;&gt;\n&lt;td id=&quot;d0
 1&quot; style=&quot;padding: 0.4em\; line-height: 1.4\; vertical-align: top\; width:
  25.3331%\; height: 23.5208px\;&quot;&gt;4:00 - 4:15 p.m.&lt;/td&gt;\n&lt;td style=&quot;padding
 : 0.4em\; line-height: 1.4\; width: 74.6174%\; height: 23.5208px\;&quot;&gt;Welcom
 e from IEEE&lt;/td&gt;\n&lt;/tr&gt;\n&lt;tr&gt;\n&lt;td style=&quot;padding: 0.4em\; line-height: 1.
 4\; vertical-align: top\; width: 25.3331%\;&quot;&gt;4:15 - 4:45 p.m.&lt;/td&gt;\n&lt;td st
 yle=&quot;padding: 0.4em\; line-height: 1.4\; width: 74.6174%\;&quot;&gt;Special presen
 tation from IEEE History Center&lt;/td&gt;\n&lt;/tr&gt;\n&lt;tr&gt;\n&lt;td style=&quot;padding: 0.4
 em\; line-height: 1.4\; vertical-align: top\; width: 25.3331%\;&quot;&gt;4:45 - 5:
 45 p.m.&lt;/td&gt;\n&lt;td style=&quot;padding: 0.4em\; line-height: 1.4\; width: 74.617
 4%\;&quot;&gt;Awardee presentations&lt;/td&gt;\n&lt;/tr&gt;\n&lt;tr&gt;\n&lt;td style=&quot;padding: 0.4em\;
  line-height: 1.4\; vertical-align: top\; width: 25.3331%\;&quot;&gt;5:45 - 6:00 p
 .m.&lt;/td&gt;\n&lt;td style=&quot;padding: 0.4em\; line-height: 1.4\; width: 74.6174%\;
 &quot;&gt;Closing statements&lt;/td&gt;\n&lt;/tr&gt;\n&lt;tr&gt;\n&lt;td style=&quot;padding: 0.4em\; line-h
 eight: 1.4\; vertical-align: top\; width: 25.3331%\;&quot;&gt;6:00 - 6:30 p.m.&lt;/td
 &gt;\n&lt;td style=&quot;padding: 0.4em\; line-height: 1.4\; width: 74.6174%\;&quot;&gt;Netwo
 rking&lt;/td&gt;\n&lt;/tr&gt;\n&lt;/tbody&gt;\n&lt;/table&gt;\n&lt;/div&gt;&lt;br /&gt;&lt;br /&gt;Agenda: &lt;br /&gt;&lt;p&gt;
 &lt;img src=&quot;https://events.vtools.ieee.org/vtools_ui/media/display/ccd25b19-
 7b93-4382-9b91-8652ccbc7c77&quot; alt=&quot;&quot; width=&quot;1037&quot; height=&quot;609&quot;&gt;&lt;/p&gt;\n&lt;p&gt;&lt;im
 g src=&quot;https://events.vtools.ieee.org/vtools_ui/media/display/b7f20b64-931
 c-4d06-8b1b-dabb7141f59d&quot; alt=&quot;&quot; width=&quot;1033&quot; height=&quot;553&quot;&gt;&lt;/p&gt;
END:VEVENT
END:VCALENDAR

