BEGIN:VCALENDAR
VERSION:2.0
PRODID:IEEE vTools.Events//EN
CALSCALE:GREGORIAN
BEGIN:VTIMEZONE
TZID:America/New_York
BEGIN:DAYLIGHT
DTSTART:20250309T030000
TZOFFSETFROM:-0500
TZOFFSETTO:-0400
RRULE:FREQ=YEARLY;BYDAY=2SU;BYMONTH=3
TZNAME:EDT
END:DAYLIGHT
BEGIN:STANDARD
DTSTART:20251102T010000
TZOFFSETFROM:-0400
TZOFFSETTO:-0500
RRULE:FREQ=YEARLY;BYDAY=1SU;BYMONTH=11
TZNAME:EST
END:STANDARD
END:VTIMEZONE
BEGIN:VEVENT
DTSTAMP:20250609T175728Z
UID:07FFD9D1-08E6-46F5-9239-22DA82F0B458
DTSTART;TZID=America/New_York:20250607T111100
DTEND;TZID=America/New_York:20250607T131300
DESCRIPTION:Happy Birthday IEEE Signal Processing Society! [🎉]\n\nWe wan
 t to wish you a Happy SPS Day! Established on this day back in 1948\, the 
 IEEE Signal Processing Society (SPS) remains a vibrant community because o
 f our members. Thank you for making SPS such a dynamic Society.\n\nTo mark
  this special occasion\, take a moment to hear a message from SPS Presiden
 t Konstantinos Plataniotis\, recognizing the members that make SPS truly e
 xceptional. Visit our [SPS Day website](https://czqvl04.na1.hubspotlinks.c
 om/Ctc/T8+113/czqvL04/VW4YBt5w8jNtW6-99qJ3X29XXW6J3_6X5xjVgbN1vWRsz3qn9gW7
 Y8-PT6lZ3nPW99-jq95lcb4cN4W7Cj7tbQVkW5xd2Cg5ZBYSGW438kBV9ccyfpVKYgBl4Pz99f
 VLXRCW1MJR1PW4Z7Bd38CHwxNW7v_vpL3mN0KpW5hqZXZ2LspLqW1jrlXQ17GgbFVdPfCC3dTr
 SYW7LCFDj8TF42jW1PWTdQ3dPcWSW4xd1283KLXGWW7gCkGF8kg2v8W47kKSV4W24RbW4Dm8_2
 66w317W9l1qqr8jlBqRW1Hg_8w6_yMRJW6tG5Cc1TzzX9W8MlPlg4TPM0tW6C3h_W92Mj_lW13
 lhK-6LF5l3W2wlTrb37GRxQW6RkH9B8N_pwyW28T4JS1-kpHBf2f596W04) to also view a
  message from SPS Vice President of Membership\, Kenneth Lam.\n\n[Copy of 
 FINAL! Kostas SPS Day Video](https://czqvl04.na1.hubspotlinks.com/Ctc/T8+1
 13/czqvL04/VW4YBt5w8jNtW6-99qJ3X29XXW6J3_6X5xjVgbN1vWRsg3qn9gW7lCdLW6lZ3m-
 W1BzVVy56N8lLVb0BxW3dyw2HW6jgKMK5WphjsW8Zq3tW8PlxYdW1YnllC9cGr91N1yl-1XjC0
 wJW4jH6JX67CZZkW2gPKgB6Yn17DW7XkT4Q9bMwzQW7wfLHZ1qYH7kW2W8b538zqVjdW95PBFp
 2MrTGgW6rCPYv3qHVWcW59Qr1r5svTQSW2K1sH74vlzVFW9h0_kx2Tb6s2W9f1Qj44CkVRjW5H
 N2Yf8zGhbfN9lYV0K9cCTHW4KY7QQ43Ly83W21yXhQ8hmK_CW5gnsWk22bMZfW7Pr2Tc4tcS3z
 W2_79ZC3MSgB0f2jymKs04)\n\nThere is still time to plan an event and take p
 art in the SPS Day Photo Contest. Part of the SPS Day celebrations\, the S
 PS Day Photo contest is a fun way for Chapters to celebrate this historic 
 day and win $250 to use towards Chapter activities.\n\nYour event must be 
 held by 16 June to qualify as an SPS Day event. The photo submission deadl
 ine is 19 July.\n\nEach Chapter may submit up to three photos (not a colla
 ge) for consideration. If more than three photos are submitted\, only the 
 first three photos will be considered. [Photos can be submitted here](http
 s://czqvl04.na1.hubspotlinks.com/Ctc/T8+113/czqvL04/VW4YBt5w8jNtW6-99qJ3X2
 9XXW6J3_6X5xjVgbN1vWRt83qn9gW95jsWP6lZ3lFVbkbB152xcdpW6WyvVR7mWP-5V_b4QS94
 J4qVW7N9G7q8N7kgnW3tHHP42MLYXgVMG6C_2tCHs4V2lG_k5lkTLWW458BVR6m9BrjW2tDJ5B
 7H3KcdW20Dmn786fmzzW6gDb1p5lhKtPN6SFDdQF5_yFW5kPwZF3B6J7nW1L-whN4fG6jYW7hy
 YF_6-6ZhgW958h9H3N1bWdW5kgNxd88FlmdW8cr3Q15Vxyp4W8nwVJP5RnNnQW3LSQVL2yz4SC
 Vbtlz51Tw5WyW1rnm4N8FlRpkVyVf9V9l5FVSW6SsKBP767CCpW5mHzBz2gCPM7W4c5rb96xNh
 g6W6C8yWh2xc4NtW1N5DdY3LCDMmW39VLJ65Y-0SCW8vc_nN8PsbjJf3T7DM404).\n\nVisit
  the[SPS Day website](https://czqvl04.na1.hubspotlinks.com/Ctc/T8+113/czqv
 L04/VW4YBt5w8jNtW6-99qJ3X29XXW6J3_6X5xjVgbN1vWRsz3qn9gW7Y8-PT6lZ3nfW93-NSP
 5pYlcPW3Yjsxc8WWQ9lW4WhmDG8HK1twN6B1HgbWB4XGW1v8B6_2vHy7ZN3f3MWt7hr8rN24HV
 6Z1WgPGW9lV4fy2xK1D-W3190d86gyjztW9gq43-4zTptYN1TL8FT6Z6QfVMPR9c1CrvMTN3X9
 ZjvDHzzcW8fKz-1193hMXW2VPtG26MsTKhW2PSQyc2n8nmJV9l7Tj62C9RPVBXQqv3YZnjYW1h
 Kxwh9gYSX7VqlYNB1svBRrW1C66Qs7v3SR8VW6N947hbsVvW1-_8mT8_7Gl2N2bZzc31WBRZW6
 TwGn95ymfvHN7ZGc4hkzhyTf4S9M5P04) to learn about contest rules and eligibi
 lity.\n\nAgenda: \nSocial event\n\nBldg: DUNKIN DONUTS\, 239 Main Dunstabl
 e Rd.\, NASHUA\, New Hampshire\, United States\, 03062
LOCATION:Bldg: DUNKIN DONUTS\, 239 Main Dunstable Rd.\, NASHUA\, New Hampsh
 ire\, United States\, 03062
ORGANIZER:baris.kazar@oracle.com
SEQUENCE:6
SUMMARY:Happy Birthday IEEE Signal Processing Society (Photo Contest)
URL;VALUE=URI:https://events.vtools.ieee.org/m/487710
X-ALT-DESC:Description: &lt;br /&gt;&lt;table role=&quot;presentation&quot; width=&quot;100%&quot; cells
 pacing=&quot;0&quot; cellpadding=&quot;0&quot;&gt;\n&lt;tbody&gt;\n&lt;tr&gt;\n&lt;td class=&quot;m_-3754131410397224
 902hs_padded&quot;&gt;\n&lt;div id=&quot;m_-3754131410397224902hs_cos_wrapper_module-1-0-0
 &quot;&gt;\n&lt;div id=&quot;m_-3754131410397224902hs_cos_wrapper_module-1-0-0_&quot;&gt;\n&lt;h3 ali
 gn=&quot;center&quot;&gt;&amp;nbsp\;Happy Birthday IEEE Signal Processing Society!&amp;nbsp\;&lt;i
 mg class=&quot;an1 CToWUd&quot; draggable=&quot;false&quot; src=&quot;https://fonts.gstatic.com/s/e
 /notoemoji/16.0/1f389/72.png&quot; alt=&quot;🎉&quot; loading=&quot;lazy&quot; data-emoji=&quot;🎉&quot; 
 aria-label=&quot;🎉&quot; data-bit=&quot;iit&quot;&gt;&lt;/h3&gt;\n&lt;p align=&quot;justify&quot;&gt;&amp;nbsp\;&lt;/p&gt;\n&lt;p
  align=&quot;justify&quot;&gt;We want to wish you a Happy SPS Day! Established on this 
 day back in 1948\, the&amp;nbsp\;IEEE Signal Processing Society (SPS)&amp;nbsp\;re
 mains a vibrant community because of our members. Thank you for making SPS
  such a dynamic Society.&lt;/p&gt;\n&lt;p align=&quot;justify&quot;&gt;&amp;nbsp\;&lt;/p&gt;\n&lt;p align=&quot;ju
 stify&quot;&gt;To mark this special occasion\, take a moment to hear a message fro
 m&amp;nbsp\;&lt;strong&gt;SPS President Konstantinos Plataniotis&lt;/strong&gt;\, recogniz
 ing the members that make SPS truly exceptional. Visit our&amp;nbsp\;&lt;a href=&quot;
 https://czqvl04.na1.hubspotlinks.com/Ctc/T8+113/czqvL04/VW4YBt5w8jNtW6-99q
 J3X29XXW6J3_6X5xjVgbN1vWRsz3qn9gW7Y8-PT6lZ3nPW99-jq95lcb4cN4W7Cj7tbQVkW5xd
 2Cg5ZBYSGW438kBV9ccyfpVKYgBl4Pz99fVLXRCW1MJR1PW4Z7Bd38CHwxNW7v_vpL3mN0KpW5
 hqZXZ2LspLqW1jrlXQ17GgbFVdPfCC3dTrSYW7LCFDj8TF42jW1PWTdQ3dPcWSW4xd1283KLXG
 WW7gCkGF8kg2v8W47kKSV4W24RbW4Dm8_266w317W9l1qqr8jlBqRW1Hg_8w6_yMRJW6tG5Cc1
 TzzX9W8MlPlg4TPM0tW6C3h_W92Mj_lW13lhK-6LF5l3W2wlTrb37GRxQW6RkH9B8N_pwyW28T
 4JS1-kpHBf2f596W04&quot; target=&quot;_blank&quot; rel=&quot;noopener&quot; data-saferedirecturl=&quot;h
 ttps://www.google.com/url?q=https://czqvL04.na1.hubspotlinks.com/Ctc/T8%2B
 113/czqvL04/VW4YBt5w8jNtW6-99qJ3X29XXW6J3_6X5xjVgbN1vWRsz3qn9gW7Y8-PT6lZ3n
 PW99-jq95lcb4cN4W7Cj7tbQVkW5xd2Cg5ZBYSGW438kBV9ccyfpVKYgBl4Pz99fVLXRCW1MJR
 1PW4Z7Bd38CHwxNW7v_vpL3mN0KpW5hqZXZ2LspLqW1jrlXQ17GgbFVdPfCC3dTrSYW7LCFDj8
 TF42jW1PWTdQ3dPcWSW4xd1283KLXGWW7gCkGF8kg2v8W47kKSV4W24RbW4Dm8_266w317W9l1
 qqr8jlBqRW1Hg_8w6_yMRJW6tG5Cc1TzzX9W8MlPlg4TPM0tW6C3h_W92Mj_lW13lhK-6LF5l3
 W2wlTrb37GRxQW6RkH9B8N_pwyW28T4JS1-kpHBf2f596W04&amp;amp\;source=gmail&amp;amp\;us
 t=1749049913062000&amp;amp\;usg=AOvVaw1TsVxdOiE94JmMOy_pw7L7&quot;&gt;SPS Day website&lt;
 /a&gt;&amp;nbsp\;to also view a message from&amp;nbsp\;SPS Vice President of Membersh
 ip\, Kenneth Lam.&lt;/p&gt;\n&lt;/div&gt;\n&lt;/div&gt;\n&lt;/td&gt;\n&lt;/tr&gt;\n&lt;/tbody&gt;\n&lt;/table&gt;\n&lt;
 div id=&quot;m_-3754131410397224902hs_cos_wrapper_module_17485361085751&quot;&gt;\n&lt;tab
 le role=&quot;presentation&quot; width=&quot;100%&quot; cellspacing=&quot;0&quot; cellpadding=&quot;0&quot;&gt;\n&lt;tbo
 dy&gt;\n&lt;tr&gt;\n&lt;td class=&quot;m_-3754131410397224902hs_padded&quot; align=&quot;center&quot; vali
 gn=&quot;top&quot;&gt;&lt;a href=&quot;https://czqvl04.na1.hubspotlinks.com/Ctc/T8+113/czqvL04/
 VW4YBt5w8jNtW6-99qJ3X29XXW6J3_6X5xjVgbN1vWRsg3qn9gW7lCdLW6lZ3m-W1BzVVy56N8
 lLVb0BxW3dyw2HW6jgKMK5WphjsW8Zq3tW8PlxYdW1YnllC9cGr91N1yl-1XjC0wJW4jH6JX67
 CZZkW2gPKgB6Yn17DW7XkT4Q9bMwzQW7wfLHZ1qYH7kW2W8b538zqVjdW95PBFp2MrTGgW6rCP
 Yv3qHVWcW59Qr1r5svTQSW2K1sH74vlzVFW9h0_kx2Tb6s2W9f1Qj44CkVRjW5HN2Yf8zGhbfN
 9lYV0K9cCTHW4KY7QQ43Ly83W21yXhQ8hmK_CW5gnsWk22bMZfW7Pr2Tc4tcS3zW2_79ZC3MSg
 B0f2jymKs04&quot; target=&quot;_blank&quot; rel=&quot;noopener&quot; data-saferedirecturl=&quot;https://
 www.google.com/url?q=https://czqvL04.na1.hubspotlinks.com/Ctc/T8%2B113/czq
 vL04/VW4YBt5w8jNtW6-99qJ3X29XXW6J3_6X5xjVgbN1vWRsg3qn9gW7lCdLW6lZ3m-W1BzVV
 y56N8lLVb0BxW3dyw2HW6jgKMK5WphjsW8Zq3tW8PlxYdW1YnllC9cGr91N1yl-1XjC0wJW4jH
 6JX67CZZkW2gPKgB6Yn17DW7XkT4Q9bMwzQW7wfLHZ1qYH7kW2W8b538zqVjdW95PBFp2MrTGg
 W6rCPYv3qHVWcW59Qr1r5svTQSW2K1sH74vlzVFW9h0_kx2Tb6s2W9f1Qj44CkVRjW5HN2Yf8z
 GhbfN9lYV0K9cCTHW4KY7QQ43Ly83W21yXhQ8hmK_CW5gnsWk22bMZfW7Pr2Tc4tcS3zW2_79Z
 C3MSgB0f2jymKs04&amp;amp\;source=gmail&amp;amp\;ust=1749049913062000&amp;amp\;usg=AOvV
 aw11dTWUpU-BZJeuzBRHVGQR&quot;&gt;&lt;img class=&quot;m_-3754131410397224902stretch-on-mob
 ile CToWUd&quot; src=&quot;https://ci3.googleusercontent.com/meips/ADKq_NY12ilq0F1WC
 aeseaZY1nosrLS7gXdHW9Cf2E1sBLk968FvdMfzCeowq-UaSbB2PtxRnTl0f-4ZZKTGukSBbI0
 3nCipKK-2Zev0Ouveba-7_6xhLILmm2lr_zHbRdhHbUgpecP2TAIi518y2wdX6RjHxgqSe1One
 K0El-U8LZP6ktyG1KWrsTtulcExSREWC39rGtRhIkqRUgmfVKMpeO2SJE_Jh7NcWK7GRxvf8ck
 xECBMV3IukptGBD05h__0gw43GwLmrPJy6b85VaczcecCERhByHjQT6XSGomduALr8j0FulaVy
 801DdNYO5cCCXua9ve0dg4E5crwVgynhMlGt8DimG03GabsJi_yssSLWZtGNqbX_YfcKlgOcqY
 xYEB9TKer94Jtjjs=s0-d-e1-ft#https://4789515.fs1.hubspotusercontent-na1.net
 /hub/4789515/hubfs/Copy%20of%20FINAL!%20Kostas%20SPS%20Day%20Video.png?ups
 ize=true&amp;amp\;t=1748613397357&amp;amp\;width=328&amp;amp\;composeType=play_button&amp;
 amp\;overlayColor=%232f4254&amp;amp\;overlayScale=0.3&amp;amp\;name=Copy%20of%20FI
 NAL!%20Kostas%20SPS%20Day%20Video.png&quot; alt=&quot;Copy of FINAL! Kostas SPS Day 
 Video&quot; width=&quot;328&quot; align=&quot;middle&quot; data-bit=&quot;iit&quot;&gt;&lt;/a&gt;&lt;/td&gt;\n&lt;/tr&gt;\n&lt;/tbody
 &gt;\n&lt;/table&gt;\n&lt;/div&gt;\n&lt;table role=&quot;presentation&quot; width=&quot;100%&quot; cellspacing=&quot;
 0&quot; cellpadding=&quot;0&quot;&gt;\n&lt;tbody&gt;\n&lt;tr&gt;\n&lt;td class=&quot;m_-3754131410397224902hs_pa
 dded&quot;&gt;\n&lt;div id=&quot;m_-3754131410397224902hs_cos_wrapper_module_1748525053989
 2&quot;&gt;\n&lt;div id=&quot;m_-3754131410397224902hs_cos_wrapper_module_17485250539892_&quot;
 &gt;\n&lt;p align=&quot;justify&quot;&gt;There is still time to plan an event and take part i
 n the&amp;nbsp\;SPS Day Photo Contest.&amp;nbsp\;Part of the SPS Day celebrations\
 , the SPS Day Photo contest is a fun way for Chapters to celebrate this hi
 storic day and win $250 to use towards Chapter activities.&lt;/p&gt;\n&lt;div&gt;\n&lt;di
 v&gt;\n&lt;div&gt;\n&lt;p&gt;&amp;nbsp\;&lt;/p&gt;\n&lt;p&gt;Your event must be held by&amp;nbsp\;&lt;strong&gt;16 
 June&lt;/strong&gt;&amp;nbsp\;to qualify as an SPS Day event. The photo submission d
 eadline is&amp;nbsp\;&lt;strong&gt;19 July&lt;/strong&gt;.&lt;/p&gt;\n&lt;h2&gt;&amp;nbsp\;&lt;/h2&gt;\n&lt;h2&gt;Each
  Chapter may submit up to three photos (not a collage) for consideration. 
 If more than three photos are submitted\, only the first three photos will
  be considered.&amp;nbsp\;&lt;a href=&quot;https://czqvl04.na1.hubspotlinks.com/Ctc/T8
 +113/czqvL04/VW4YBt5w8jNtW6-99qJ3X29XXW6J3_6X5xjVgbN1vWRt83qn9gW95jsWP6lZ3
 lFVbkbB152xcdpW6WyvVR7mWP-5V_b4QS94J4qVW7N9G7q8N7kgnW3tHHP42MLYXgVMG6C_2tC
 Hs4V2lG_k5lkTLWW458BVR6m9BrjW2tDJ5B7H3KcdW20Dmn786fmzzW6gDb1p5lhKtPN6SFDdQ
 F5_yFW5kPwZF3B6J7nW1L-whN4fG6jYW7hyYF_6-6ZhgW958h9H3N1bWdW5kgNxd88FlmdW8cr
 3Q15Vxyp4W8nwVJP5RnNnQW3LSQVL2yz4SCVbtlz51Tw5WyW1rnm4N8FlRpkVyVf9V9l5FVSW6
 SsKBP767CCpW5mHzBz2gCPM7W4c5rb96xNhg6W6C8yWh2xc4NtW1N5DdY3LCDMmW39VLJ65Y-0
 SCW8vc_nN8PsbjJf3T7DM404&quot; target=&quot;_blank&quot; rel=&quot;noopener&quot; data-saferedirect
 url=&quot;https://www.google.com/url?q=https://czqvL04.na1.hubspotlinks.com/Ctc
 /T8%2B113/czqvL04/VW4YBt5w8jNtW6-99qJ3X29XXW6J3_6X5xjVgbN1vWRt83qn9gW95jsW
 P6lZ3lFVbkbB152xcdpW6WyvVR7mWP-5V_b4QS94J4qVW7N9G7q8N7kgnW3tHHP42MLYXgVMG6
 C_2tCHs4V2lG_k5lkTLWW458BVR6m9BrjW2tDJ5B7H3KcdW20Dmn786fmzzW6gDb1p5lhKtPN6
 SFDdQF5_yFW5kPwZF3B6J7nW1L-whN4fG6jYW7hyYF_6-6ZhgW958h9H3N1bWdW5kgNxd88Flm
 dW8cr3Q15Vxyp4W8nwVJP5RnNnQW3LSQVL2yz4SCVbtlz51Tw5WyW1rnm4N8FlRpkVyVf9V9l5
 FVSW6SsKBP767CCpW5mHzBz2gCPM7W4c5rb96xNhg6W6C8yWh2xc4NtW1N5DdY3LCDMmW39VLJ
 65Y-0SCW8vc_nN8PsbjJf3T7DM404&amp;amp\;source=gmail&amp;amp\;ust=1749049913062000&amp;
 amp\;usg=AOvVaw3mCyK8lb1s35F60pbXU_7-&quot;&gt;Photos can be submitted here&lt;/a&gt;.&lt;/
 h2&gt;\n&lt;p&gt;&amp;nbsp\;&lt;/p&gt;\n&lt;p&gt;Visit the&lt;a href=&quot;https://czqvl04.na1.hubspotlinks
 .com/Ctc/T8+113/czqvL04/VW4YBt5w8jNtW6-99qJ3X29XXW6J3_6X5xjVgbN1vWRsz3qn9g
 W7Y8-PT6lZ3nfW93-NSP5pYlcPW3Yjsxc8WWQ9lW4WhmDG8HK1twN6B1HgbWB4XGW1v8B6_2vH
 y7ZN3f3MWt7hr8rN24HV6Z1WgPGW9lV4fy2xK1D-W3190d86gyjztW9gq43-4zTptYN1TL8FT6
 Z6QfVMPR9c1CrvMTN3X9ZjvDHzzcW8fKz-1193hMXW2VPtG26MsTKhW2PSQyc2n8nmJV9l7Tj6
 2C9RPVBXQqv3YZnjYW1hKxwh9gYSX7VqlYNB1svBRrW1C66Qs7v3SR8VW6N947hbsVvW1-_8mT
 8_7Gl2N2bZzc31WBRZW6TwGn95ymfvHN7ZGc4hkzhyTf4S9M5P04&quot; target=&quot;_blank&quot; rel=
 &quot;noopener&quot; data-saferedirecturl=&quot;https://www.google.com/url?q=https://czqv
 L04.na1.hubspotlinks.com/Ctc/T8%2B113/czqvL04/VW4YBt5w8jNtW6-99qJ3X29XXW6J
 3_6X5xjVgbN1vWRsz3qn9gW7Y8-PT6lZ3nfW93-NSP5pYlcPW3Yjsxc8WWQ9lW4WhmDG8HK1tw
 N6B1HgbWB4XGW1v8B6_2vHy7ZN3f3MWt7hr8rN24HV6Z1WgPGW9lV4fy2xK1D-W3190d86gyjz
 tW9gq43-4zTptYN1TL8FT6Z6QfVMPR9c1CrvMTN3X9ZjvDHzzcW8fKz-1193hMXW2VPtG26MsT
 KhW2PSQyc2n8nmJV9l7Tj62C9RPVBXQqv3YZnjYW1hKxwh9gYSX7VqlYNB1svBRrW1C66Qs7v3
 SR8VW6N947hbsVvW1-_8mT8_7Gl2N2bZzc31WBRZW6TwGn95ymfvHN7ZGc4hkzhyTf4S9M5P04
 &amp;amp\;source=gmail&amp;amp\;ust=1749049913062000&amp;amp\;usg=AOvVaw0jwVOhcO1uXFcN
 kPZ7p9G3&quot;&gt;&amp;nbsp\;SPS Day website&lt;/a&gt; to learn about contest rules and elig
 ibility.&amp;nbsp\;&lt;/p&gt;\n&lt;p&gt;&amp;nbsp\;&lt;/p&gt;\n&lt;p&gt;&amp;nbsp\;&lt;/p&gt;\n&lt;p&gt;&amp;nbsp\;&lt;/p&gt;\n&lt;/div
 &gt;\n&lt;/div&gt;\n&lt;/div&gt;\n&lt;/div&gt;\n&lt;/div&gt;\n&lt;/td&gt;\n&lt;/tr&gt;\n&lt;/tbody&gt;\n&lt;/table&gt;&lt;br /&gt;&lt;
 br /&gt;Agenda: &lt;br /&gt;&lt;p&gt;Social event&lt;/p&gt;
END:VEVENT
END:VCALENDAR

