BEGIN:VCALENDAR
VERSION:2.0
PRODID:IEEE vTools.Events//EN
CALSCALE:GREGORIAN
BEGIN:VTIMEZONE
TZID:America/New_York
BEGIN:DAYLIGHT
DTSTART:20250309T030000
TZOFFSETFROM:-0500
TZOFFSETTO:-0400
RRULE:FREQ=YEARLY;BYDAY=2SU;BYMONTH=3
TZNAME:EDT
END:DAYLIGHT
BEGIN:STANDARD
DTSTART:20251102T010000
TZOFFSETFROM:-0400
TZOFFSETTO:-0500
RRULE:FREQ=YEARLY;BYDAY=1SU;BYMONTH=11
TZNAME:EST
END:STANDARD
END:VTIMEZONE
BEGIN:VEVENT
DTSTAMP:20250614T170035Z
UID:11EFFC56-5574-49B1-A725-DC62E259A5AA
DTSTART;TZID=America/New_York:20250611T110000
DTEND;TZID=America/New_York:20250611T120000
DESCRIPTION:The Montreal Chapter of the IEEE Signal Processing Society\, in
  collaboration with STARaCom\, cordially invites you to attend the followi
 ng talk to be given (in presence) at McGill University by Prof. Steve Hran
 ilovic\, from the Department of Electrical and Computer Engineering at McM
 aster University (Hamilton\, Ont.).\n\nSpeaker(s): Prof. Steve Hranilovic\
 n\nRoom: 603\, Bldg: McConnell Engineering\, 3480 University\, Montreal\, 
 Quebec\, Canada\, H3A 0E9
LOCATION:Room: 603\, Bldg: McConnell Engineering\, 3480 University\, Montre
 al\, Quebec\, Canada\, H3A 0E9
ORGANIZER:benoit.champagne@mcgill.ca
SEQUENCE:43
SUMMARY:From Information Theory to Space Lasers! - The Necessity of a Multi
 -Disciplinary Approach to Optical Wireless
URL;VALUE=URI:https://events.vtools.ieee.org/m/487736
X-ALT-DESC:Description: &lt;br /&gt;&lt;p class=&quot;MsoNormal&quot; style=&quot;text-align: justi
 fy\; text-justify: inter-ideograph\; line-height: 13.0pt\; mso-line-height
 -rule: exactly\; background: white\; vertical-align: baseline\; margin: 9.
 0pt 0cm 0cm 0cm\;&quot;&gt;&lt;span lang=&quot;EN-US&quot; style=&quot;font-size: 12.0pt\; mso-bidi-
 font-family: Arial\; color: black\; mso-color-alt: windowtext\;&quot;&gt;The &lt;/spa
 n&gt;&lt;strong style=&quot;mso-bidi-font-weight: normal\;&quot;&gt;&lt;span lang=&quot;EN-US&quot; style=
 &quot;font-size: 12.0pt\; mso-bidi-font-family: Arial\; color: #1f497d\; mso-th
 emecolor: text2\;&quot;&gt;Montreal Chapter of the IEEE Signal Processing Society&lt;
 /span&gt;&lt;/strong&gt;&lt;span lang=&quot;EN-US&quot; style=&quot;font-size: 12.0pt\; mso-bidi-font
 -family: Arial\; color: black\; mso-color-alt: windowtext\;&quot;&gt;\, in collabo
 ration with STARaCom\, cordially invites you to attend the following talk 
 to be given (in presence) at McGill University by&lt;/span&gt;&lt;strong style=&quot;mso
 -bidi-font-weight: normal\;&quot;&gt;&lt;span lang=&quot;EN-US&quot; style=&quot;font-size: 12.0pt\;
  mso-bidi-font-family: Arial\; color: #1f497d\; mso-themecolor: text2\;&quot;&gt; 
 Prof. Steve Hranilovic&lt;/span&gt;&lt;/strong&gt;&lt;span lang=&quot;EN-US&quot; style=&quot;font-size:
  12.0pt\; mso-bidi-font-family: Arial\; color: black\; mso-color-alt: wind
 owtext\;&quot;&gt;\, from the Department of Electrical and Computer Engineering at
  McMaster University (Hamilton\, Ont.)&lt;/span&gt;&lt;span style=&quot;font-size: 12.0p
 t\; mso-bidi-font-family: Calibri\; mso-bidi-theme-font: minor-latin\; col
 or: black\; mso-color-alt: windowtext\; mso-ansi-language: EN-CA\;&quot;&gt;.&lt;/spa
 n&gt;&lt;/p&gt;
END:VEVENT
END:VCALENDAR

