BEGIN:VCALENDAR
VERSION:2.0
PRODID:IEEE vTools.Events//EN
CALSCALE:GREGORIAN
BEGIN:VTIMEZONE
TZID:America/Bogota
BEGIN:DAYLIGHT
DTSTART:20380118T221407
TZOFFSETFROM:-0500
TZOFFSETTO:-0500
RRULE:FREQ=YEARLY;BYDAY=3MO;BYMONTH=1
TZNAME:-05
END:DAYLIGHT
BEGIN:STANDARD
DTSTART:19930206T230000
TZOFFSETFROM:-0400
TZOFFSETTO:-0500
RRULE:FREQ=YEARLY;BYDAY=1SA;BYMONTH=2
TZNAME:-05
END:STANDARD
END:VTIMEZONE
BEGIN:VEVENT
DTSTAMP:20250611T192010Z
UID:61CC23EC-895D-429E-B0FC-6AB363492BFC
DTSTART;TZID=America/Bogota:20250604T120000
DTEND;TZID=America/Bogota:20250604T175800
DESCRIPTION:Introductory workshop on 3D printing so that IEEE members can l
 earn how to use the printers and do a digital manufacturing exercise.\n\nC
 ra. 11 #101-80\, bogota\, Cundinamarca\, Colombia
LOCATION:Cra. 11 #101-80\, bogota\, Cundinamarca\, Colombia
ORGANIZER:ieee.umng@unimilitar.edu.co
SEQUENCE:16
SUMMARY:INTRODUCTION TO 3D PRINTING AND DIGITAL MANUFACTURING 
URL;VALUE=URI:https://events.vtools.ieee.org/m/487737
X-ALT-DESC:Description: &lt;br /&gt;&lt;p&gt;Introductory workshop on 3D printing so th
 at IEEE members can learn how to use the printers and do a digital manufac
 turing exercise.&amp;nbsp\;&lt;/p&gt;
END:VEVENT
END:VCALENDAR

