BEGIN:VCALENDAR
VERSION:2.0
PRODID:IEEE vTools.Events//EN
CALSCALE:GREGORIAN
BEGIN:VTIMEZONE
TZID:America/Regina
BEGIN:STANDARD
DTSTART:19600424T030000
TZOFFSETFROM:-0700
TZOFFSETTO:-0600
TZNAME:CST
END:STANDARD
END:VTIMEZONE
BEGIN:VEVENT
DTSTAMP:20260101T231132Z
UID:BE359B2D-FB04-481A-ABA9-A572883E4008
DTSTART;TZID=America/Regina:20251118T170000
DTEND;TZID=America/Regina:20251118T180000
DESCRIPTION:IEEE IAS/PES Committee Meeting\n\nBldg: 140\, 1500 Quebec Ave\,
  Saskatoon\, Saskatchewan\, Canada\, S7K 1V7\, Virtual: https://events.vto
 ols.ieee.org/m/487746
LOCATION:Bldg: 140\, 1500 Quebec Ave\, Saskatoon\, Saskatchewan\, Canada\, 
 S7K 1V7\, Virtual: https://events.vtools.ieee.org/m/487746
ORGANIZER:tehreemhussain@ieee.org
SEQUENCE:5
SUMMARY:IEEE IAS/PES Committee Meeting
URL;VALUE=URI:https://events.vtools.ieee.org/m/487746
X-ALT-DESC:Description: &lt;br /&gt;&lt;p&gt;IEEE IAS/PES Committee Meeting&lt;br&gt;&lt;br&gt;&lt;/p&gt;
END:VEVENT
END:VCALENDAR

