BEGIN:VCALENDAR
VERSION:2.0
PRODID:IEEE vTools.Events//EN
CALSCALE:GREGORIAN
BEGIN:VTIMEZONE
TZID:America/Los_Angeles
BEGIN:DAYLIGHT
DTSTART:20250309T030000
TZOFFSETFROM:-0800
TZOFFSETTO:-0700
RRULE:FREQ=YEARLY;BYDAY=2SU;BYMONTH=3
TZNAME:PDT
END:DAYLIGHT
BEGIN:STANDARD
DTSTART:20251102T010000
TZOFFSETFROM:-0700
TZOFFSETTO:-0800
RRULE:FREQ=YEARLY;BYDAY=1SU;BYMONTH=11
TZNAME:PST
END:STANDARD
END:VTIMEZONE
BEGIN:VEVENT
DTSTAMP:20250610T002401Z
UID:AF7BF3D5-8877-4FBC-8228-7AC98A66F727
DTSTART;TZID=America/Los_Angeles:20250606T170000
DTEND;TZID=America/Los_Angeles:20250606T190000
DESCRIPTION:As part of our program efforts to provide more social opportuni
 ties for ALL EECE students to gather as a group\, we are happy to announce
  the 3rd Annual EECE Spring BBQ! This will be your chance to mingle and ce
 lebrate the end of the school year.\nAll food and drinks will be provided 
 for free courtesy of the EECE faculty. Grilled burgers and hot dogs will b
 e the main dish. There will also be grilled vegan and gluten-free options 
 provided\, as well as a variety of sides and both sweetened and unsweetene
 d drinks.\n\nLocation\nLake Padden East Playground Picnic Shelter\n\nThe s
 helter has seating for 50 and is covered\, but keep in mind there will be 
 over 200 people invited (and likely at least 100 attending)\, so if the we
 ather is sunny or rainy\, be prepared with sunblock or a jacket/umbrella.\
 n\nTime\nFriday June 6\, 5:00 to 7:00\nThe barbecue will open at 5:00 and 
 close at 7:00. You are free to come and go as you please\, but keep in min
 d that grilled food will be served starting at 5:00. There is a limit to h
 ow fast we can cook food. This year\, we will try to have about 50 burgers
  and dogs ready to go right at 5:00\, but there are no guarantees of meat 
 if you show up very late.\n\n4882 Samish Way\, Bellingham\, Washington\, U
 nited States
LOCATION:4882 Samish Way\, Bellingham\, Washington\, United States
ORGANIZER:khanj@wwu.edu
SEQUENCE:14
SUMMARY:3rd Annual EECE BBQ!
URL;VALUE=URI:https://events.vtools.ieee.org/m/487766
X-ALT-DESC:Description: &lt;br /&gt;&lt;p&gt;As part of our program efforts to provide 
 more social opportunities for&lt;strong&gt;&amp;nbsp\;ALL EECE students&lt;/strong&gt;&amp;nbs
 p\;to gather as a group\, we are happy to announce the 3&lt;sup&gt;rd&lt;/sup&gt; Annu
 al EECE Spring BBQ!&amp;nbsp\; This will be your chance to mingle and celebrat
 e the end of the school year.&lt;/p&gt;\n&lt;div class=&quot;x_elementToProof&quot;&gt;&lt;strong d
 ata-olk-copy-source=&quot;MessageBody&quot;&gt;All food and drinks will be provided for
  free courtesy of the EECE faculty&lt;/strong&gt;.&amp;nbsp\; Grilled burgers and ho
 t dogs will be the main dish.&amp;nbsp\; There will also be grilled vegan and 
 gluten-free options provided\, as well as a variety of sides and both swee
 tened and unsweetened drinks.&lt;/div&gt;\n&lt;div class=&quot;x_elementToProof&quot;&gt;&amp;nbsp\;
 &lt;/div&gt;\n&lt;div class=&quot;x_elementToProof&quot;&gt;\n&lt;div class=&quot;x_elementToProof&quot;&gt;&lt;str
 ong data-olk-copy-source=&quot;MessageBody&quot;&gt;Location&lt;/strong&gt;&lt;/div&gt;\n&lt;div class
 =&quot;x_elementToProof&quot;&gt;Lake Padden East Playground Picnic Shelter&lt;br&gt;&lt;br&gt;The 
 shelter has seating for 50 and is covered\, but keep in mind there will be
  over 200 people invited (and likely at least 100 attending)\, so if the w
 eather is sunny or rainy\, be prepared with sunblock or a jacket/umbrella.
 &lt;/div&gt;\n&lt;/div&gt;\n&lt;div class=&quot;x_elementToProof&quot;&gt;&amp;nbsp\;&lt;/div&gt;\n&lt;div class=&quot;x
 _elementToProof&quot;&gt;&lt;strong&gt;Time&lt;/strong&gt;&lt;/div&gt;\n&lt;div class=&quot;x_elementToProof
 &quot;&gt;&lt;strong&gt;Friday June 6\, 5:00 to 7:00&lt;/strong&gt;&lt;/div&gt;\n&lt;div class=&quot;x_eleme
 ntToProof&quot;&gt;The barbecue will open at 5:00 and close at 7:00. You are free 
 to come and go as you please\, but keep in mind that grilled food will be 
 served starting at 5:00.&amp;nbsp\; There is a limit to how fast we can cook f
 ood.&amp;nbsp\; This year\, we will try to have about 50 burgers and dogs read
 y to go right at 5:00\, but there are no guarantees of meat if you show up
  very late.&lt;/div&gt;
END:VEVENT
END:VCALENDAR

