BEGIN:VCALENDAR
VERSION:2.0
PRODID:IEEE vTools.Events//EN
CALSCALE:GREGORIAN
BEGIN:VTIMEZONE
TZID:America/New_York
BEGIN:DAYLIGHT
DTSTART:20250309T030000
TZOFFSETFROM:-0500
TZOFFSETTO:-0400
RRULE:FREQ=YEARLY;BYDAY=2SU;BYMONTH=3
TZNAME:EDT
END:DAYLIGHT
BEGIN:STANDARD
DTSTART:20251102T010000
TZOFFSETFROM:-0400
TZOFFSETTO:-0500
RRULE:FREQ=YEARLY;BYDAY=1SU;BYMONTH=11
TZNAME:EST
END:STANDARD
END:VTIMEZONE
BEGIN:VEVENT
DTSTAMP:20250605T195817Z
UID:6EE6D8C5-B492-4FBA-A6FC-B2C89196DB7D
DTSTART;TZID=America/New_York:20250711T140000
DTEND;TZID=America/New_York:20250711T150000
DESCRIPTION:[]In today’s evolving job market\, having a strong résumé i
 s no longer enough. Engineers must establish a compelling personal brand a
 nd thought leadership presence to stand out in an increasingly AI-driven w
 orld. This webinar will explore how engineers can leverage LinkedIn\, AI t
 ools\, and global trends to build a reputation that aligns with higher-lev
 el global challenges\, including digital transformation\, sustainability\,
  and the future of work.\n\nKey Takeaways:\n\n🔹 The Foundations of Pers
 onal Branding\n\n-\nDefining your niche and expertise in a way that aligns
  with industry trends\n\n-\nCrafting a compelling personal brand statement
 \n\n-\nShowcasing leadership and credibility beyond technical skills\n\n
 🔹 Leveraging LinkedIn &amp; AI for Career Growth\n\n-\nLearn how to positio
 n yourself as a trusted expert in your niche\, using AI-powered content\, 
 making it easier to land new career opportunities\, speaking engagements\,
  collaborations\, and clients\n\n-\nUnderstand how AI is shaping business 
 and consulting and position yourself as a go-to expert in the AI-driven ec
 onomy for sharing insights and research\n\n-\nEngaging with IEEE platforms
 \, technical blogs\, and LinkedIn groups to expand influence and impact\n\
 n🔹 Becoming a Recognized Industry Expert\n\n-\nStrategies for publishin
 g articles\, white papers\, and AI-driven research reports\n\n-\nSpeaking 
 at global conferences and webinars to demonstrate expertise\n\n-\nCollabor
 ating with thought leaders and global organizations to elevate your impact
 \n\n🔹 Aligning Personal Branding to Higher-Level Global Issues\n\n-\nHo
 w engineers and entrepreneurs can position themselves as problem-solvers i
 n alignment with AI\, cybersecurity\, digital transformation\, and sustain
 ability\, making you relevant to high-level corporate discussions\n\n-\nUn
 derstanding the role of AI in engineering-related innovation and aligning 
 your expertise to global megatrends\n\n-\nLearn the best networking strate
 gies to connect with policymakers\, Fortune 500 executives\, and tech inve
 stors and research institutions to contribute to high-impact initiatives\n
 \nTarget Audience:\n\n-\nEarly-career engineers looking to establish credi
 bility and differentiate themselves\n\n-\nMid-career professionals aiming 
 to transition into leadership and thought leadership roles\n\n-\nSenior en
 gineers &amp; researchers wanting to expand their global influence and network
 \n\n-\nCareer Changers transitioning into engineering\, AI\, or consulting
  roles who want to build credibility\, showcase expertise\, and strategica
 lly network for new opportunities.\n\n-\nEntrepreneurs &amp; Consultants looki
 ng to establish thought leadership\, attract clients\, and position themse
 lves as industry experts using AI-driven branding and networking strategie
 s.\n\nWhy Attend?\n\n-\nLearn practical branding strategies to boost caree
 r opportunities\n\n-\nGet insights on writing white papers\, publishing re
 search\, and appearing in industry reports to establish authority.\n\n-\nD
 iscover how to use AI-driven analytics to track engagement and refine your
  brand strategy\n\n-\nConnect with industry influencers and like-minded pr
 ofessionals\n\n-\nPractical Tools &amp; Strategies to Scale Your Career or Bus
 iness\n\nSpeaker(s): Dr. Rhonda Farrell\n\nAgenda: \nIEEE-USA&#39;s free webin
 ars/events are designed to help you find your next job\, maintain your car
 eer\, negotiate an appropriate salary\, understand ethical considerations 
 in the workplace and learn about other career-building strategies and publ
 ic policy developments that affect your profession.\n\nFor information reg
 arding upcoming webinars or to visit our vast webinar archive\, please vis
 it: [https://ieeeusa.org/careers/webinars](https://ieeeusa.org/careers/web
 inars/)\n\n[Stay informed about future IEEE-USA Webinars by subscribing no
 w to Smartbrief!](https://newsletter.smartbrief.com/rest/sign-up/2479DAB0-
 4089-43E7-925D-86AE0C1E6244?campaign=e0d52cef)\n\nVirtual: https://events.
 vtools.ieee.org/m/487905
LOCATION:Virtual: https://events.vtools.ieee.org/m/487905
ORGANIZER:k.henneberry@ieee.org
SEQUENCE:11
SUMMARY:IEEE-USA Livestream Webinar: Beyond the Resume – Mastering Person
 al Branding &amp; Thought Leadership for Engineers &amp; Entrepreneurs in the AI E
 ra
URL;VALUE=URI:https://events.vtools.ieee.org/m/487905
X-ALT-DESC:Description: &lt;br /&gt;&lt;p dir=&quot;ltr&quot;&gt;&lt;img style=&quot;margin-left: 15px\;&quot;
  src=&quot;https://ieeeusa.org/wp-content/uploads/2025/06/BeyondTheResume-July1
 1-400x200.png&quot; alt=&quot;&quot; width=&quot;400&quot; height=&quot;200&quot; align=&quot;right&quot;&gt;In today&amp;rsqu
 o\;s evolving job market\, having a strong r&amp;eacute\;sum&amp;eacute\; is no lo
 nger enough. Engineers must establish a compelling personal brand and thou
 ght leadership presence to stand out in an increasingly AI-driven world. T
 his webinar will explore how engineers can leverage LinkedIn\, AI tools\, 
 and global trends to build a reputation that aligns with higher-level glob
 al challenges\, including digital transformation\, sustainability\, and th
 e future of work.&lt;/p&gt;\n&lt;p dir=&quot;ltr&quot;&gt;&lt;span style=&quot;font-size: 18pt\;&quot;&gt;&lt;stron
 g&gt;Key Takeaways:&lt;/strong&gt;&lt;/span&gt;&lt;/p&gt;\n&lt;p dir=&quot;ltr&quot;&gt;&lt;span style=&quot;font-size:
  14pt\;&quot;&gt;&lt;strong&gt;🔹 The Foundations of Personal Branding&lt;/strong&gt;&lt;/span&gt;
 &lt;/p&gt;\n&lt;ul&gt;\n&lt;li dir=&quot;ltr&quot; aria-level=&quot;1&quot;&gt;\n&lt;p dir=&quot;ltr&quot; role=&quot;presentation
 &quot;&gt;Defining your niche and expertise in a way that aligns with industry tre
 nds&lt;/p&gt;\n&lt;/li&gt;\n&lt;li dir=&quot;ltr&quot; aria-level=&quot;1&quot;&gt;\n&lt;p dir=&quot;ltr&quot; role=&quot;presenta
 tion&quot;&gt;Crafting a compelling personal brand statement&lt;/p&gt;\n&lt;/li&gt;\n&lt;li dir=&quot;
 ltr&quot; aria-level=&quot;1&quot;&gt;\n&lt;p dir=&quot;ltr&quot; role=&quot;presentation&quot;&gt;Showcasing leadersh
 ip and credibility beyond technical skills&lt;/p&gt;\n&lt;/li&gt;\n&lt;/ul&gt;\n&lt;p dir=&quot;ltr&quot;
 &gt;&lt;span style=&quot;font-size: 14pt\;&quot;&gt;&lt;strong&gt;🔹 Leveraging LinkedIn &amp;amp\; A
 I for Career Growth&lt;/strong&gt;&lt;/span&gt;&lt;/p&gt;\n&lt;ul&gt;\n&lt;li dir=&quot;ltr&quot; aria-level=&quot;1
 &quot;&gt;\n&lt;p dir=&quot;ltr&quot; role=&quot;presentation&quot;&gt;Learn how to position yourself as a t
 rusted expert in your niche\, using AI-powered content\, making it easier 
 to land new career opportunities\, speaking engagements\, collaborations\,
  and clients&lt;/p&gt;\n&lt;/li&gt;\n&lt;li dir=&quot;ltr&quot; aria-level=&quot;1&quot;&gt;\n&lt;p dir=&quot;ltr&quot; role=
 &quot;presentation&quot;&gt;Understand how AI is shaping business and consulting and po
 sition yourself as a go-to expert in the AI-driven economy for sharing ins
 ights and research&lt;/p&gt;\n&lt;/li&gt;\n&lt;li dir=&quot;ltr&quot; aria-level=&quot;1&quot;&gt;\n&lt;p dir=&quot;ltr&quot;
  role=&quot;presentation&quot;&gt;Engaging with IEEE platforms\, technical blogs\, and 
 LinkedIn groups to expand influence and impact&lt;/p&gt;\n&lt;/li&gt;\n&lt;/ul&gt;\n&lt;p dir=&quot;
 ltr&quot;&gt;&lt;span style=&quot;font-size: 14pt\;&quot;&gt;&lt;strong&gt;🔹 Becoming a Recognized In
 dustry Expert&lt;/strong&gt;&lt;/span&gt;&lt;/p&gt;\n&lt;ul&gt;\n&lt;li dir=&quot;ltr&quot; aria-level=&quot;1&quot;&gt;\n&lt;p
  dir=&quot;ltr&quot; role=&quot;presentation&quot;&gt;Strategies for publishing articles\, white 
 papers\, and AI-driven research reports&lt;/p&gt;\n&lt;/li&gt;\n&lt;li dir=&quot;ltr&quot; aria-lev
 el=&quot;1&quot;&gt;\n&lt;p dir=&quot;ltr&quot; role=&quot;presentation&quot;&gt;Speaking at global conferences a
 nd webinars to demonstrate expertise&lt;/p&gt;\n&lt;/li&gt;\n&lt;li dir=&quot;ltr&quot; aria-level=
 &quot;1&quot;&gt;\n&lt;p dir=&quot;ltr&quot; role=&quot;presentation&quot;&gt;Collaborating with thought leaders 
 and global organizations to elevate your impact&lt;/p&gt;\n&lt;/li&gt;\n&lt;/ul&gt;\n&lt;p dir=
 &quot;ltr&quot;&gt;&lt;span style=&quot;font-size: 14pt\;&quot;&gt;&lt;strong&gt;🔹 Aligning Personal Brand
 ing to Higher-Level Global Issues&lt;/strong&gt;&lt;/span&gt;&lt;/p&gt;\n&lt;ul&gt;\n&lt;li dir=&quot;ltr&quot;
  aria-level=&quot;1&quot;&gt;\n&lt;p dir=&quot;ltr&quot; role=&quot;presentation&quot;&gt;How engineers&amp;nbsp\; an
 d entrepreneurs can position themselves as problem-solvers in alignment wi
 th AI\, cybersecurity\, digital transformation\, and sustainability\, maki
 ng you relevant to high-level corporate discussions&lt;/p&gt;\n&lt;/li&gt;\n&lt;li dir=&quot;l
 tr&quot; aria-level=&quot;1&quot;&gt;\n&lt;p dir=&quot;ltr&quot; role=&quot;presentation&quot;&gt;Understanding the ro
 le of AI in engineering-related innovation and aligning your expertise to 
 global megatrends&lt;/p&gt;\n&lt;/li&gt;\n&lt;li dir=&quot;ltr&quot; aria-level=&quot;1&quot;&gt;\n&lt;p dir=&quot;ltr&quot; 
 role=&quot;presentation&quot;&gt;Learn the best networking strategies to connect with p
 olicymakers\, Fortune 500 executives\, and tech investors and research ins
 titutions to contribute to high-impact initiatives&lt;/p&gt;\n&lt;/li&gt;\n&lt;/ul&gt;\n&lt;p d
 ir=&quot;ltr&quot;&gt;&lt;span style=&quot;font-size: 18pt\;&quot;&gt;&lt;strong&gt;Target Audience:&lt;/strong&gt;
 &lt;/span&gt;&lt;/p&gt;\n&lt;ul&gt;\n&lt;li dir=&quot;ltr&quot; aria-level=&quot;1&quot;&gt;\n&lt;p dir=&quot;ltr&quot; role=&quot;prese
 ntation&quot;&gt;Early-career engineers looking to establish credibility and diffe
 rentiate themselves&lt;/p&gt;\n&lt;/li&gt;\n&lt;li dir=&quot;ltr&quot; aria-level=&quot;1&quot;&gt;\n&lt;p dir=&quot;ltr
 &quot; role=&quot;presentation&quot;&gt;Mid-career professionals aiming to transition into l
 eadership and thought leadership roles&lt;/p&gt;\n&lt;/li&gt;\n&lt;li dir=&quot;ltr&quot; aria-leve
 l=&quot;1&quot;&gt;\n&lt;p dir=&quot;ltr&quot; role=&quot;presentation&quot;&gt;Senior engineers &amp;amp\; researche
 rs wanting to expand their global influence and network&lt;/p&gt;\n&lt;/li&gt;\n&lt;li di
 r=&quot;ltr&quot; aria-level=&quot;1&quot;&gt;\n&lt;p dir=&quot;ltr&quot; role=&quot;presentation&quot;&gt;Career Changers 
 transitioning into engineering\, AI\, or consulting roles who want to buil
 d credibility\, showcase expertise\, and strategically network for new opp
 ortunities.&lt;/p&gt;\n&lt;/li&gt;\n&lt;li dir=&quot;ltr&quot; aria-level=&quot;1&quot;&gt;\n&lt;p dir=&quot;ltr&quot; role=&quot;
 presentation&quot;&gt;Entrepreneurs &amp;amp\; Consultants looking to establish though
 t leadership\, attract clients\, and position themselves as industry exper
 ts using AI-driven branding and networking strategies.&lt;/p&gt;\n&lt;/li&gt;\n&lt;/ul&gt;\n
 &lt;p dir=&quot;ltr&quot;&gt;&lt;span style=&quot;font-size: 18pt\;&quot;&gt;&lt;strong&gt;Why Attend?&lt;/strong&gt;&lt;
 /span&gt;&lt;/p&gt;\n&lt;ul&gt;\n&lt;li dir=&quot;ltr&quot; aria-level=&quot;1&quot;&gt;\n&lt;p dir=&quot;ltr&quot; role=&quot;presen
 tation&quot;&gt;Learn practical branding strategies to boost career opportunities&lt;
 /p&gt;\n&lt;/li&gt;\n&lt;li dir=&quot;ltr&quot; aria-level=&quot;1&quot;&gt;\n&lt;p dir=&quot;ltr&quot; role=&quot;presentation
 &quot;&gt;Get insights on writing white papers\, publishing research\, and appeari
 ng in industry reports to establish authority.&lt;/p&gt;\n&lt;/li&gt;\n&lt;li dir=&quot;ltr&quot; a
 ria-level=&quot;1&quot;&gt;\n&lt;p dir=&quot;ltr&quot; role=&quot;presentation&quot;&gt;Discover how to use AI-dr
 iven analytics to track engagement and refine your brand strategy&lt;/p&gt;\n&lt;/l
 i&gt;\n&lt;li dir=&quot;ltr&quot; aria-level=&quot;1&quot;&gt;\n&lt;p dir=&quot;ltr&quot; role=&quot;presentation&quot;&gt;Connec
 t with industry influencers and like-minded professionals&lt;/p&gt;\n&lt;/li&gt;\n&lt;li 
 dir=&quot;ltr&quot; aria-level=&quot;1&quot;&gt;\n&lt;p dir=&quot;ltr&quot; role=&quot;presentation&quot;&gt;Practical Tool
 s &amp;amp\; Strategies to Scale Your Career or Business&lt;/p&gt;\n&lt;/li&gt;\n&lt;/ul&gt;&lt;br 
 /&gt;&lt;br /&gt;Agenda: &lt;br /&gt;&lt;p&gt;&lt;span style=&quot;color: #000000\; font-family: helvet
 ica\, arial\, sans-serif\;&quot;&gt;IEEE-USA&#39;s free webinars/events are designed t
 o help you find your next job\, maintain your career\, negotiate an approp
 riate salary\, understand ethical considerations in the workplace and lear
 n about other career-building strategies and public policy developments th
 at affect your profession.&lt;/span&gt;&lt;/p&gt;\n&lt;p&gt;&lt;span style=&quot;font-family: helvet
 ica\, arial\, sans-serif\;&quot;&gt;For information regarding upcoming webinars or
  to visit our vast webinar archive\, please visit:&amp;nbsp\;&lt;strong&gt;&lt;a href=&quot;
 https://ieeeusa.org/careers/webinars/&quot; target=&quot;_blank&quot; rel=&quot;noopener&quot;&gt;http
 s://ieeeusa.org/careers/webinars&lt;/a&gt;&lt;/strong&gt;&lt;/span&gt;&lt;/p&gt;\n&lt;p&gt;&lt;strong&gt;&lt;a hr
 ef=&quot;https://newsletter.smartbrief.com/rest/sign-up/2479DAB0-4089-43E7-925D
 -86AE0C1E6244?campaign=e0d52cef&quot;&gt;Stay informed about future IEEE-USA Webin
 ars by subscribing now to Smartbrief!&lt;/a&gt;&lt;/strong&gt;&lt;/p&gt;
END:VEVENT
END:VCALENDAR

