BEGIN:VCALENDAR
VERSION:2.0
PRODID:IEEE vTools.Events//EN
CALSCALE:GREGORIAN
BEGIN:VTIMEZONE
TZID:US/Eastern
BEGIN:DAYLIGHT
DTSTART:20260308T030000
TZOFFSETFROM:-0500
TZOFFSETTO:-0400
RRULE:FREQ=YEARLY;BYDAY=2SU;BYMONTH=3
TZNAME:EDT
END:DAYLIGHT
BEGIN:STANDARD
DTSTART:20261101T010000
TZOFFSETFROM:-0400
TZOFFSETTO:-0500
RRULE:FREQ=YEARLY;BYDAY=1SU;BYMONTH=11
TZNAME:EST
END:STANDARD
END:VTIMEZONE
BEGIN:VEVENT
DTSTAMP:20260421T204025Z
UID:7F1B2771-56E9-4624-95B4-452412D60181
DTSTART;TZID=US/Eastern:20260426T080000
DTEND;TZID=US/Eastern:20260426T150000
DESCRIPTION:Robot Challenge competition including time trials for robots an
 d oral presentations by the student teams.\n\nThis is an exciting event fo
 r Middle School and High School students who have built robots from scratc
 h. We need Judges! The interaction with working engineers is invaluable. C
 ompetition ends early afternoon\, depending on the number of entries. Most
  judging will be completed by noon.\n\nPlease join us for an entertaining 
 event for all who participate.\n\nCo-sponsored by: Baltimore Museum of Ind
 ustry\n\nAgenda: \n08:00 - judges check in\n\n08:15 - judges training\n\n0
 8:45 - competition begins\n\n19:00 AWARDS CEREMONY ON LINE\n\n1415 Key Hig
 hway\, Baltimore\, Maryland\, United States
LOCATION:1415 Key Highway\, Baltimore\, Maryland\, United States
ORGANIZER:d.herres@ieee.org
SEQUENCE:5
SUMMARY:IEEE Baltimore Robot Challenge - in person component
URL;VALUE=URI:https://events.vtools.ieee.org/m/488286
X-ALT-DESC:Description: &lt;br /&gt;&lt;p&gt;Robot Challenge competition including time
  trials for robots and oral presentations by the student teams.&lt;/p&gt;\n&lt;p&gt;Th
 is is an exciting event for Middle School and High School students who hav
 e built robots from scratch.&amp;nbsp\; We need Judges!&amp;nbsp\; The interaction
  with working engineers is invaluable.&amp;nbsp\; Competition ends early after
 noon\, depending on the number of entries.&amp;nbsp\; Most judging will be com
 pleted by noon.&lt;/p&gt;\n&lt;p&gt;Please join us for an entertaining event for all w
 ho participate.&lt;/p&gt;&lt;br /&gt;&lt;br /&gt;Agenda: &lt;br /&gt;&lt;p&gt;08:00 - judges check in&lt;/p
 &gt;\n&lt;p&gt;08:15 - judges training&lt;/p&gt;\n&lt;p&gt;08:45 - competition begins&lt;/p&gt;\n&lt;p&gt;1
 9:00 AWARDS CEREMONY ON LINE&lt;/p&gt;
END:VEVENT
END:VCALENDAR

