BEGIN:VCALENDAR
VERSION:2.0
PRODID:IEEE vTools.Events//EN
CALSCALE:GREGORIAN
BEGIN:VTIMEZONE
TZID:America/Los_Angeles
BEGIN:DAYLIGHT
DTSTART:20250309T030000
TZOFFSETFROM:-0800
TZOFFSETTO:-0700
RRULE:FREQ=YEARLY;BYDAY=2SU;BYMONTH=3
TZNAME:PDT
END:DAYLIGHT
BEGIN:STANDARD
DTSTART:20251102T010000
TZOFFSETFROM:-0700
TZOFFSETTO:-0800
RRULE:FREQ=YEARLY;BYDAY=1SU;BYMONTH=11
TZNAME:PST
END:STANDARD
END:VTIMEZONE
BEGIN:VEVENT
DTSTAMP:20250622T002416Z
UID:365EE86A-A5A8-4682-B924-2A2DA758E0C7
DTSTART;TZID=America/Los_Angeles:20250618T173000
DTEND;TZID=America/Los_Angeles:20250618T193000
DESCRIPTION:Wednesday\, June 18\, 2025\n\n5:30pm – 7:30 pm\n\nSD IEEE Con
 sultants&#39; Network: June 2025 Meeting (&quot;Away Game&quot;)\n\nSan Diego Entreprene
 urs Exchange (SDEE)\n\nLet&#39;s meet at SDEE in Miramar! SDEE is a solid\, Li
 fe Science/Med Tech Happy Hour. Typically there are about 40-60 people the
 re. Good mix of Industry\, Service providers\, Scientists\, and Entreprene
 urs.\n\nSan Diego Entrepreneurs Exchange (SDEE) is a nonprofit 501(c)(3) o
 rganization founded by local San Diego entrepreneurs to provide a voice fo
 r early stage technology start-ups\, to support new entrepreneurs and thei
 r companies\, and to sponsor networking and educational events to help dev
 elop the skills necessary to bring funding\, business\, and jobs to the Sa
 n Diego area.\n\nUpon arrival\, go straight in\, to the back (past the bar
 )\, there will be a check-in table. Check in\, get a name tag\, mingle\, a
 nd make sure to say hi to Enrique\, Mike\, and our fellow IEEE CN &quot;teammat
 es&quot;!\n\nCOST:\n\nFree but Registration is required here\nhttps://www.sdent
 repreneurs.org/save_the_date_june_happy_hour\n\nPARKING\nParking at brewer
 y and on the street\n\nMORE INFO\nhttps://www.sdentrepreneurs.org/\n\nQues
 tions:\n\nEnrique Monteagudo\, enriquem03@yahoo.com\n\nMichael Bryant\, m.
 w.bryant@ieee.org\n\nAgenda: \nNO AGENDA:\n\n5:30-7:30 Open Networking\n\n
 We welcome newcomers and old faces we haven’t seen in a while.\n\nBldg: 
 Embolden Beer Co.\, 8655 Production Ave\, San Diego\, California\, United 
 States\, 92121
LOCATION:Bldg: Embolden Beer Co.\, 8655 Production Ave\, San Diego\, Califo
 rnia\, United States\, 92121
ORGANIZER:enriquem03@yahoo.com
SEQUENCE:27
SUMMARY:SD IEEE Consultants&#39; Network: June 2025 Meeting (&quot;Away Game&quot;) -  S
 an Diego Entrepreneurs Exchange (SDEE)
URL;VALUE=URI:https://events.vtools.ieee.org/m/488329
X-ALT-DESC:Description: &lt;br /&gt;&lt;p class=&quot;MsoNormal&quot; style=&quot;text-align: cente
 r\;&quot; align=&quot;center&quot;&gt;&lt;span style=&quot;font-size: 14pt\;&quot;&gt;&lt;strong style=&quot;mso-bid
 i-font-weight: normal\;&quot;&gt;&lt;span style=&quot;font-family: &#39;Arial&#39;\,sans-serif\;&quot;&gt;
 Wednesday\,&lt;/span&gt;&lt;/strong&gt;&lt;strong&gt;&lt;span style=&quot;font-family: &#39;Arial&#39;\,sans
 -serif\; font-weight: normal\; mso-bidi-font-weight: bold\;&quot;&gt; &lt;/span&gt;&lt;/str
 ong&gt;&lt;strong&gt;&lt;span style=&quot;font-family: &#39;Arial&#39;\,sans-serif\;&quot;&gt;June 18\,&lt;/sp
 an&gt;&lt;/strong&gt;&lt;strong style=&quot;mso-bidi-font-weight: normal\;&quot;&gt;&lt;span style=&quot;fo
 nt-family: &#39;Arial&#39;\,sans-serif\;&quot;&gt; 2025&lt;/span&gt;&lt;/strong&gt;&lt;/span&gt;&lt;/p&gt;\n&lt;p cla
 ss=&quot;MsoNormal&quot; style=&quot;text-align: center\;&quot; align=&quot;center&quot;&gt;&lt;span style=&quot;fo
 nt-size: 14pt\;&quot;&gt;&lt;strong style=&quot;mso-bidi-font-weight: normal\;&quot;&gt;&lt;span styl
 e=&quot;font-family: &#39;Arial&#39;\,sans-serif\;&quot;&gt;5:30pm &amp;ndash\; 7:30 pm&lt;/span&gt;&lt;/str
 ong&gt;&lt;strong style=&quot;mso-bidi-font-weight: normal\;&quot;&gt;&lt;span style=&quot;font-famil
 y: &#39;Arial&#39;\,sans-serif\;&quot;&gt;&amp;nbsp\;&lt;/span&gt;&lt;/strong&gt;&lt;/span&gt;&lt;/p&gt;\n&lt;p class=&quot;Ms
 oNormal&quot; style=&quot;text-align: center\;&quot; align=&quot;center&quot;&gt;&lt;span style=&quot;font-siz
 e: 14pt\;&quot;&gt;&lt;strong style=&quot;mso-bidi-font-weight: normal\;&quot;&gt;&lt;span style=&quot;fon
 t-family: &#39;Arial&#39;\,sans-serif\;&quot;&gt;SD IEEE Consultants&#39; Network: June 2025 M
 eeting (&quot;Away Game&quot;)&lt;/span&gt;&lt;/strong&gt;&lt;/span&gt;&lt;/p&gt;\n&lt;p class=&quot;MsoNormal&quot; styl
 e=&quot;text-align: center\;&quot; align=&quot;center&quot;&gt;&lt;span style=&quot;font-size: 14pt\;&quot;&gt;&lt;s
 trong style=&quot;mso-bidi-font-weight: normal\;&quot;&gt;&lt;span style=&quot;font-family: &#39;Ar
 ial&#39;\,sans-serif\;&quot;&gt;&amp;nbsp\;&lt;/span&gt;&lt;/strong&gt;&lt;strong&gt;&lt;span style=&quot;font-famil
 y: &#39;Arial&#39;\,sans-serif\;&quot;&gt;San Diego Entrepreneurs Exchange (SDEE)&lt;/span&gt;&lt;/
 strong&gt;&lt;/span&gt;&lt;/p&gt;\n&lt;p class=&quot;MsoNormal&quot;&gt;&lt;span style=&quot;font-family: &#39;Arial&#39;
 \,sans-serif\;&quot;&gt;&amp;nbsp\;&lt;/span&gt;&lt;/p&gt;\n&lt;p class=&quot;MsoNormal&quot;&gt;&lt;span style=&quot;font
 -family: &#39;Arial&#39;\,sans-serif\;&quot;&gt;&amp;nbsp\;&lt;/span&gt;&lt;/p&gt;\n&lt;p class=&quot;MsoNormal&quot;&gt;&lt;
 span style=&quot;font-family: &#39;Arial&#39;\,sans-serif\;&quot;&gt;Let&#39;s meet at SDEE in Mira
 mar!&lt;span style=&quot;mso-spacerun: yes\;&quot;&gt;&amp;nbsp\; &lt;/span&gt;SDEE is a solid\, Lif
 e Science/Med Tech Happy Hour. Typically there are about 40-60 people ther
 e. Good mix of Industry\, Service providers\, Scientists\, and Entrepreneu
 rs.&lt;/span&gt;&lt;/p&gt;\n&lt;p class=&quot;MsoNormal&quot;&gt;&lt;span style=&quot;font-family: &#39;Arial&#39;\,sa
 ns-serif\;&quot;&gt;San Diego Entrepreneurs Exchange (SDEE) is a nonprofit 501(c)(
 3) organization founded by local San Diego entrepreneurs&amp;nbsp\;to provide 
 a voice for early stage technology start-ups\, to support new entrepreneur
 s and their companies\, and to sponsor networking and educational events t
 o help develop the skills necessary to bring funding\, business\, and jobs
  to the San Diego area. &lt;/span&gt;&lt;/p&gt;\n&lt;p class=&quot;MsoNormal&quot;&gt;&lt;span style=&quot;fon
 t-family: &#39;Arial&#39;\,sans-serif\;&quot;&gt;Upon arrival\, go straight in\, to the ba
 ck (past the bar)\, there will be a check-in table. Check in\, get a name 
 tag\, mingle\, and make sure to say hi to Enrique\, Mike\, and our fellow 
 IEEE CN &quot;teammates&quot;!&lt;/span&gt;&lt;/p&gt;\n&lt;p class=&quot;MsoNormal&quot;&gt;&lt;span style=&quot;font-fa
 mily: &#39;Arial&#39;\,sans-serif\;&quot;&gt;&amp;nbsp\;&lt;/span&gt;&lt;/p&gt;\n&lt;p class=&quot;MsoNormal&quot;&gt;&lt;str
 ong&gt;&lt;span style=&quot;font-family: &#39;Arial&#39;\,sans-serif\;&quot;&gt;COST:&lt;/span&gt;&lt;/strong&gt;
 &lt;/p&gt;\n&lt;p class=&quot;MsoNormal&quot;&gt;&lt;strong&gt;&lt;span style=&quot;font-family: &#39;Arial&#39;\,sans
 -serif\;&quot;&gt;Free but Registration is required here&lt;br&gt;&lt;/span&gt;&lt;/strong&gt;&lt;a hre
 f=&quot;https://www.sdentrepreneurs.org/save_the_date_june_happy_hour&quot;&gt;&lt;span st
 yle=&quot;font-family: &#39;Arial&#39;\,sans-serif\;&quot;&gt;https://www.sdentrepreneurs.org/s
 ave_the_date_june_happy_hour&lt;/span&gt;&lt;/a&gt;&lt;span style=&quot;font-family: &#39;Arial&#39;\,
 sans-serif\;&quot;&gt;&lt;span style=&quot;mso-spacerun: yes\;&quot;&gt;&amp;nbsp\; &lt;/span&gt;&lt;/span&gt;&lt;/p&gt;
 \n&lt;p class=&quot;MsoNormal&quot;&gt;&lt;span style=&quot;font-family: &#39;Arial&#39;\,sans-serif\;&quot;&gt;&amp;n
 bsp\;&lt;/span&gt;&lt;/p&gt;\n&lt;p class=&quot;MsoNormal&quot;&gt;&lt;strong&gt;&lt;span style=&quot;font-family: &#39;
 Arial&#39;\,sans-serif\;&quot;&gt;PARKING&lt;br&gt;&lt;/span&gt;&lt;/strong&gt;&lt;span style=&quot;font-family:
  &#39;Arial&#39;\,sans-serif\;&quot;&gt;Parking at brewery and on the street&lt;/span&gt;&lt;/p&gt;\n&lt;
 p class=&quot;MsoNormal&quot;&gt;&lt;span style=&quot;font-family: &#39;Arial&#39;\,sans-serif\;&quot;&gt;&amp;nbsp
 \;&lt;/span&gt;&lt;/p&gt;\n&lt;p class=&quot;MsoNormal&quot;&gt;&lt;strong&gt;&lt;span style=&quot;font-family: &#39;Ari
 al&#39;\,sans-serif\;&quot;&gt;MORE INFO&lt;br&gt;&lt;/span&gt;&lt;/strong&gt;&lt;span style=&quot;font-family: 
 &#39;Arial&#39;\,sans-serif\;&quot;&gt;https://www.sdentrepreneurs.org/&lt;/span&gt;&lt;/p&gt;\n&lt;p cla
 ss=&quot;MsoNormal&quot;&gt;&lt;span style=&quot;font-family: &#39;Arial&#39;\,sans-serif\;&quot;&gt;&amp;nbsp\;&lt;/s
 pan&gt;&lt;span style=&quot;font-family: &#39;Arial&#39;\,sans-serif\;&quot;&gt;&amp;nbsp\;&lt;/span&gt;&lt;/p&gt;\n&lt;
 p class=&quot;MsoNormal&quot;&gt;&lt;strong&gt;&lt;span lang=&quot;ES&quot; style=&quot;font-family: &#39;Arial&#39;\,s
 ans-serif\; mso-ansi-language: ES\;&quot;&gt;Questions:&lt;/span&gt;&lt;/strong&gt;&lt;/p&gt;\n&lt;p cl
 ass=&quot;MsoNormal&quot;&gt;&lt;span lang=&quot;ES&quot; style=&quot;font-family: &#39;Arial&#39;\,sans-serif\; 
 color: black\; mso-color-alt: windowtext\; background: #F6F7F8\; mso-ansi-
 language: ES\;&quot;&gt;Enrique Monteagudo\, &lt;/span&gt;&lt;a href=&quot;mailto:enriquem03@yah
 oo.com&quot;&gt;&lt;span lang=&quot;ES&quot; style=&quot;font-family: &#39;Arial&#39;\,sans-serif\; backgrou
 nd: #F6F7F8\; mso-ansi-language: ES\;&quot;&gt;enriquem03@yahoo.com&lt;/span&gt;&lt;/a&gt;&lt;spa
 n lang=&quot;ES&quot; style=&quot;font-family: &#39;Arial&#39;\,sans-serif\; color: black\; mso-c
 olor-alt: windowtext\; background: #F6F7F8\; mso-ansi-language: ES\;&quot;&gt; &lt;/s
 pan&gt;&lt;/p&gt;\n&lt;p class=&quot;MsoNormal&quot;&gt;&lt;span style=&quot;font-family: &#39;Arial&#39;\,sans-ser
 if\;&quot;&gt;Michael Bryant\, &lt;/span&gt;&lt;a href=&quot;http://m.w.bryant@ieee.org&quot; target=
 &quot;_blank&quot; rel=&quot;noopener&quot;&gt;&lt;span style=&quot;font-family: &#39;Arial&#39;\,sans-serif\;&quot;&gt;m
 .w.bryant@ieee.org&lt;/span&gt;&lt;/a&gt;&lt;/p&gt;\n&lt;p class=&quot;MsoNormal&quot;&gt;&lt;span lang=&quot;ES&quot; st
 yle=&quot;font-family: &#39;Arial&#39;\,sans-serif\; background: #F6F7F8\; mso-ansi-lan
 guage: ES\;&quot;&gt;&amp;nbsp\;&lt;/span&gt;&lt;/p&gt;&lt;br /&gt;&lt;br /&gt;Agenda: &lt;br /&gt;&lt;p class=&quot;MsoNorm
 al&quot;&gt;&lt;strong&gt;&lt;span style=&quot;font-family: &#39;Arial&#39;\,sans-serif\;&quot;&gt;NO AGENDA:&lt;/s
 pan&gt;&lt;/strong&gt;&lt;/p&gt;\n&lt;p class=&quot;MsoNormal&quot;&gt;&lt;span style=&quot;font-family: &#39;Arial&#39;\
 ,sans-serif\;&quot;&gt;5:30-7:30 Open Networking&lt;/span&gt;&lt;/p&gt;\n&lt;p class=&quot;MsoNormal&quot;&gt;
 &lt;span style=&quot;font-size: 12pt\; font-family: &#39;Arial&#39;\, sans-serif\;&quot;&gt;We wel
 come newcomers and old faces we haven&amp;rsquo\;t seen in a while.&lt;/span&gt;&lt;/p&gt;
END:VEVENT
END:VCALENDAR

