BEGIN:VCALENDAR
VERSION:2.0
PRODID:IEEE vTools.Events//EN
CALSCALE:GREGORIAN
BEGIN:VTIMEZONE
TZID:America/New_York
BEGIN:DAYLIGHT
DTSTART:20250309T030000
TZOFFSETFROM:-0500
TZOFFSETTO:-0400
RRULE:FREQ=YEARLY;BYDAY=2SU;BYMONTH=3
TZNAME:EDT
END:DAYLIGHT
BEGIN:STANDARD
DTSTART:20251102T010000
TZOFFSETFROM:-0400
TZOFFSETTO:-0500
RRULE:FREQ=YEARLY;BYDAY=1SU;BYMONTH=11
TZNAME:EST
END:STANDARD
END:VTIMEZONE
BEGIN:VEVENT
DTSTAMP:20250625T165720Z
UID:CC56A230-EB3C-426F-8DA7-DCE8114EDB35
DTSTART;TZID=America/New_York:20250618T180000
DTEND;TZID=America/New_York:20250618T190000
DESCRIPTION:The IEEE Montreal Circuits and Systems Chapter invites you to a
 ttend a seminar on “Some Signal Processing and Machine Learning Applicat
 ions to\nCommunications” given by Prof. PAULO S. R. DINIZ\, DEPARTMENT O
 F ELECTRONICS AND COMPUTER ENGINEERING and\nPROGRAM OF ELECTRICAL ENGINEER
 ING\, COPPE/POLI/UFRJ\, Federal University of Rio de Janeiro.\n\nCo-sponso
 red by: Prof. Wei-Ping Zhu\n\nSpeaker(s): PAULO S. R. DINIZ\, \n\nRoom: EV
 3.309\, Bldg: EV-Bulding\, 1515 St. Catherine\, West\, Montreal\, Quebec\,
  Canada
LOCATION:Room: EV3.309\, Bldg: EV-Bulding\, 1515 St. Catherine\, West\, Mon
 treal\, Quebec\, Canada
ORGANIZER:omair@ece.concordia.ca
SEQUENCE:15
SUMMARY:Signal Processing and Machine Learning Applications to Communicatio
 ns
URL;VALUE=URI:https://events.vtools.ieee.org/m/488429
X-ALT-DESC:Description: &lt;br /&gt;&lt;p&gt;The IEEE Montreal Circuits and Systems Cha
 pter invites you to attend a seminar on &amp;ldquo\;Some Signal Processing and
  Machine Learning Applications to&lt;br&gt;Communications&amp;rdquo\; given by Prof.
  PAULO S. R. DINIZ\, DEPARTMENT OF ELECTRONICS AND COMPUTER ENGINEERING an
 d&lt;br&gt;PROGRAM OF ELECTRICAL ENGINEERING\, COPPE/POLI/UFRJ\, Federal Univers
 ity of Rio de Janeiro.&lt;/p&gt;\n&lt;p&gt;&amp;nbsp\;&lt;/p&gt;
END:VEVENT
END:VCALENDAR

