BEGIN:VCALENDAR
VERSION:2.0
PRODID:IEEE vTools.Events//EN
CALSCALE:GREGORIAN
BEGIN:VTIMEZONE
TZID:America/Los_Angeles
BEGIN:DAYLIGHT
DTSTART:20250309T030000
TZOFFSETFROM:-0800
TZOFFSETTO:-0700
RRULE:FREQ=YEARLY;BYDAY=2SU;BYMONTH=3
TZNAME:PDT
END:DAYLIGHT
BEGIN:STANDARD
DTSTART:20251102T010000
TZOFFSETFROM:-0700
TZOFFSETTO:-0800
RRULE:FREQ=YEARLY;BYDAY=1SU;BYMONTH=11
TZNAME:PST
END:STANDARD
END:VTIMEZONE
BEGIN:VEVENT
DTSTAMP:20250723T061840Z
UID:F934107C-15A7-4E3F-A91C-B07E0F801642
DTSTART;TZID=America/Los_Angeles:20250626T183000
DTEND;TZID=America/Los_Angeles:20250626T200000
DESCRIPTION:The SFBAC (combined Santa Clara Valley\, San Francisco\, &amp; Oakl
 and/East Bay) IEEE Power Electronics Society (PELS) is very pleased to inv
 ite you to our upcoming in-person event celebrating PELS DAY. We are excit
 ed and honored to have Dr. Indumini Ranmuthu\, Distinguished Member Techni
 cal Staff of the Texas Instruments and the IEEE Power Electronics Society 
 Regional Distinguished Lecturer to speak on the topic of “Datacenter Vol
 tage Regulator Power Delivery Solutions” on June 26\, 2025.\n\nDoors wil
 l open at 6:30pm\; the seminar will start at 7:00pm. Snacks and refreshmen
 ts will be provided free of charge to all attendees.\n\nRegistration is $5
 \, payable at the door with the exception for current students who must re
 gister with their *.edu emails. You may register ahead of time without pay
 ing\, but ALL ATTENDEES (except for students) will need to pay at the door
 .\n\nSFBAC PELS WEBSITE LINK: https://r6.ieee.org/scv-pels/\n\nSeminar Tit
 le:\n\nPoint of load power converters and Processor power delivery\n\nPoin
 t of load converters are being used in a variety of applications. Efficien
 cy\, power density\, size\, cost\, transient response and output current c
 apability are some of the driving requirements. These requirements are sev
 erely challenged when powering modern data centers and AI processors. Thes
 e processors are demanding up to 2000 Amp power supply solutions with incr
 easing efficiency and transient performance. Given this\, there is signifi
 cant innovation happening in this area. This lecture will explain challeng
 es and considerations of point of load power converters\, how they are use
 d for AI processors and data center processors\, high performance processo
 r power delivery and trends.\n\nAbout the Speaker :\n\nIndumini Ranmuthu i
 s a distinguished member of technical staff in the power division at Texas
  Instruments. During his tenure Indumini has designed state of the art in 
 power devices and semiconductor process technology. Indumini has over fort
 y five US patents and published several IEEE papers. He received his PhD f
 rom Iowa State University. He is a distinguished lecturer for IEEE power e
 lectronics society USA and the IEEE Applied power electronics conference c
 ommittee chair for debate sessions. He is currently in the high performanc
 e processor power division at TI.\n\nSpeaker(s): Indumini Ranmuthu\n\nRoom
 : Team Room (3rd Floor) - Auditorium\, Bldg: Plug and Play Tech Center\, 4
 40 N Wolfe Rd\, Sunnyvale\, California\, United States\, 94085
LOCATION:Room: Team Room (3rd Floor) - Auditorium\, Bldg: Plug and Play Tec
 h Center\, 440 N Wolfe Rd\, Sunnyvale\, California\, United States\, 94085
ORGANIZER:rnayak3@asu.edu
SEQUENCE:17
SUMMARY:Datacenter Point of load power converters and Processor power deliv
 ery
URL;VALUE=URI:https://events.vtools.ieee.org/m/488550
X-ALT-DESC:Description: &lt;br /&gt;&lt;p&gt;&lt;strong&gt;The SFBAC (combined Santa Clara Va
 lley\, San Francisco\, &amp;amp\; Oakland/East Bay) IEEE Power Electronics Soc
 iety (PELS) &lt;/strong&gt;is very pleased to invite you to our upcoming in-pers
 on event celebrating &lt;strong&gt;PELS DAY&lt;/strong&gt;. We are excited and honored
  to have&lt;strong&gt; Dr. Indumini Ranmuthu\, Distinguished Member Technical St
 aff of the Texas Instruments and the IEEE Power Electronics Society Region
 al Distinguished Lecturer&lt;/strong&gt;&amp;nbsp\;to speak on the topic of&lt;strong&gt; 
 &amp;ldquo\;Datacenter Voltage Regulator Power Delivery Solutions&lt;/strong&gt;&lt;str
 ong&gt;&amp;rdquo\; &lt;/strong&gt;on June 26\, 2025.&lt;/p&gt;\n&lt;p&gt;Doors will open at 6:30pm
 \; the seminar will start at 7:00pm. Snacks and refreshments will be provi
 ded free of charge to all attendees.&lt;/p&gt;\n&lt;p&gt;Registration is $5\, payable 
 at the door with the exception for current students who must register with
  their *.edu emails. &lt;strong&gt;You may register ahead of time without paying
 \, but ALL ATTENDEES (except for students) will need to pay at the door.&lt;/
 strong&gt;&lt;/p&gt;\n&lt;p&gt;&lt;strong&gt;SFBAC PELS WEBSITE LINK&lt;/strong&gt;: https://r6.ieee.
 org/scv-pels/&lt;/p&gt;\n&lt;p&gt;&lt;strong&gt;Seminar Title:&lt;/strong&gt;&lt;/p&gt;\n&lt;h3&gt;Point of lo
 ad power converters and Processor power delivery&lt;/h3&gt;\n&lt;p&gt;Point of load co
 nverters are being used in a variety of applications. Efficiency\, power d
 ensity\, size\,&amp;nbsp\; cost\, transient response and output current capabi
 lity are some of the driving requirements. These requirements are severely
  challenged when powering modern data centers and AI processors.&amp;nbsp\; Th
 ese processors are demanding up to 2000 Amp &amp;nbsp\;power supply solutions 
 with increasing efficiency and transient performance. Given this\, there i
 s significant innovation happening in this area. This lecture will explain
  challenges and considerations of point of load power converters\, how the
 y are used for AI processors and data center processors\, high performance
  processor power delivery and trends.&lt;/p&gt;\n&lt;p&gt;&amp;nbsp\;&lt;/p&gt;\n&lt;p&gt;&lt;strong&gt;Abou
 t the Speaker :&lt;/strong&gt;&lt;/p&gt;\n&lt;p&gt;&lt;br&gt;&lt;strong&gt;Indumini Ranmuthu&lt;/strong&gt;&amp;nb
 sp\;is a distinguished member of technical staff in the power division at 
 Texas Instruments. During his tenure Indumini has designed state of the ar
 t in power devices and semiconductor process technology. Indumini has over
  forty five US patents and published several IEEE papers. He received his 
 PhD from Iowa State University.&amp;nbsp\;&amp;nbsp\;He is a distinguished lecture
 r for IEEE power electronics society USA and the IEEE Applied power electr
 onics conference committee chair for debate sessions. He is currently in t
 he high performance processor power division at TI.&lt;/p&gt;\n&lt;p&gt;&amp;nbsp\;&lt;/p&gt;\n&lt;
 p&gt;&amp;nbsp\;&lt;/p&gt;\n&lt;p&gt;&amp;nbsp\;&lt;/p&gt;
END:VEVENT
END:VCALENDAR

