BEGIN:VCALENDAR
VERSION:2.0
PRODID:IEEE vTools.Events//EN
CALSCALE:GREGORIAN
BEGIN:VTIMEZONE
TZID:America/Los_Angeles
BEGIN:DAYLIGHT
DTSTART:20250309T030000
TZOFFSETFROM:-0800
TZOFFSETTO:-0700
RRULE:FREQ=YEARLY;BYDAY=2SU;BYMONTH=3
TZNAME:PDT
END:DAYLIGHT
BEGIN:STANDARD
DTSTART:20251102T010000
TZOFFSETFROM:-0700
TZOFFSETTO:-0800
RRULE:FREQ=YEARLY;BYDAY=1SU;BYMONTH=11
TZNAME:PST
END:STANDARD
END:VTIMEZONE
BEGIN:VEVENT
DTSTAMP:20250626T175129Z
UID:089E7ABA-18F2-4DD2-AE70-D6F3237E3295
DTSTART;TZID=America/Los_Angeles:20250617T160000
DTEND;TZID=America/Los_Angeles:20250617T190000
DESCRIPTION:An evening for software developers to come together\, hack on s
 ide projects\, and share our work.\n\nAll skill levels welcome! You do not
  have to have a project in order to show up. Just a desire to build someth
 ing fun.\n\nOrganized with Kelowna Computing Club and Okanagan College IEE
 E Student Branch\n\nRoom: 101\, Bldg: HS\, 1000 K.L.O. Rd\, Kelowna\, Brit
 ish Columbia\, Canada\, V1V 4X8
LOCATION:Room: 101\, Bldg: HS\, 1000 K.L.O. Rd\, Kelowna\, British Columbia
 \, Canada\, V1V 4X8
ORGANIZER:ajitesh.parihar@ieee.org
SEQUENCE:4
SUMMARY:Kelowna Computing Club: Hack Night
URL;VALUE=URI:https://events.vtools.ieee.org/m/488923
X-ALT-DESC:Description: &lt;br /&gt;&lt;p&gt;An evening for software developers to come
  together\, hack on side projects\, and share our work.&lt;/p&gt;\n&lt;p&gt;All skill 
 levels welcome! You do not have to have a project in order to show up. Jus
 t a desire to build something fun.&lt;/p&gt;\n&lt;p&gt;Organized with Kelowna Computin
 g Club and Okanagan College IEEE Student Branch&lt;/p&gt;
END:VEVENT
END:VCALENDAR

