BEGIN:VCALENDAR
VERSION:2.0
PRODID:IEEE vTools.Events//EN
CALSCALE:GREGORIAN
BEGIN:VTIMEZONE
TZID:America/New_York
BEGIN:DAYLIGHT
DTSTART:20250309T030000
TZOFFSETFROM:-0500
TZOFFSETTO:-0400
RRULE:FREQ=YEARLY;BYDAY=2SU;BYMONTH=3
TZNAME:EDT
END:DAYLIGHT
BEGIN:STANDARD
DTSTART:20251102T010000
TZOFFSETFROM:-0400
TZOFFSETTO:-0500
RRULE:FREQ=YEARLY;BYDAY=1SU;BYMONTH=11
TZNAME:EST
END:STANDARD
END:VTIMEZONE
BEGIN:VEVENT
DTSTAMP:20250617T010705Z
UID:003A9B71-DB97-42CB-968E-850AF5543A11
DTSTART;TZID=America/New_York:20250612T073000
DTEND;TZID=America/New_York:20250612T130000
DESCRIPTION:[]\n\n[]\n\nTCNJ\, Ewing\, New Jersey\, United States
LOCATION:TCNJ\, Ewing\, New Jersey\, United States
ORGANIZER:kit.august@gmail.com
SEQUENCE:77
SUMMARY:NJ STEM Pathways AT&amp;T Industry Champion Award TCNJ: Careers in Tech
 nology
URL;VALUE=URI:https://events.vtools.ieee.org/m/489332
X-ALT-DESC:Description: &lt;br /&gt;&lt;p&gt;&lt;img src=&quot;https://events.vtools.ieee.org/v
 tools_ui/media/display/f05b9d5c-7707-4374-b7cc-1df6ec16186c&quot; alt=&quot;&quot; width=
 &quot;417&quot; height=&quot;513&quot;&gt;&lt;/p&gt;\n&lt;p&gt;&lt;img src=&quot;https://events.vtools.ieee.org/vtool
 s_ui/media/display/e7a26fca-207c-4335-893d-6d6004619285&quot; alt=&quot;&quot; width=&quot;417
 &quot; height=&quot;361&quot;&gt;&lt;/p&gt;\n&lt;p&gt;&lt;img src=&quot;https://events.vtools.ieee.org/vtools_ui
 /media/display/ad301d03-879a-4340-9e6a-9dad9df30a0b&quot;&gt;&lt;/p&gt;\n&lt;p&gt;&amp;nbsp\;&lt;/p&gt;
END:VEVENT
END:VCALENDAR

