BEGIN:VCALENDAR
VERSION:2.0
PRODID:IEEE vTools.Events//EN
CALSCALE:GREGORIAN
BEGIN:VTIMEZONE
TZID:America/Chicago
BEGIN:DAYLIGHT
DTSTART:20250309T030000
TZOFFSETFROM:-0600
TZOFFSETTO:-0500
RRULE:FREQ=YEARLY;BYDAY=2SU;BYMONTH=3
TZNAME:CDT
END:DAYLIGHT
BEGIN:STANDARD
DTSTART:20251102T010000
TZOFFSETFROM:-0500
TZOFFSETTO:-0600
RRULE:FREQ=YEARLY;BYDAY=1SU;BYMONTH=11
TZNAME:CST
END:STANDARD
END:VTIMEZONE
BEGIN:VEVENT
DTSTAMP:20250826T201831Z
UID:F24F0C89-3F97-40AC-A3A4-C5AA073DBB3C
DTSTART;TZID=America/Chicago:20250826T120000
DTEND;TZID=America/Chicago:20250826T130000
DESCRIPTION:The Fort Worth LMAG would like you to join us for a virtual fin
 ancial planning event. David Sandhu will present &quot;Engineering Your Legacy:
  3 Tax &amp; Legacy Blind Spots to Avoid.&quot;\nAre you building a strong financia
 l legacy—or unknowingly leaving behind tax and estate headaches for your
  loved ones? In this eye-opening session\, we will reveal the three most c
 ommon tax and legacy blind spots that professionals and retirees overlook
 —and how to fix them before it’s too late. Whether you’re nearing re
 tirement or simply want to protect what you’ve worked so hard to build\,
  you’ll walk away with actionable strategies to: - Avoid costly estate p
 lanning mistakes - Minimize taxes on your retirement income and inheritanc
 e - Ensure your legacy reflects your values—not just your assets. Don’
 t let your legacy be an afterthought. Join us and take control of the futu
 re you leave behind.\n\nCo-sponsored by: IEEE Fort Worth Section\n\nSpeake
 r(s): David Sandhu\, \n\nVirtual: https://events.vtools.ieee.org/m/490159
LOCATION:Virtual: https://events.vtools.ieee.org/m/490159
ORGANIZER:dbcollier@ymail.com
SEQUENCE:80
SUMMARY:IEEE Fort Worth Life Member Affinity Group\, Engineering Your Legac
 y: 3 Tax &amp; Legacy Blind Spots to Avoid
URL;VALUE=URI:https://events.vtools.ieee.org/m/490159
X-ALT-DESC:Description: &lt;br /&gt;&lt;p&gt;The Fort Worth LMAG would like you to join
  us for a virtual financial planning event. David Sandhu will present &quot;Eng
 ineering Your Legacy: 3 Tax &amp;amp\; Legacy Blind Spots to Avoid.&quot;&lt;/p&gt;\n&lt;div
 &gt;Are you building a strong financial legacy&amp;mdash\;or unknowingly leaving 
 behind tax and estate headaches for your loved ones? In this eye-opening s
 ession\, we will reveal the three most common tax and legacy blind spots t
 hat professionals and retirees overlook&amp;mdash\;and how to fix them before 
 it&amp;rsquo\;s too late. Whether you&amp;rsquo\;re nearing retirement or simply w
 ant to protect what you&amp;rsquo\;ve worked so hard to build\, you&amp;rsquo\;ll 
 walk away with actionable strategies to: - Avoid costly estate planning mi
 stakes - Minimize taxes on your retirement income and inheritance - Ensure
  your legacy reflects your values&amp;mdash\;not just your assets. Don&amp;rsquo\;
 t let your legacy be an afterthought. Join us and take control of the futu
 re you leave behind.&amp;nbsp\;&lt;/div&gt;\n&lt;div&gt;\n&lt;p&gt;&amp;nbsp\;&lt;/p&gt;\n&lt;/div&gt;
END:VEVENT
END:VCALENDAR

