BEGIN:VCALENDAR
VERSION:2.0
PRODID:IEEE vTools.Events//EN
CALSCALE:GREGORIAN
BEGIN:VTIMEZONE
TZID:America/Denver
BEGIN:DAYLIGHT
DTSTART:20250309T030000
TZOFFSETFROM:-0700
TZOFFSETTO:-0600
RRULE:FREQ=YEARLY;BYDAY=2SU;BYMONTH=3
TZNAME:MDT
END:DAYLIGHT
BEGIN:STANDARD
DTSTART:20251102T010000
TZOFFSETFROM:-0600
TZOFFSETTO:-0700
RRULE:FREQ=YEARLY;BYDAY=1SU;BYMONTH=11
TZNAME:MST
END:STANDARD
END:VTIMEZONE
BEGIN:VEVENT
DTSTAMP:20250709T040639Z
UID:258D62F2-8489-41C5-ADCE-76DA89F96ECC
DTSTART;TZID=America/Denver:20250707T183000
DTEND;TZID=America/Denver:20250707T194500
DESCRIPTION:Join IEEE Women in Engineering – Boise Section for a special 
 virtual event where three amazing women engineers will share the real stor
 ies behind their careers.\n\nOur amazing speakers are\n\n1) Jennifer Houle
  (Clinical Assistant Professor\, Electrical and Computer Engineering\, Boi
 se State University)\n\n2) Peijung Tsai ( Lead Systems Engineer\, L3Harris
  Technologies)\n\n3) Shanya Chaubey (HBM Product management\, Micron Techn
 ology Inc)\n\nThis event is not about resumes or job titles — it’s abo
 ut the personal journeys\, challenges\, and lessons they’ve learned alon
 g the way. You’ll hear how things like AI\, new technologies\, or change
 s at work have helped or made things harder for them.\n\n🗣️ What to e
 xpect:\n\n-\nShort talks from each speaker\n\n-\nA fun rapid-fire question
  round\n\n-\nTime for the audience to ask questions\n\n-\nSpeakers can sha
 re slides if they want to\n\nThis is a great event for students\, professi
 onals\, or anyone interested in STEM. Join us and get inspired!\n\nSpeaker
 (s): \, \, \n\nAgenda: \nTentative Agenda: WiE Unplugged\n\nDuration: 1 ho
 ur 15 mins (virtual)\nFormat: Panel-style session with short talks + audie
 nce interaction\n\n-\nWelcome &amp; Introductions – 5 minutes\n\n-\nHosted b
 y IEEE WiE Boise Section\n\n-\nBrief introduction of each speaker\n\n-\nSp
 eaker Segments – 10 minutes each. Feel free to make it as open or honest
  as you like — this event is meant to be raw\, honest\, and relatable\n\
 n- Slides are optional (3–5 max)\, and we encourage you to include anyth
 ing you feel adds impact\, such as how emerging technologies like AI\, rem
 ote work culture\, or other industry trends have influenced your work\, fo
 r better or worse.\n\n-\nRapid Fire Round – 5- 10 minutes each\n\n-\nFun
  and light questions (5 each) to keep the energy up.\n\n-\nAudience Q&amp;A 
 –5- 10 minutes\n\n-\nUnfiltered questions such as career related questio
 ns from attendees\n\n-\nClosing &amp; Thank You – 5 minutes\n\n-\nFinal take
 aways + group screenshot\n\nVirtual: https://events.vtools.ieee.org/m/4902
 24
LOCATION:Virtual: https://events.vtools.ieee.org/m/490224
ORGANIZER:ieeewieboisesection@gmail.com
SEQUENCE:222
SUMMARY:WiE Unplugged: Real Stories Behind the Resumes
URL;VALUE=URI:https://events.vtools.ieee.org/m/490224
X-ALT-DESC:Description: &lt;br /&gt;&lt;p data-start=&quot;216&quot; data-end=&quot;385&quot;&gt;Join IEEE 
 Women in Engineering &amp;ndash\; Boise Section for a special virtual event wh
 ere three amazing women engineers&amp;nbsp\;will share the real stories behind
  their careers.&lt;/p&gt;\n&lt;p data-start=&quot;216&quot; data-end=&quot;385&quot;&gt;Our amazing speake
 rs are&amp;nbsp\;&lt;/p&gt;\n&lt;p data-start=&quot;216&quot; data-end=&quot;385&quot;&gt;1) Jennifer Houle (C
 linical Assistant Professor\, Electrical and Computer Engineering\, Boise 
 State University)&lt;/p&gt;\n&lt;p data-start=&quot;216&quot; data-end=&quot;385&quot;&gt;2) Peijung Tsai 
 ( Lead Systems Engineer\, L3Harris Technologies)&lt;/p&gt;\n&lt;p data-start=&quot;216&quot; 
 data-end=&quot;385&quot;&gt;3) Shanya Chaubey (HBM Product management\, Micron Technolo
 gy Inc)&lt;/p&gt;\n&lt;p data-start=&quot;387&quot; data-end=&quot;640&quot;&gt;This event is not about re
 sumes or job titles &amp;mdash\; it&amp;rsquo\;s about the personal journeys\, cha
 llenges\, and lessons they&amp;rsquo\;ve learned along the way. You&amp;rsquo\;ll 
 hear how things like &lt;strong data-start=&quot;552&quot; data-end=&quot;576&quot;&gt;AI\, new tech
 nologies&lt;/strong&gt;\, or changes at work have helped or made things harder f
 or them.&lt;/p&gt;\n&lt;p data-start=&quot;642&quot; data-end=&quot;663&quot;&gt;🗣️ What to expect:&lt;/
 p&gt;\n&lt;ul data-start=&quot;664&quot; data-end=&quot;822&quot;&gt;\n&lt;li data-start=&quot;664&quot; data-end=&quot;6
 97&quot;&gt;\n&lt;p data-start=&quot;666&quot; data-end=&quot;697&quot;&gt;Short talks from each speaker&lt;/p&gt;
 \n&lt;/li&gt;\n&lt;li data-start=&quot;698&quot; data-end=&quot;733&quot;&gt;\n&lt;p data-start=&quot;700&quot; data-en
 d=&quot;733&quot;&gt;A fun rapid-fire question round&lt;/p&gt;\n&lt;/li&gt;\n&lt;li data-start=&quot;734&quot; d
 ata-end=&quot;776&quot;&gt;\n&lt;p data-start=&quot;736&quot; data-end=&quot;776&quot;&gt;Time for the audience t
 o ask questions&lt;/p&gt;\n&lt;/li&gt;\n&lt;li data-start=&quot;777&quot; data-end=&quot;822&quot;&gt;\n&lt;p data-
 start=&quot;779&quot; data-end=&quot;822&quot;&gt;Speakers can share slides if they want to&lt;/p&gt;\n
 &lt;/li&gt;\n&lt;/ul&gt;\n&lt;p data-start=&quot;824&quot; data-end=&quot;935&quot;&gt;This is a great event for
  students\, professionals\, or anyone interested in STEM. Join us and get 
 inspired!&lt;/p&gt;&lt;br /&gt;&lt;br /&gt;Agenda: &lt;br /&gt;&lt;h3&gt;&lt;strong&gt;Tentative Agenda: WiE U
 nplugged&lt;/strong&gt;&lt;/h3&gt;\n&lt;p&gt;&lt;strong&gt;Duration:&lt;/strong&gt; 1 hour 15 mins (virt
 ual)&lt;br&gt;&lt;strong&gt;Format:&lt;/strong&gt; Panel-style session with short talks + au
 dience interaction&lt;/p&gt;\n&lt;ol&gt;\n&lt;li&gt;\n&lt;p&gt;&lt;strong&gt;Welcome &amp;amp\; Introduction
 s&lt;/strong&gt; &amp;ndash\; 5 minutes&lt;/p&gt;\n&lt;ul&gt;\n&lt;li&gt;\n&lt;p&gt;Hosted by IEEE WiE Boise
  Section&lt;/p&gt;\n&lt;/li&gt;\n&lt;li&gt;\n&lt;p&gt;Brief introduction of each speaker&lt;/p&gt;\n&lt;/li
 &gt;\n&lt;/ul&gt;\n&lt;/li&gt;\n&lt;li&gt;\n&lt;p&gt;&lt;strong&gt;Speaker Segments&lt;/strong&gt; &amp;ndash\; 10 mi
 nutes each. Feel free to make it as open or honest as you like &amp;mdash\; th
 is event is meant to be raw\, honest\, and relatable&lt;/p&gt;\n&lt;ul&gt;\n&lt;li&gt;&lt;stron
 g&gt;Slides are optional&lt;/strong&gt; (3&amp;ndash\;5 max)\, and we encourage you to 
 include anything you feel adds impact\, such as how emerging technologies 
 like &lt;strong&gt;AI&lt;/strong&gt;\, remote work culture\, or other industry trends 
 have influenced your work\, for better or worse.&lt;/li&gt;\n&lt;/ul&gt;\n&lt;/li&gt;\n&lt;li&gt;\
 n&lt;p&gt;&lt;strong&gt;Rapid Fire Round&lt;/strong&gt; &amp;ndash\; 5- 10 minutes each&lt;/p&gt;\n&lt;ul
 &gt;\n&lt;li&gt;\n&lt;p&gt;Fun and light questions (5 each)&amp;nbsp\; to keep the energy up.
 &lt;/p&gt;\n&lt;/li&gt;\n&lt;/ul&gt;\n&lt;/li&gt;\n&lt;li&gt;\n&lt;p&gt;&lt;strong&gt;Audience Q&amp;amp\;A&lt;/strong&gt; &amp;nd
 ash\;5- 10 minutes&lt;/p&gt;\n&lt;ul&gt;\n&lt;li&gt;\n&lt;p&gt;Unfiltered questions such as career
  related questions from attendees&amp;nbsp\;&lt;/p&gt;\n&lt;/li&gt;\n&lt;/ul&gt;\n&lt;/li&gt;\n&lt;li&gt;\n&lt;
 p&gt;&lt;strong&gt;Closing &amp;amp\; Thank You&lt;/strong&gt; &amp;ndash\; 5 minutes&lt;/p&gt;\n&lt;ul&gt;\n
 &lt;li&gt;\n&lt;p&gt;Final takeaways + group screenshot&lt;/p&gt;\n&lt;/li&gt;\n&lt;/ul&gt;\n&lt;/li&gt;\n&lt;/ol
 &gt;
END:VEVENT
END:VCALENDAR

