BEGIN:VCALENDAR
VERSION:2.0
PRODID:IEEE vTools.Events//EN
CALSCALE:GREGORIAN
BEGIN:VTIMEZONE
TZID:America/Los_Angeles
BEGIN:DAYLIGHT
DTSTART:20250309T030000
TZOFFSETFROM:-0800
TZOFFSETTO:-0700
RRULE:FREQ=YEARLY;BYDAY=2SU;BYMONTH=3
TZNAME:PDT
END:DAYLIGHT
BEGIN:STANDARD
DTSTART:20251102T010000
TZOFFSETFROM:-0700
TZOFFSETTO:-0800
RRULE:FREQ=YEARLY;BYDAY=1SU;BYMONTH=11
TZNAME:PST
END:STANDARD
END:VTIMEZONE
BEGIN:VEVENT
DTSTAMP:20250710T115546Z
UID:9C459D30-AAC7-40AB-8BEF-1EF06E790D1E
DTSTART;TZID=America/Los_Angeles:20250709T173000
DTEND;TZID=America/Los_Angeles:20250709T200000
DESCRIPTION:CHEERS OCEANEERS! July 2025\n\nPLEASE note the time zone of the
  vTools event date and time. This appears to be a recent glitch or change 
 in the way vTools works\, and it may display the event in the UTC time zon
 e when you first open it\, so it looks wrong. The event is on Wednesday\, 
 July 9th\, 5:30pm California time (PDT).\n\nOur main presenter is: Vanessa
  Scott\, Director of Corporate Affiliates\, Business Development\, Industr
 y Outreach &amp; Innovation and Director of StartBlue Ocean Enterprise Acceler
 ator at Scripps Institution of Oceanography.\n\n***\n\nWelcome to the mont
 hly event for the IEEE Oceanic Engineering Society (OES)\, San Diego Chapt
 er\, which is hosting this meeting jointly along with TMA BlueTech (The Ma
 ritime Alliance)\, and MTS (Marine Technology Society).\n\nPlease join us 
 for the main presentation and also plenty of time for networking and frien
 dly conversation about everything oceanic\, engineering\, science\, Blue T
 ech\, and more. No need to be an IEEE or OES member\, or TMA\, or MTS. Eve
 ryone is invited.\n\nThis month\, we will be at Quantum Brewing again\, a 
 cool science-themed brewery founded by a biochemist.\n\nNo ticket required
 \, but please order something for yourself from the brewery.\n\nPlease gra
 b a bite from a nearby restaurant\, which is okay to bring into the brewer
 y per the owner.\n\nThe food and drinks are not being funded by the hosts.
  Please open your own tab.\n\nSpeaker(s): Vanessa Scott\n\nAgenda: \nAgend
 a:\n\n5:30pm: Arrival and networking\, order food/drinks for yourself.\n\n
 6:15pm: OES and other hosting group announcements.\n\n6:20pm: Main Present
 ation\n\n6:40pm (approximately): “open mic” for any other attendees to
  present anything they like (ocean-related\, of course).\n\nExamples: empl
 oyers presenting opportunities for employment\, job seekers presenting a q
 uick bio\, internship program opportunities\, promoting other events\, see
 king funding\, “show and tell” of any cool technology you are working 
 on\, etc.\n\n*For the open mic portion of the event\, please observe a tim
 e-limit of 3 minutes maximum per person. If you want to give a longer pres
 entation\, please ask to be the main presenter for an upcoming monthly eve
 nt.\n\n7:00pm to close: enjoy some drinks and chatting with fellow oceanic
  engineering enthusiasts.\n\nRSVPs are appreciated for planning purposes.\
 n\nBldg: Quantum Brewing\, 5375 Kearny Villa Rd\, #116\, San Diego\, Calif
 ornia\, United States\, 92123
LOCATION:Bldg: Quantum Brewing\, 5375 Kearny Villa Rd\, #116\, San Diego\, 
 California\, United States\, 92123
ORGANIZER:greg_laugle@yahoo.com
SEQUENCE:25
SUMMARY:CHEERS OCEANEERS! July 2025
URL;VALUE=URI:https://events.vtools.ieee.org/m/490339
X-ALT-DESC:Description: &lt;br /&gt;&lt;p class=&quot;MsoNormal&quot; style=&quot;margin-bottom: 10
 .5pt\; background: white\;&quot;&gt;&lt;strong&gt;&lt;span style=&quot;font-size: 14.0pt\; font-
 family: &#39;Calibri&#39;\,sans-serif\; color: black\; text-transform: uppercase\;
  mso-ligatures: none\;&quot;&gt;CHEERS OCEANEERS! July 2025&lt;/span&gt;&lt;/strong&gt;&lt;/p&gt;\n&lt;
 div&gt;\n&lt;p class=&quot;MsoNormal&quot;&gt;&lt;span style=&quot;font-family: &#39;Georgia&#39;\,serif\; ms
 o-fareast-font-family: &#39;Times New Roman&#39;\; color: #444444\; letter-spacing
 : .25pt\;&quot;&gt;PLEASE note the time zone of the vTools event date and time. &amp;n
 bsp\;This appears to be a recent glitch or change in the way vTools works\
 , and it may display the event in the UTC time zone when you first open it
 \, so it looks wrong. &amp;nbsp\;The event is on Wednesday\, July 9th\, 5:30pm
  California time (PDT).&lt;/span&gt;&lt;/p&gt;\n&lt;p class=&quot;MsoNormal&quot;&gt;&lt;span style=&quot;font
 -family: &#39;Georgia&#39;\,serif\; mso-fareast-font-family: &#39;Times New Roman&#39;\; c
 olor: #444444\; letter-spacing: .25pt\;&quot;&gt;Our main presenter is: &lt;strong&gt;Va
 nessa Scott&lt;/strong&gt;\, &lt;/span&gt;Director of Corporate Affiliates\, Business 
 Development\, Industry Outreach &amp;amp\; Innovation and&amp;nbsp\;Director of St
 artBlue Ocean Enterprise Accelerator at Scripps Institution of Oceanograph
 y.&lt;/p&gt;\n&lt;/div&gt;\n&lt;p class=&quot;MsoNormal&quot; style=&quot;margin-bottom: 7.5pt\; backgro
 und: white\;&quot;&gt;&lt;span style=&quot;font-family: Calibri\, sans-serif\; font-size: 
 12pt\;&quot;&gt;***&lt;/span&gt;&lt;/p&gt;\n&lt;p class=&quot;MsoNormal&quot; style=&quot;margin-bottom: 7.5pt\;
  background: white\;&quot;&gt;&lt;span style=&quot;font-family: Calibri\, sans-serif\; fon
 t-size: 12pt\;&quot;&gt;Welcome to the monthly event for the IEEE Oceanic Engineer
 ing Society (OES)\, San Diego Chapter\, which is hosting this meeting join
 tly along with TMA BlueTech (The Maritime Alliance)\, and MTS (Marine Tech
 nology Society).&lt;/span&gt;&lt;/p&gt;\n&lt;p class=&quot;MsoNormal&quot; style=&quot;margin-bottom: 7.
 5pt\; background: white\;&quot;&gt;&lt;span style=&quot;font-size: 12.0pt\; font-family: &#39;
 Calibri&#39;\,sans-serif\; color: black\; mso-ligatures: none\;&quot;&gt;Please join u
 s for the main presentation and also plenty of time for networking and fri
 endly conversation about everything oceanic\, engineering\, science\, Blue
  Tech\, and more.&amp;nbsp\; No need to be an IEEE or OES member\, or TMA\, or
  MTS.&amp;nbsp\; Everyone is invited.&lt;/span&gt;&lt;/p&gt;\n&lt;p class=&quot;MsoNormal&quot; style=&quot;
 margin-bottom: 7.5pt\; background: white\;&quot;&gt;This month\, we will be at Qua
 ntum Brewing again\, a cool science-themed brewery founded by a biochemist
 .&lt;/p&gt;\n&lt;p class=&quot;MsoNormal&quot; style=&quot;margin-bottom: 7.5pt\; background: whit
 e\;&quot;&gt;&lt;span style=&quot;font-size: 12.0pt\; font-family: &#39;Calibri&#39;\,sans-serif\;
  color: black\; mso-ligatures: none\;&quot;&gt;No ticket required\, but please ord
 er something for yourself from the brewery.&lt;/span&gt;&lt;/p&gt;\n&lt;p class=&quot;MsoNorma
 l&quot; style=&quot;margin-bottom: 7.5pt\; background: white\;&quot;&gt;&lt;span style=&quot;font-si
 ze: 12.0pt\; font-family: &#39;Calibri&#39;\,sans-serif\; color: black\; mso-ligat
 ures: none\;&quot;&gt;Please grab a bite from a nearby restaurant\, which is okay 
 to bring into the brewery per the owner.&lt;/span&gt;&lt;/p&gt;\n&lt;p class=&quot;MsoNormal&quot; 
 style=&quot;margin-bottom: 7.5pt\; background: white\;&quot;&gt;&lt;span style=&quot;font-size:
  12.0pt\; font-family: &#39;Calibri&#39;\,sans-serif\; color: black\; mso-ligature
 s: none\;&quot;&gt;The food and drinks are &lt;u&gt;not&lt;/u&gt; being funded by the hosts.&amp;n
 bsp\; Please open your own tab.&lt;/span&gt;&lt;/p&gt;&lt;br /&gt;&lt;br /&gt;Agenda: &lt;br /&gt;&lt;p cla
 ss=&quot;MsoNormal&quot; style=&quot;margin-bottom: 7.5pt\; background: white\;&quot;&gt;&lt;span st
 yle=&quot;font-size: 12.0pt\; font-family: &#39;Calibri&#39;\,sans-serif\; color: black
 \; mso-ligatures: none\;&quot;&gt;Agenda: &lt;/span&gt;&lt;/p&gt;\n&lt;p class=&quot;MsoNormal&quot; style=
 &quot;margin-bottom: 7.5pt\; background: white\;&quot;&gt;&lt;span style=&quot;font-size: 12.0p
 t\; font-family: &#39;Calibri&#39;\,sans-serif\; color: black\; mso-ligatures: non
 e\;&quot;&gt;5:30pm: Arrival and networking\, order food/drinks for yourself.&lt;/spa
 n&gt;&lt;/p&gt;\n&lt;p class=&quot;MsoNormal&quot; style=&quot;margin-bottom: 7.5pt\; background: whi
 te\;&quot;&gt;&lt;span style=&quot;font-size: 12.0pt\; font-family: &#39;Calibri&#39;\,sans-serif\
 ; color: black\; mso-ligatures: none\;&quot;&gt;6:15pm: OES and other hosting grou
 p announcements.&lt;/span&gt;&lt;/p&gt;\n&lt;p class=&quot;MsoNormal&quot; style=&quot;margin-bottom: 7.
 5pt\; background: white\;&quot;&gt;&lt;span style=&quot;font-size: 12.0pt\; font-family: &#39;
 Calibri&#39;\,sans-serif\; color: black\; mso-ligatures: none\;&quot;&gt;6:20pm: Main 
 Presentation&lt;/span&gt;&lt;/p&gt;\n&lt;p class=&quot;MsoNormal&quot; style=&quot;margin-bottom: 7.5pt\
 ; background: white\;&quot;&gt;&lt;span style=&quot;font-size: 12.0pt\; font-family: &#39;Cali
 bri&#39;\,sans-serif\; color: black\; mso-ligatures: none\;&quot;&gt;6:40pm (approxima
 tely): &amp;ldquo\;open mic&amp;rdquo\; for any other attendees to present anythin
 g they like (ocean-related\, of course).&lt;/span&gt;&lt;/p&gt;\n&lt;p class=&quot;MsoNormal&quot; 
 style=&quot;margin-bottom: 7.5pt\; background: white\;&quot;&gt;&lt;span style=&quot;font-size:
  12.0pt\; font-family: &#39;Calibri&#39;\,sans-serif\; color: black\; mso-ligature
 s: none\;&quot;&gt;Examples: employers presenting opportunities for employment\, j
 ob seekers presenting a quick bio\, internship program opportunities\, pro
 moting other events\, seeking funding\, &amp;ldquo\;show and tell&amp;rdquo\; of a
 ny cool technology you are working on\, etc.&lt;/span&gt;&lt;/p&gt;\n&lt;p class=&quot;MsoNorm
 al&quot; style=&quot;margin-bottom: 7.5pt\; background: white\;&quot;&gt;&lt;span style=&quot;font-s
 ize: 12.0pt\; font-family: &#39;Calibri&#39;\,sans-serif\; color: black\; mso-liga
 tures: none\;&quot;&gt;*For the open mic portion of the event\, please observe a t
 ime-limit of 3 minutes maximum per person.&amp;nbsp\; If you want to give a lo
 nger presentation\, please ask to be the main presenter for an upcoming mo
 nthly event.&lt;/span&gt;&lt;/p&gt;\n&lt;p class=&quot;MsoNormal&quot; style=&quot;margin-bottom: 7.5pt\
 ; background: white\;&quot;&gt;&lt;span style=&quot;font-size: 12.0pt\; font-family: &#39;Cali
 bri&#39;\,sans-serif\; color: black\; mso-ligatures: none\;&quot;&gt;7:00pm to close: 
 enjoy some drinks and chatting with fellow oceanic engineering enthusiasts
 .&lt;/span&gt;&lt;/p&gt;\n&lt;p class=&quot;MsoNormal&quot; style=&quot;margin-bottom: 7.5pt\; backgroun
 d: white\;&quot;&gt;&lt;span style=&quot;font-size: 12.0pt\; font-family: &#39;Calibri&#39;\,sans-
 serif\; color: black\; mso-ligatures: none\;&quot;&gt;RSVPs are appreciated for pl
 anning purposes.&lt;/span&gt;&lt;/p&gt;\n&lt;p class=&quot;MsoNormal&quot; style=&quot;margin-bottom: 7.
 5pt\; background: white\;&quot;&gt;&amp;nbsp\;&lt;/p&gt;
END:VEVENT
END:VCALENDAR

