BEGIN:VCALENDAR
VERSION:2.0
PRODID:IEEE vTools.Events//EN
CALSCALE:GREGORIAN
BEGIN:VTIMEZONE
TZID:Asia/Kolkata
BEGIN:STANDARD
DTSTART:19451014T230000
TZOFFSETFROM:+0630
TZOFFSETTO:+0530
TZNAME:IST
END:STANDARD
END:VTIMEZONE
BEGIN:VEVENT
DTSTAMP:20250715T040741Z
UID:DDC91925-2294-4DD9-93B4-E059A152DBCD
DTSTART;TZID=Asia/Kolkata:20250627T090000
DTEND;TZID=Asia/Kolkata:20250629T160000
DESCRIPTION:HACKSAGON-2025 is a premier national-level hackathon organized 
 by the IEEE Student Branch of ABV-IIITM Gwalior. Spanning across three sta
 ges and culminating in a 36-hour on-site finale\, the event brings togethe
 r bright minds from across India to tackle real-world challenges through i
 nnovative tech solutions.\n\nThe hackathon features 10 tracks – 5 in sof
 tware (like AI/ML\, Blockchain\, Web &amp; App Development) and 5 in hardware-
 software (like Smart Cities\, IoT\, AgriTech\, Healthcare\, and Disaster M
 anagement). The final round will be judged by expert panels from academia 
 and industry.\n\nPrizes worth ₹2\,50\,000+\, IEEE merchandise\, and netw
 orking opportunities await the winners. This event serves as a national pl
 atform for collaboration\, creativity\, and technical excellence.\n\nRegis
 ter at: http://www.hacksagon.in\nDeadline: March 28\, 2025\n\nCo-sponsored
  by: STB11474 - Indian Inst of Info Tech &amp; Management-Gwalior\, IEEE EPS S
 ociety M.P. Section\, IEEE MP Section\n\nAgenda: \nJune 27\, 2025\n• 09:
 00 – Opening Ceremony &amp; Briefing\n• 10:00 – Hackathon Begins (36 Hou
 rs)\n\nJune 28\, 2025\n• All-day development\, mentoring\, checkpoints\n
 \nJune 29\, 2025\n• 10:00 – Project Submissions\n• 11:00 – Project
  Presentations &amp; Jury Evaluation\n• 11:30 – Closing Ceremony &amp; Prize D
 istribution\n• 16:00 – Event Ends\n\nBldg: G-Block\, ABV-Indian Instit
 ute of Information Technology and Management (ABV-IIITM)\, Morena Link Roa
 d\, Gwalior\, Maharashtra\, India\, 474015
LOCATION:Bldg: G-Block\, ABV-Indian Institute of Information Technology and
  Management (ABV-IIITM)\, Morena Link Road\, Gwalior\, Maharashtra\, India
 \, 474015
ORGANIZER:ieeeaess.sbc@iiitm.ac.in
SEQUENCE:30
SUMMARY:HACKSAGON-2025: National Hardware and Software Hackathon by IEEE SB
  ABV-IIITM Gwalior
URL;VALUE=URI:https://events.vtools.ieee.org/m/490590
X-ALT-DESC:Description: &lt;br /&gt;&lt;p&gt;&lt;strong&gt;HACKSAGON-2025&lt;/strong&gt; is a premi
 er national-level hackathon organized by the IEEE Student Branch of ABV-II
 ITM Gwalior. Spanning across three stages and culminating in a 36-hour on-
 site finale\, the event brings together bright minds from across India to 
 tackle real-world challenges through innovative tech solutions.&lt;/p&gt;\n&lt;p&gt;Th
 e hackathon features &lt;strong&gt;10 tracks&lt;/strong&gt; &amp;ndash\; 5 in software (li
 ke AI/ML\, Blockchain\, Web &amp;amp\; App Development) and 5 in hardware-soft
 ware (like Smart Cities\, IoT\, AgriTech\, Healthcare\, and Disaster Manag
 ement). The final round will be judged by expert panels from academia and 
 industry.&lt;/p&gt;\n&lt;p&gt;&lt;strong&gt;Prizes worth ₹2\,50\,000+&lt;/strong&gt;\, IEEE merc
 handise\, and networking opportunities await the winners. This event serve
 s as a national platform for collaboration\, creativity\, and technical ex
 cellence.&lt;/p&gt;\n&lt;p&gt;Register at: &lt;a title=&quot;HACHSAGON 2025&quot; href=&quot;http://www.
 hacksagon.in&quot;&gt;http://www.hacksagon.in&lt;/a&gt;&lt;br&gt;Deadline: March 28\, 2025&lt;/p&gt;
 &lt;br /&gt;&lt;br /&gt;Agenda: &lt;br /&gt;&lt;p&gt;&lt;strong&gt;June 27\, 2025&lt;/strong&gt;&lt;br&gt;&amp;bull\; 09
 :00 &amp;ndash\; Opening Ceremony &amp;amp\; Briefing &amp;nbsp\;&lt;br&gt;&amp;bull\; 10:00 &amp;nd
 ash\; Hackathon Begins (36 Hours)&lt;/p&gt;\n&lt;p&gt;&lt;strong&gt;June 28\, 2025&lt;/strong&gt;&lt;
 br&gt;&amp;bull\; All-day development\, mentoring\, checkpoints&lt;/p&gt;\n&lt;p&gt;&lt;strong&gt;J
 une 29\, 2025&lt;/strong&gt;&lt;br&gt;&amp;bull\; 10:00 &amp;ndash\; Project Submissions &amp;nbsp
 \;&lt;br&gt;&amp;bull\; 11:00 &amp;ndash\; Project Presentations &amp;amp\; Jury Evaluation 
 &amp;nbsp\;&lt;br&gt;&amp;bull\; 11:30 &amp;ndash\; Closing Ceremony &amp;amp\; Prize Distributi
 on &amp;nbsp\;&lt;br&gt;&amp;bull\; 16:00 &amp;ndash\; Event Ends&lt;/p&gt;
END:VEVENT
END:VCALENDAR

