BEGIN:VCALENDAR
VERSION:2.0
PRODID:IEEE vTools.Events//EN
CALSCALE:GREGORIAN
BEGIN:VTIMEZONE
TZID:America/Chicago
BEGIN:DAYLIGHT
DTSTART:20250309T030000
TZOFFSETFROM:-0600
TZOFFSETTO:-0500
RRULE:FREQ=YEARLY;BYDAY=2SU;BYMONTH=3
TZNAME:CDT
END:DAYLIGHT
BEGIN:STANDARD
DTSTART:20251102T010000
TZOFFSETFROM:-0500
TZOFFSETTO:-0600
RRULE:FREQ=YEARLY;BYDAY=1SU;BYMONTH=11
TZNAME:CST
END:STANDARD
END:VTIMEZONE
BEGIN:VEVENT
DTSTAMP:20250723T040622Z
UID:8CA5D85B-C53E-4703-86A8-C517E46AD640
DTSTART;TZID=America/Chicago:20250718T180000
DTEND;TZID=America/Chicago:20250718T200000
DESCRIPTION:You are invited to join us on Friday\, July 18\, 2025\, at Avan
 ti&#39;s Italian Restaurant in Normal\, IL for an informal networking dinner o
 rganized by the IEEE Central Illinois Section. This event is open to all I
 EEE member grades\, including students and graduate students.\n\nREGISTER 
 IF ATTENDING:\n\nRegistration is complimentary. However\, please note that
  all attendees are responsible for their own bills. Registration ends the 
 morning of the event\, or when all spaces have filled.\n\nBRINGING AN ADDI
 TIONAL GUEST?\n\nIf registering\, please indicate if you plan to bring any
  guests. IEEE members may bring a nonmember guest.\n\nPARKING INFORMATION:
 \n\nAvanti&#39;s Italian Restaurant has a parking lot and several spaces and h
 andicap spaces adjacent to the building.\n\nDRESS CODE:\n\nThis event has 
 no explicit dress code\, however casual\, semi-casual\, and business casua
 l seem common at the venue.\n\nABOUT US:\n\nFormed as part of the American
  Institute of Electrical Engineers (AIEE) on June 28th\, 1951\; the IEEE C
 entral Illinois Section serves members in Champaign\, Springfield\, Bloomi
 ngton\, Peoria\, Quincy\, Decatur\, and their surrounding areas.\n\nAvanti
 &#39;s Italian Restaurant\, 407 S Main St.\, Normal\, Illinois\, United States
 \, 61761
LOCATION:Avanti&#39;s Italian Restaurant\, 407 S Main St.\, Normal\, Illinois\,
  United States\, 61761
ORGANIZER:cils-chair@ieee.org
SEQUENCE:10
SUMMARY:IEEE Central Illinois Networking Event in Normal
URL;VALUE=URI:https://events.vtools.ieee.org/m/490636
X-ALT-DESC:Description: &lt;br /&gt;&lt;p&gt;You are invited to join us on Friday\, Jul
 y 18\, 2025\, at Avanti&#39;s Italian Restaurant in Normal\, IL for an informa
 l networking dinner organized by the IEEE Central Illinois Section.&amp;nbsp\;
  This event is open to all IEEE member grades\, including students and gra
 duate students.&lt;/p&gt;\n&lt;p&gt;&lt;strong&gt;REGISTER IF ATTENDING:&lt;/strong&gt;&lt;/p&gt;\n&lt;p&gt;Re
 gistration is complimentary. &amp;nbsp\;However\, please note that all attende
 es are responsible for their own bills. &amp;nbsp\;Registration ends the morni
 ng of the event\, or when all spaces have filled.&lt;/p&gt;\n&lt;p&gt;&lt;strong&gt;BRINGING
  AN ADDITIONAL GUEST?&lt;/strong&gt;&lt;/p&gt;\n&lt;p&gt;If registering\, please indicate if
  you plan to bring any guests. &amp;nbsp\;IEEE members may bring a nonmember g
 uest.&lt;/p&gt;\n&lt;p&gt;&lt;strong&gt;PARKING INFORMATION:&lt;/strong&gt;&lt;/p&gt;\n&lt;p&gt;Avanti&#39;s Itali
 an Restaurant has a parking lot and several spaces and handicap spaces adj
 acent to the building.&lt;/p&gt;\n&lt;p&gt;&lt;strong&gt;DRESS CODE:&lt;/strong&gt;&lt;/p&gt;\n&lt;p&gt;This e
 vent has no explicit dress code\, however casual\, semi-casual\, and busin
 ess casual seem common at the venue.&lt;/p&gt;\n&lt;p&gt;&lt;strong&gt;ABOUT US:&lt;/strong&gt;&lt;/p
 &gt;\n&lt;p&gt;Formed as part of the American Institute of Electrical Engineers (AI
 EE) on June 28th\, 1951\; the IEEE Central Illinois Section serves members
  in Champaign\, Springfield\, Bloomington\, Peoria\, Quincy\, Decatur\, an
 d their surrounding areas.&lt;/p&gt;
END:VEVENT
END:VCALENDAR

