BEGIN:VCALENDAR
VERSION:2.0
PRODID:IEEE vTools.Events//EN
CALSCALE:GREGORIAN
BEGIN:VTIMEZONE
TZID:America/New_York
BEGIN:DAYLIGHT
DTSTART:20250309T030000
TZOFFSETFROM:-0500
TZOFFSETTO:-0400
RRULE:FREQ=YEARLY;BYDAY=2SU;BYMONTH=3
TZNAME:EDT
END:DAYLIGHT
BEGIN:STANDARD
DTSTART:20251102T010000
TZOFFSETFROM:-0400
TZOFFSETTO:-0500
RRULE:FREQ=YEARLY;BYDAY=1SU;BYMONTH=11
TZNAME:EST
END:STANDARD
END:VTIMEZONE
BEGIN:VEVENT
DTSTAMP:20250708T035422Z
UID:F3EEEEDB-4470-4AA8-AE0B-B8F9D8C86A33
DTSTART;TZID=America/New_York:20250707T200000
DTEND;TZID=America/New_York:20250707T210000
DESCRIPTION:We celebrate IEEE Women in Engineering with a Watch Party--a un
 ique interview with\n\nProfessor Ana Garcia Armada\, PhD IEEE Fellow who h
 as a fascinating Career in Technology with\n\nsignificant impact in the fi
 eld of Communications.\n\nJoin the Watch Party.\n\nProfessor Ana Garcia Ar
 mada\, PhD IEEE Fellow\n\nShort bio\nAna Garcia Armada is an IEEE Fellow. 
 She is currently a Professor at Universidad Carlos III de Madrid\, Spain\,
  where she has\nserved in a variety of management positions (Head of Signa
 l Theory and Communications Department\, Vice-dean of\nElectrical Engineer
 ing\, Deputy Vice-Chancellor of International Relations). She is leading t
 he Communications Research Group\nat this university. She has been a visit
 ing scholar at Stanford University\, Bell Labs and University of Southampt
 on. She has\nparticipated and coordinated a large number of national and i
 nternational research projects as well as contracts with\nthe industry. Sh
 e is the co-author of eight book chapters on wireless communications and s
 ignal processing.\nShe has published more than 250 papers in international
  journals and conference proceedings and she\nholds six granted patents. S
 he is serving on the editorial board of IEEE Open Journal of the Communica
 tions Society\n(Associate Editor in Chief since 2024) and ITU Journal on F
 uture and Evolving Technologies.\nShe is the Chair of the IEEE ComSoc Sign
 al Processing and Computing for Communications technical committee and\nth
 e Vice President of Member and Global Activities of IEEE ComSoc. She has b
 een awarded the third place Bell Labs Prize\nfor shaping the future of inf
 ormation and communications technology. She has received the outstanding s
 ervice award\nfrom the IEEE ComSoc Signal Processing and Communications El
 ectronics technical committee\, the outstanding service award\nfrom the IE
 EE ComSoc Women in Communications Engineering Standing Committee\, and the
 \nIEEE ComSoc/KICS Exemplary Global Service award.\n\nInterview with Ana G
 arcia Armada\, PhD: Careers in Technology\, A Watch Party WIE Day 2025\n\n
 Virtual: https://events.vtools.ieee.org/m/491353
LOCATION:Virtual: https://events.vtools.ieee.org/m/491353
ORGANIZER:kit@ieee.org
SEQUENCE:100
SUMMARY:Interview Ana Garcia Armada\, PhD: Careers in Technology Watch Part
 y WIE Day 2025
URL;VALUE=URI:https://events.vtools.ieee.org/m/491353
X-ALT-DESC:Description: &lt;br /&gt;&lt;p&gt;&lt;img src=&quot;https://events.vtools.ieee.org/v
 tools_ui/media/display/1ce67b44-4d52-48d2-9017-b3a4aa49cb61&quot; width=&quot;582&quot; h
 eight=&quot;102&quot;&gt;&lt;/p&gt;\n&lt;p&gt;We celebrate IEEE Women in Engineering with a Watch P
 arty--a unique interview with&lt;/p&gt;\n&lt;p&gt;Professor Ana Garcia Armada\, PhD IE
 EE Fellow who has a fascinating Career in Technology with&lt;/p&gt;\n&lt;p&gt;signific
 ant impact in the field of Communications.&amp;nbsp\;&lt;/p&gt;\n&lt;p&gt;Join the Watch P
 arty.&lt;/p&gt;\n&lt;p&gt;&lt;img src=&quot;https://events.vtools.ieee.org/vtools_ui/media/dis
 play/be3a3e4c-d548-458e-9a86-f9c4404f9c0c&quot; width=&quot;586&quot; height=&quot;77&quot;&gt;&lt;/p&gt;\n&lt;
 p&gt;&lt;img src=&quot;https://events.vtools.ieee.org/vtools_ui/media/display/072bd85
 c-cd39-4e6c-99cb-4870033a2056&quot;&gt;&lt;/p&gt;\n&lt;p&gt;&amp;nbsp\;&lt;/p&gt;\n&lt;p&gt;Professor Ana Garc
 ia Armada\, PhD IEEE Fellow&lt;/p&gt;\n&lt;p class=&quot;MsoNormal&quot; style=&quot;line-height: 
 115%\; mso-pagination: none\; tab-stops: 78.0pt\;&quot;&gt;&lt;strong style=&quot;mso-bidi
 -font-weight: normal\;&quot;&gt;&lt;span lang=&quot;EN-GB&quot; style=&quot;mso-bidi-font-size: 12.0
 pt\; line-height: 115%\; font-family: &#39;Calibri&#39;\,sans-serif\; mso-ascii-th
 eme-font: minor-latin\; mso-hansi-theme-font: minor-latin\; mso-bidi-theme
 -font: minor-latin\; color: black\; mso-themecolor: text1\;&quot;&gt;Short bio&lt;/sp
 an&gt;&lt;/strong&gt;&lt;/p&gt;\n&lt;pre style=&quot;text-align: justify\;&quot;&gt;&lt;span lang=&quot;EN-GB&quot; st
 yle=&quot;font-size: 12.0pt\; font-family: &#39;Calibri&#39;\,sans-serif\; mso-ansi-lan
 guage: EN-GB\;&quot;&gt;Ana Garcia Armada is an IEEE Fellow. She is currently a Pr
 ofessor at Universidad Carlos III de Madrid\, Spain\, where she has &lt;br&gt;se
 rved in a variety of management positions (Head of Signal Theory and Commu
 nications Department\, Vice-dean of &lt;br&gt;Electrical Engineering\, Deputy Vi
 ce-Chancellor of International Relations). She is leading the Communicatio
 ns Research Group &lt;br&gt;at this university. She has been a visiting scholar 
 at Stanford University\, Bell Labs and University of Southampton. She has 
 &lt;br&gt;participated and coordinated a large number of national and internatio
 nal research projects as well as contracts with &lt;br&gt;the industry. She is t
 he co-author of eight book chapters on wireless communications and signal 
 processing. &lt;br&gt;She has published more than 250 papers in international jo
 urnals and conference proceedings and she &lt;br&gt;holds six granted patents. S
 he is serving on the editorial board of IEEE Open Journal of the Communica
 tions Society &lt;br&gt;(Associate Editor in Chief since 2024) and ITU Journal o
 n Future and Evolving Technologies. &lt;br&gt;She is the Chair of the IEEE ComSo
 c Signal Processing and Computing for Communications technical committee a
 nd &lt;br&gt;the Vice President of Member and Global Activities of IEEE ComSoc. 
 She has been awarded the third place Bell Labs Prize &lt;br&gt;for shaping the f
 uture of information and communications technology. She has received the o
 utstanding service award &lt;br&gt;from the IEEE ComSoc Signal Processing and Co
 mmunications Electronics technical committee\, the outstanding service awa
 rd &lt;br&gt;from the IEEE ComSoc Women in Communications Engineering Standing C
 ommittee\, and the &lt;br&gt;IEEE ComSoc/KICS Exemplary Global Service award.&lt;br
 &gt;&lt;br&gt;Interview with Ana Garcia Armada\, PhD: Careers in Technology\, A Wat
 ch Party WIE Day 2025&lt;br&gt;&lt;/span&gt;&lt;/pre&gt;
END:VEVENT
END:VCALENDAR

