BEGIN:VCALENDAR
VERSION:2.0
PRODID:IEEE vTools.Events//EN
CALSCALE:GREGORIAN
BEGIN:VTIMEZONE
TZID:America/Los_Angeles
BEGIN:DAYLIGHT
DTSTART:20250309T030000
TZOFFSETFROM:-0800
TZOFFSETTO:-0700
RRULE:FREQ=YEARLY;BYDAY=2SU;BYMONTH=3
TZNAME:PDT
END:DAYLIGHT
BEGIN:STANDARD
DTSTART:20251102T010000
TZOFFSETFROM:-0700
TZOFFSETTO:-0800
RRULE:FREQ=YEARLY;BYDAY=1SU;BYMONTH=11
TZNAME:PST
END:STANDARD
END:VTIMEZONE
BEGIN:VEVENT
DTSTAMP:20250731T200152Z
UID:D8A759AE-B8CB-46FC-84E2-37FF6813D81C
DTSTART;TZID=America/Los_Angeles:20250813T090000
DTEND;TZID=America/Los_Angeles:20250818T235900
DESCRIPTION:[]\n\nHi IEEE Members and Student Members in Vancouver\,\n\nAs 
 you may know\, the World Science Fiction Convention is coming to Seattle f
 rom 13-17 August 2025! Attendees at this event have the right to cast a vo
 te for the winners of the Hugo award!\n\n[https://seattlein2025.org](https
 ://seattlein2025.org/)\n\nIEEE will be there\, and you have an opportunity
  to attend and contribute as an IEEE member or student member alongside yo
 ur peers from Seattle Section for a day\, for a few days\, or for the enti
 re event. We’re hoping for a good turnout from Vancouver on the weekend:
  Fri\, 15 August\, Sat\, 16 August and Sun\, 17 August.\n\nInstructions fo
 r registering for the conference can be found at\n\nhttps://seattlein2025.
 org/memberships/memberships/ .\n\nYou have multiple options including day 
 passes\, full conference registration\, etc.\n\nIEEE will have a booth at 
 Worldcon. If you would like to volunteer to join a shift or two\, please l
 et us know!\n\nIEEE members like myself\, Alon Newton\, John Vertner\, and
  Tom Coughlin (2024 President) will be at Worldcon. We hope that you can j
 oin us!\n\nIn the meantime\, please help us plan ahead by registering thro
 ugh this vTools page so that we can gauge interest and keep you informed. 
 At this point\, you’re simply expressing interest. Final confirmation wo
 n’t be required for a week or two.\n\nDavid Michelson\nCounsellor\, IEEE
  Student Branch @ UBC\n\nBldg: Summit Expansion\, Seattle Convention Cente
 r\, 900 Pine Street\, Seattle\, Washington\, United States\, 98101
LOCATION:Bldg: Summit Expansion\, Seattle Convention Center\, 900 Pine Stre
 et\, Seattle\, Washington\, United States\, 98101
ORGANIZER:dmichelson@ieee.org
SEQUENCE:53
SUMMARY:IEEE Vancouver @ Worldcon 2025 in Seattle
URL;VALUE=URI:https://events.vtools.ieee.org/m/491664
X-ALT-DESC:Description: &lt;br /&gt;&lt;div&gt;&lt;em&gt;&lt;img src=&quot;https://events.vtools.ieee
 .org/vtools_ui/media/display/ed85124c-e608-494a-8f66-63204aa24de8&quot; alt=&quot;&quot; 
 width=&quot;785&quot; height=&quot;261&quot;&gt;&lt;/em&gt;&lt;/div&gt;\n&lt;div&gt;&amp;nbsp\;&lt;/div&gt;\n&lt;div&gt;\n&lt;div&gt;&lt;em&gt;
 Hi IEEE Members and Student Members in Vancouver\,&lt;/em&gt;&lt;/div&gt;\n&lt;div&gt;&lt;em&gt;&amp;n
 bsp\;&lt;/em&gt;&lt;/div&gt;\n&lt;div&gt;&lt;em&gt;As you may know\, the World Science&amp;nbsp\;Ficti
 on Convention is coming to Seattle from 13-17 August 2025! Attendees at th
 is event have the right to cast a vote for the winners of the Hugo award!&lt;
 /em&gt;&lt;/div&gt;\n&lt;div&gt;&amp;nbsp\;&lt;/div&gt;\n&lt;div&gt;&lt;em&gt;&amp;nbsp\; &amp;nbsp\;&lt;a href=&quot;https://s
 eattlein2025.org/&quot;&gt;https://seattlein2025.org&lt;/a&gt;&lt;/em&gt;&lt;/div&gt;\n&lt;div&gt;&amp;nbsp\;&lt;
 /div&gt;\n&lt;div&gt;&lt;em&gt;IEEE will be there\, and you have an opportunity to attend
  and contribute as an IEEE member or student member alongside your peers f
 rom Seattle Section for a day\, for a few days\, or for the entire event. 
 &amp;nbsp\;We&amp;rsquo\;re hoping for a good turnout from Vancouver on the weeken
 d: Fri\, 15 August\, Sat\, 16 August and Sun\, 17 August. &amp;nbsp\;&lt;/em&gt;&lt;/di
 v&gt;\n&lt;div&gt;&lt;em&gt;&amp;nbsp\;&lt;/em&gt;&lt;/div&gt;\n&lt;div&gt;&lt;em&gt;Instructions for registering for
  the conference can be found at&lt;/em&gt;&lt;/div&gt;\n&lt;div&gt;&amp;nbsp\;&lt;/div&gt;\n&lt;div&gt;&lt;em&gt;&amp;
 nbsp\; &amp;nbsp\;&lt;span style=&quot;color: #e37222\;&quot;&gt;&lt;a href=&quot;https://seattlein202
 5.org/memberships/memberships/&quot;&gt;https://seattlein2025.org/memberships/memb
 erships/&lt;/a&gt;&lt;/span&gt;&amp;nbsp\;.&lt;/em&gt;&lt;/div&gt;\n&lt;div&gt;&amp;nbsp\;&lt;/div&gt;\n&lt;div&gt;&lt;em&gt;You h
 ave multiple options including day passes\, full conference&amp;nbsp\;registra
 tion\, etc.&lt;/em&gt;&lt;/div&gt;\n&lt;div&gt;&amp;nbsp\;&lt;/div&gt;\n&lt;div&gt;IEEE will have a booth at
  Worldcon. If you would like to volunteer to join a shift or two\, please 
 let us know!&lt;/div&gt;\n&lt;div&gt;&lt;em&gt;&amp;nbsp\;&lt;/em&gt;&lt;/div&gt;\n&lt;div&gt;&lt;em&gt;IEEE members lik
 e myself\, Alon Newton\, John Vertner\, and Tom Coughlin (2024 President) 
 will be at Worldcon. We hope that you can join us!&lt;/em&gt;&lt;/div&gt;\n&lt;div&gt;&lt;em&gt;&amp;n
 bsp\;&lt;/em&gt;&lt;/div&gt;\n&lt;div&gt;&lt;em&gt;In the meantime\, please help us plan ahead by 
 registering through this vTools page so that we can gauge interest and kee
 p you informed. &amp;nbsp\;At this point\, you&amp;rsquo\;re simply expressing int
 erest. Final confirmation won&amp;rsquo\;t be required for a week or two.&lt;/em&gt;
 &lt;/div&gt;\n&lt;/div&gt;\n&lt;div&gt;&amp;nbsp\;&lt;/div&gt;\n&lt;div&gt;&lt;em&gt;David Michelson&lt;/em&gt;&lt;/div&gt;\n&lt;
 div&gt;&lt;em&gt;Counsellor\, IEEE Student Branch @ UBC&lt;/em&gt;&lt;/div&gt;
END:VEVENT
END:VCALENDAR

