BEGIN:VCALENDAR
VERSION:2.0
PRODID:IEEE vTools.Events//EN
CALSCALE:GREGORIAN
BEGIN:VTIMEZONE
TZID:America/New_York
BEGIN:DAYLIGHT
DTSTART:20250309T030000
TZOFFSETFROM:-0500
TZOFFSETTO:-0400
RRULE:FREQ=YEARLY;BYDAY=2SU;BYMONTH=3
TZNAME:EDT
END:DAYLIGHT
BEGIN:STANDARD
DTSTART:20251102T010000
TZOFFSETFROM:-0400
TZOFFSETTO:-0500
RRULE:FREQ=YEARLY;BYDAY=1SU;BYMONTH=11
TZNAME:EST
END:STANDARD
END:VTIMEZONE
BEGIN:VEVENT
DTSTAMP:20250731T152700Z
UID:CE51ABD2-BB67-4066-B575-8B66419A6FD5
DTSTART;TZID=America/New_York:20250729T170000
DTEND;TZID=America/New_York:20250729T184500
DESCRIPTION:Pratt &amp; Whitney Asheville Plant Tour Tuesday July 29th at 5:00P
 M\n\nRegistration Closes Monday July 21st to allow Pratt to review guest l
 ist.\n\nPratt &amp; Whitney\, a global aerospace manufacturer\, has recently e
 xpanding its turbine airfoil manufacturing operations in Asheville.\n\nDav
 id Lanier\, Associate Director\, DT Global Site Support Lead will lead our
  tour and provide information about their computer integrated manufacturin
 g efforts including topics such as Industry 4.0\, Digital Factory\, Digita
 l Twin Technologies. If you have any specific information you would like t
 o address or questions email them to Kent Green at greeniebees@hotmail.com
  and he will pass them to David to make sure he addresses them if possible
 .\n\nThere are a few requirements for attending the tour:\n\nRequired that
  all participants are US persons (Citizens\, or green card holders). Howev
 er\, there are restricted countries that we cannot accept at this time:\n\
 n- Afghanistan\, Belarus\, Burma\, Cambodia\, Central African Republic\, C
 hina (PRC)\, Cuba\, Cyprus\, Democratic Republic of the Congo\, Eritrea\, 
 Ethiopia\, Haiti\, Hong Kong\, Iran\, Iraq\, Kyrgyzstan\, Lebanon\, Libya\
 , Nicaragua\, North Korea\, Russia\, Somalia\, South Sudan\, Sudan\, Syria
 \, Venezuela\, Zimbabwe\n\nWe Need You Provide your Name and Citizenship S
 tatus (in Advance of Tour):\n\n- Full Name (as appears on passport / birth
  certificate)\n- US Citizen?\n- If not\, US Person / Greencard holder?\n- 
 Countr(ies) of citizenship\n\nWe also require:\n\nSteel Toe Shoes and Safe
 ty Glasses.\n\nThese items will be provided for those who do not have them
 .\n\nBut Please let us know in advance if you need them so that we can pre
 pare.\n\nAfter the Tour we will gather for Informal Social Meal at an esta
 blishment close by.\n\nSpeaker(s): David\, \n\nRoom: TBD\, Bldg: TBD\, Pra
 tt and Whitney Blvd\, TBD\, Asheville\, North Carolina\, United States\, 2
 8803
LOCATION:Room: TBD\, Bldg: TBD\, Pratt and Whitney Blvd\, TBD\, Asheville\,
  North Carolina\, United States\, 28803
ORGANIZER:greeniebees@hotmail.com
SEQUENCE:20
SUMMARY:Pratt &amp; Whitney Asheville Plant Tour
URL;VALUE=URI:https://events.vtools.ieee.org/m/491889
X-ALT-DESC:Description: &lt;br /&gt;&lt;p class=&quot;x_MsoNormal&quot;&gt;&lt;strong&gt;&lt;span data-olk
 -copy-source=&quot;MessageBody&quot;&gt;Pratt &amp;amp\; Whitney Asheville Plant Tour Tuesd
 ay July 29th at 5:00PM&lt;/span&gt;&lt;/strong&gt;&lt;/p&gt;\n&lt;p class=&quot;x_MsoNormal&quot;&gt;&lt;strong
 &gt;&lt;span data-olk-copy-source=&quot;MessageBody&quot;&gt;Registration Closes Monday July 
 21st to allow Pratt to review guest list.&lt;/span&gt;&lt;/strong&gt;&lt;/p&gt;\n&lt;p class=&quot;x
 _MsoNormal&quot;&gt;&lt;span data-olk-copy-source=&quot;MessageBody&quot;&gt;Pratt &amp;amp\; Whitney\
 , a global aerospace manufacturer\, has recently expanding its turbine air
 foil manufacturing operations in Asheville.&amp;nbsp\;&amp;nbsp\;&lt;/span&gt;&lt;/p&gt;\n&lt;p c
 lass=&quot;x_MsoNormal&quot;&gt;&lt;span data-olk-copy-source=&quot;MessageBody&quot;&gt;David Lanier\,
  Associate Director\, DT Global Site Support Lead will lead our tour and p
 rovide information about their computer integrated manufacturing efforts i
 ncluding topics such as &lt;/span&gt;Industry 4.0\, Digital Factory\, &lt;span data
 -olk-copy-source=&quot;MessageBody&quot;&gt;Digital Tw&lt;/span&gt;in Technologies.&amp;nbsp\; If
  you have any specific information you would like to address or questions 
 email them to Kent Green at &lt;a href=&quot;mailto:greeniebees@hotmail.com&quot;&gt;green
 iebees@hotmail.com&lt;/a&gt; and he will pass them to David to make sure he addr
 esses them if possible.&lt;/p&gt;\n&lt;p class=&quot;x_MsoNormal&quot;&gt;&lt;strong&gt;&lt;em&gt;&lt;span styl
 e=&quot;color: rgb(0\, 0\, 0)\;&quot; data-olk-copy-source=&quot;MessageBody&quot;&gt;There are a
  few requirements for attending the tour:&lt;/span&gt;&lt;/em&gt;&lt;/strong&gt;&lt;/p&gt;\n&lt;p cla
 ss=&quot;x_MsoNormal&quot;&gt;&lt;span data-olk-copy-source=&quot;MessageBody&quot;&gt;Required that al
 l participants are US persons (Citizens\, or green card holders). However\
 , there are restricted countries that we cannot accept at this time:&lt;/span
 &gt;&lt;/p&gt;\n&lt;ul type=&quot;disc&quot;&gt;\n&lt;li class=&quot;x_MsoListParagraph&quot;&gt;Afghanistan\, Bela
 rus\, Burma\, Cambodia\, Central African Republic\, China (PRC)\, Cuba\, C
 yprus\, Democratic Republic of the Congo\, Eritrea\, Ethiopia\, Haiti\, Ho
 ng Kong\, Iran\, Iraq\, Kyrgyzstan\, Lebanon\, Libya\, Nicaragua\, North K
 orea\, Russia\, Somalia\, South Sudan\, Sudan\, Syria\, Venezuela\, Zimbab
 we&lt;/li&gt;\n&lt;/ul&gt;\n&lt;p&gt;&lt;strong&gt;We Need You Provide your Name and Citizenship S
 tatus (&lt;em&gt;in Advance of Tour)&lt;/em&gt;:&lt;/strong&gt;&lt;/p&gt;\n&lt;ul type=&quot;disc&quot;&gt;\n&lt;li c
 lass=&quot;x_MsoListParagraph&quot;&gt;&lt;span data-olk-copy-source=&quot;MessageBody&quot;&gt;Full Na
 me (as appears on passport / birth certificate)&lt;/span&gt;&lt;/li&gt;\n&lt;li class=&quot;x_
 MsoListParagraph&quot;&gt;US Citizen?\n&lt;ul type=&quot;circle&quot;&gt;\n&lt;li class=&quot;x_MsoListPar
 agraph&quot;&gt;If not\, US Person / Greencard holder?\n&lt;ul type=&quot;square&quot;&gt;\n&lt;li cl
 ass=&quot;x_MsoListParagraph&quot;&gt;Countr(ies) of citizenship&lt;/li&gt;\n&lt;/ul&gt;\n&lt;/li&gt;\n&lt;/
 ul&gt;\n&lt;/li&gt;\n&lt;/ul&gt;\n&lt;p class=&quot;x_MsoNormal&quot;&gt;We also require:&lt;/p&gt;\n&lt;p class=&quot;
 x_MsoNormal&quot;&gt;&lt;strong&gt;Steel Toe Shoes and Safety Glasses.&lt;/strong&gt;&amp;nbsp\;&lt;/
 p&gt;\n&lt;p class=&quot;x_MsoNormal&quot;&gt;These items will be provided for those who do n
 ot have them.&lt;/p&gt;\n&lt;p class=&quot;x_MsoNormal&quot;&gt;But Please let us know in advanc
 e if you need them so that we can prepare.&lt;/p&gt;\n&lt;p class=&quot;x_MsoNormal&quot;&gt;&lt;st
 rong&gt;After the Tour we will gather for Informal Social Meal at an establis
 hment&amp;nbsp\;close by.&lt;/strong&gt;&lt;/p&gt;
END:VEVENT
END:VCALENDAR

