BEGIN:VCALENDAR
VERSION:2.0
PRODID:IEEE vTools.Events//EN
CALSCALE:GREGORIAN
BEGIN:VTIMEZONE
TZID:America/Chicago
BEGIN:DAYLIGHT
DTSTART:20250309T030000
TZOFFSETFROM:-0600
TZOFFSETTO:-0500
RRULE:FREQ=YEARLY;BYDAY=2SU;BYMONTH=3
TZNAME:CDT
END:DAYLIGHT
BEGIN:STANDARD
DTSTART:20251102T010000
TZOFFSETFROM:-0500
TZOFFSETTO:-0600
RRULE:FREQ=YEARLY;BYDAY=1SU;BYMONTH=11
TZNAME:CST
END:STANDARD
END:VTIMEZONE
BEGIN:VEVENT
DTSTAMP:20250709T041249Z
UID:CD17D407-5D3D-49E7-9FE7-BFD04013FE6A
DTSTART;TZID=America/Chicago:20250730T180000
DTEND;TZID=America/Chicago:20250730T210000
DESCRIPTION:Join us for an evening of networking and fun at Banger&#39;s Sausag
 e House &amp; Beer Garden! There is no registration fee\, and everyone is free
  to come. We&#39;ll be there between the hours of 6 and 9\, so feel free to sh
 ow up at whichever time that works best with your schedule!\n\n79 Rainey S
 t\, Austin\, Texas\, United States\, 78701
LOCATION:79 Rainey St\, Austin\, Texas\, United States\, 78701
ORGANIZER:t.nukala@ieee.org
SEQUENCE:83
SUMMARY:July Networking Social
URL;VALUE=URI:https://events.vtools.ieee.org/m/492143
X-ALT-DESC:Description: &lt;br /&gt;&lt;p&gt;Join us for an evening of networking and f
 un at Banger&#39;s Sausage House &amp;amp\; Beer Garden! There is no registration 
 fee\, and everyone is free to come. We&#39;ll be there between the hours of 6 
 and 9\, so feel free to show up at whichever time that works best with you
 r schedule!&lt;/p&gt;
END:VEVENT
END:VCALENDAR

