BEGIN:VCALENDAR
VERSION:2.0
PRODID:IEEE vTools.Events//EN
CALSCALE:GREGORIAN
BEGIN:VTIMEZONE
TZID:Africa/Casablanca
BEGIN:DAYLIGHT
DTSTART:20250406T030000
TZOFFSETFROM:+0000
TZOFFSETTO:+0100
RRULE:FREQ=YEARLY;BYDAY=1SU;BYMONTH=4
TZNAME:+01
END:DAYLIGHT
BEGIN:STANDARD
DTSTART:20260215T020000
TZOFFSETFROM:+0100
TZOFFSETTO:+0000
RRULE:FREQ=YEARLY;BYDAY=3SU;BYMONTH=2
TZNAME:+00
END:STANDARD
END:VTIMEZONE
BEGIN:VEVENT
DTSTAMP:20251207T100537Z
UID:A59F3BF7-1FD3-4EF8-9E27-A559982C10AD
DTSTART;TZID=Africa/Casablanca:20251120T080000
DTEND;TZID=Africa/Casablanca:20251123T150000
DESCRIPTION:We are proud to announce the technical co-sponsorship of the IE
 EE International Conference on Recent Advances in Mathematics and Informat
 ics (IEEE ICRAMI 2025)\, set to take place in the historic and vibrant cit
 y of Tunis\, Tunisia\, in September 2025.\n\nOur Chapter&#39;s Role:\n\nThe SM
 C TN Chapter will focus on sessions related to systems science\, human-mac
 hine systems\, and cybernetics. They will help shape the technical program
  by suggesting expert speakers and collaborating on the organization of ro
 undtables and panel discussions that align with their expertise\n\nTopics 
 of Interest Include (but are not limited to):\n\n-\nApplied Mathematics\, 
 Numerical Analysis\, Partial Differential Equations\n\n-\nComputer Science
 \, Software Engineering\, Information Systems\n\n-\nMachine Learning\, Art
 ificial Intelligence\, Game Theory\n\n-\nGraph Theory\, Combinatorics\, Di
 screte Mathematics\, Number Theory\n\n-\nBig Data\, Data Mining\, Opinion 
 Mining\, Pattern Analysis\n\n-\nComputer Networks\, Smart Wireless Sensors
 \, Signal Processing\n\n-\nOptimization Techniques\, Control Systems\, Dyn
 amical Systems\n\n-\nSecurity\, Cryptography\, Digital Forensics\, Trust M
 odels\n\n-\nFractional Calculus\, Fixed Point Theory\, Chaos and Bifurcati
 on Theory\n\n-\nBlockchain\, Internet of Things (IoT)\, E-Society Applicat
 ions\n\n-\nStatistical Methods\, Stochastic Processes\, Mathematical Model
 ing &amp; Simulation\n\nJoin us at IEEE ICRAMI 2025 to engage with global expe
 rts\, expand your network\, and shape the future of Mathematics and Inform
 atics research. We look forward to your valuable contributions and to welc
 oming you to Tunis!\n\nFor more information: https://icrami.sciencesconf.o
 rg/?lang=en\n\nSousse\, Sousse\, Tunisia
LOCATION:Sousse\, Sousse\, Tunisia
ORGANIZER:smc.tn@ieee.org
SEQUENCE:68
SUMMARY:Technical Co-sponsorship of the IEEE 2nd International Conference o
 n Recent Activities Advances in Mathematics and Informatics ( IEEE ICRAMI&#39;
 2025)
URL;VALUE=URI:https://events.vtools.ieee.org/m/492333
X-ALT-DESC:Description: &lt;br /&gt;&lt;p&gt;We are proud to announce the &lt;strong data-
 start=&quot;275&quot; data-end=&quot;303&quot;&gt;technical co-sponsorship&lt;/strong&gt; of the &lt;stron
 g data-start=&quot;311&quot; data-end=&quot;413&quot;&gt;IEEE International Conference on Recent 
 Advances in Mathematics and Informatics (IEEE ICRAMI 2025)&lt;/strong&gt;\, set 
 to take place in the historic and vibrant city of &lt;strong data-start=&quot;469&quot;
  data-end=&quot;487&quot;&gt;Tunis\, Tunisia\,&lt;/strong&gt; in &lt;strong data-start=&quot;491&quot; dat
 a-end=&quot;509&quot;&gt;September 2025&lt;/strong&gt;.&lt;/p&gt;\n&lt;h3 data-start=&quot;1378&quot; data-end=&quot;
 1441&quot;&gt;&lt;strong data-start=&quot;1385&quot; data-end=&quot;1441&quot;&gt;Our Chapter&#39;s Role:&lt;/stron
 g&gt;&lt;/h3&gt;\n&lt;p&gt;The SMC TN Chapter will focus on sessions related to systems s
 cience\, human-machine systems\, and cybernetics. They will help shape the
  technical program by suggesting expert speakers and collaborating on the 
 organization of roundtables and panel discussions that align with their ex
 pertise&lt;/p&gt;\n&lt;h3 data-start=&quot;1378&quot; data-end=&quot;1441&quot;&gt;&lt;strong data-start=&quot;138
 5&quot; data-end=&quot;1441&quot;&gt;Topics of Interest Include (but are not limited to):&lt;/s
 trong&gt;&lt;/h3&gt;\n&lt;ul data-start=&quot;1443&quot; data-end=&quot;2322&quot;&gt;\n&lt;li data-start=&quot;1443&quot;
  data-end=&quot;1530&quot;&gt;\n&lt;p data-start=&quot;1445&quot; data-end=&quot;1530&quot;&gt;Applied Mathematic
 s\, Numerical Analysis\, Partial Differential Equations&lt;/p&gt;\n&lt;/li&gt;\n&lt;li da
 ta-start=&quot;1531&quot; data-end=&quot;1606&quot;&gt;\n&lt;p data-start=&quot;1533&quot; data-end=&quot;1606&quot;&gt;Com
 puter Science\, Software Engineering\, Information Systems&lt;/p&gt;\n&lt;/li&gt;\n&lt;li
  data-start=&quot;1607&quot; data-end=&quot;1677&quot;&gt;\n&lt;p data-start=&quot;1609&quot; data-end=&quot;1677&quot;&gt;
 Machine Learning\, Artificial Intelligence\, Game Theory&lt;/p&gt;\n&lt;/li&gt;\n&lt;li d
 ata-start=&quot;1678&quot; data-end=&quot;1762&quot;&gt;\n&lt;p data-start=&quot;1680&quot; data-end=&quot;1762&quot;&gt;Gr
 aph Theory\, Combinatorics\, Discrete Mathematics\, Number Theory&lt;/p&gt;\n&lt;/l
 i&gt;\n&lt;li data-start=&quot;1763&quot; data-end=&quot;1838&quot;&gt;\n&lt;p data-start=&quot;1765&quot; data-end=
 &quot;1838&quot;&gt;Big Data\, Data Mining\, Opinion Mining\, Pattern Analysis&lt;/p&gt;\n&lt;/l
 i&gt;\n&lt;li data-start=&quot;1839&quot; data-end=&quot;1915&quot;&gt;\n&lt;p data-start=&quot;1841&quot; data-end=
 &quot;1915&quot;&gt;Computer Networks\, Smart Wireless Sensors\, Signal Processing&lt;/p&gt;\
 n&lt;/li&gt;\n&lt;li data-start=&quot;1916&quot; data-end=&quot;1991&quot;&gt;\n&lt;p data-start=&quot;1918&quot; data-
 end=&quot;1991&quot;&gt;Optimization Techniques\, Control Systems\, Dynamical Systems&lt;/
 p&gt;\n&lt;/li&gt;\n&lt;li data-start=&quot;1992&quot; data-end=&quot;2067&quot;&gt;\n&lt;p data-start=&quot;1994&quot; da
 ta-end=&quot;2067&quot;&gt;Security\, Cryptography\, Digital Forensics\, Trust Models&lt;/
 p&gt;\n&lt;/li&gt;\n&lt;li data-start=&quot;2068&quot; data-end=&quot;2153&quot;&gt;\n&lt;p data-start=&quot;2070&quot; da
 ta-end=&quot;2153&quot;&gt;Fractional Calculus\, Fixed Point Theory\, Chaos and Bifurca
 tion Theory&lt;/p&gt;\n&lt;/li&gt;\n&lt;li data-start=&quot;2154&quot; data-end=&quot;2230&quot;&gt;\n&lt;p data-st
 art=&quot;2156&quot; data-end=&quot;2230&quot;&gt;Blockchain\, Internet of Things (IoT)\, E-Socie
 ty Applications&lt;/p&gt;\n&lt;/li&gt;\n&lt;li data-start=&quot;2231&quot; data-end=&quot;2322&quot;&gt;\n&lt;p dat
 a-start=&quot;2233&quot; data-end=&quot;2322&quot;&gt;Statistical Methods\, Stochastic Processes\
 , Mathematical Modeling &amp;amp\; Simulation&lt;/p&gt;\n&lt;/li&gt;\n&lt;/ul&gt;\n&lt;p data-start
 =&quot;2888&quot; data-end=&quot;3115&quot;&gt;Join us at &lt;strong data-start=&quot;2899&quot; data-end=&quot;291
 9&quot;&gt;IEEE ICRAMI 2025&lt;/strong&gt; to engage with global experts\, expand your n
 etwork\, and shape the future of Mathematics and Informatics research. We 
 look forward to your valuable contributions and to welcoming you to &lt;stron
 g data-start=&quot;3105&quot; data-end=&quot;3114&quot;&gt;Tunis&lt;/strong&gt;!&lt;/p&gt;\n&lt;p data-start=&quot;28
 88&quot; data-end=&quot;3115&quot;&gt;For more information: &lt;a href=&quot;https://icrami.sciences
 conf.org/?lang=en&quot;&gt;https://icrami.sciencesconf.org/?lang=en&lt;/a&gt;&lt;/p&gt;
END:VEVENT
END:VCALENDAR

