BEGIN:VCALENDAR
VERSION:2.0
PRODID:IEEE vTools.Events//EN
CALSCALE:GREGORIAN
BEGIN:VTIMEZONE
TZID:Asia/Kuala_Lumpur
BEGIN:DAYLIGHT
DTSTART:20380119T111407
TZOFFSETFROM:+0800
TZOFFSETTO:+0800
RRULE:FREQ=YEARLY;BYDAY=3TU;BYMONTH=1
TZNAME:+08
END:DAYLIGHT
BEGIN:STANDARD
DTSTART:19820101T000000
TZOFFSETFROM:+0730
TZOFFSETTO:+0800
RRULE:FREQ=YEARLY;BYDAY=1FR;BYMONTH=1
TZNAME:+08
END:STANDARD
END:VTIMEZONE
BEGIN:VEVENT
DTSTAMP:20251009T125218Z
UID:BC310799-0562-4066-B9C7-1B6022E05822
DTSTART;TZID=Asia/Kuala_Lumpur:20250820T080000
DTEND;TZID=Asia/Kuala_Lumpur:20250822T163000
DESCRIPTION:\n\nCo-sponsored by: IEEE Malaysia Section\, University Kuala L
 umpur\, Dr M.G.R Educational and Research Institute (India)\, University o
 f Technology and Applied Science (Oman)   \n\nAgenda: \nPOST EVENT REPORTI
 NG :\n\nSection 14\, Jalan Damai\, Seksyen 14\, \, Bandar Baru Bangi\, Sel
 angor\, Selangor\, Malaysia\, 43650
LOCATION:Section 14\, Jalan Damai\, Seksyen 14\, \, Bandar Baru Bangi\, Sel
 angor\, Selangor\, Malaysia\, 43650
ORGANIZER:ayuni8098@uitm.edu.my
SEQUENCE:56
SUMMARY:IEEE 6th International Conference in Robotics\, Manufacturing and A
 utomation - ROMA 2025 
URL;VALUE=URI:https://events.vtools.ieee.org/m/492590
X-ALT-DESC:Description: &lt;br /&gt;&lt;p style=&quot;text-align: center\;&quot;&gt;&lt;img src=&quot;htt
 ps://events.vtools.ieee.org/vtools_ui/media/display/4c121088-946c-4cc6-833
 2-3c5cb50362be&quot; width=&quot;561&quot; height=&quot;788&quot;&gt;&lt;/p&gt;&lt;br /&gt;&lt;br /&gt;Agenda: &lt;br /&gt;&lt;p&gt;
 POST EVENT REPORTING :&lt;/p&gt;\n&lt;p&gt;&lt;img src=&quot;https://events.vtools.ieee.org/vt
 ools_ui/media/display/94e4a02f-cbda-447c-b727-19b2adb264fb&quot; width=&quot;1105&quot; h
 eight=&quot;355&quot;&gt;&lt;/p&gt;
END:VEVENT
END:VCALENDAR

