BEGIN:VCALENDAR
VERSION:2.0
PRODID:IEEE vTools.Events//EN
CALSCALE:GREGORIAN
BEGIN:VTIMEZONE
TZID:Asia/Dhaka
BEGIN:DAYLIGHT
DTSTART:20380119T091407
TZOFFSETFROM:+0600
TZOFFSETTO:+0600
RRULE:FREQ=YEARLY;BYDAY=3TU;BYMONTH=1
TZNAME:+06
END:DAYLIGHT
BEGIN:STANDARD
DTSTART:20091231T230000
TZOFFSETFROM:+0700
TZOFFSETTO:+0600
RRULE:FREQ=YEARLY;BYDAY=-1TH;BYMONTH=12
TZNAME:+06
END:STANDARD
END:VTIMEZONE
BEGIN:VEVENT
DTSTAMP:20250830T201950Z
UID:82B59B9D-E4DF-4CD6-9396-5C8266496C15
DTSTART;TZID=Asia/Dhaka:20250726T090000
DTEND;TZID=Asia/Dhaka:20250726T190000
DESCRIPTION:[]\n\nIEEE Region 10 Young Professionals UpSkill - Bangladesh 2
 025\nVenue: Ahsanullah University of Science and Technology (AUST)\, Dhaka
 \nDate: 26 July 2025\nTheme: &quot;Create a Pathway to a Thriving Career by Bri
 dging Futures with Emerging Technologies&quot;\n\nWe are proud to announce the 
 successful completion of UpSkill Bangladesh 2025\, a flagship initiative o
 rganized by IEEE Young Professionals Bangladesh in collaboration with the 
 IEEE Bangladesh Section. This transformative event brought together emergi
 ng leaders\, global professionals\, and future innovators for a day of mea
 ningful dialogue\, technical learning\, and professional growth.\n\nInaugu
 ral Ceremony\nChief Guest:\n• Prof. Dr. Md. Ashraful Hoque – Vice-Chan
 cellor\, AUST\nSpecial Guests:\n• Prof. Dr. M. Imamul Hassan Bhuiyan –
  Chair\, IEEE Bangladesh Section\n• Prof. Dr. Celia Shahnaz – IEEE WIE
  Global Chair &amp; Past Chair\, IEEE BDS\nHonorable Guest:\n• Prof. Dr. A.K
 .M Ehtesanul Islam – Counselor\, IEEE AUST Student Branch\nChairperson:\
 n• Engr. Shohel Rana – Chair\, IEEE Young Professionals Bangladesh\nGu
 est of Honour:\n• Aishwarya Bandla – Chair\, IEEE Region 10 Young Prof
 essionals\n\nKeynote Sessions Speakers:\n• Prof. Dr. Tribeni Prasad Bane
 rjee\n• Dr. Sandip Chanda\n• Prof. Ruwan Gopura\n• Rishi Kant Thakur
 \n\nWorkshops &amp; Technical Tutorials Speakers:\n• Prof. Dr. Shaikh Anowar
 ul Fattah\n• Maneesha Dwivedi\n\nIndustry-Focused Sessions Speakers:\n
 • Zafir Shafiee Chowdhury – Co-Founder\, LightCastle Partners\n• S M
  Robiul Islam – Head of UX Assurance\, Grameenphone Ltd.\n\nMentoring &amp; 
 Networking Sessions:\n• Prof. Dr. Imamul Hassan Bhuiyan\n• Prof. Dr. S
 hakhia Khan\n• Dr. Monjur Morshed\n• Prof. Dr. A.K.M Ehtesanul Islam\n
 • Md Abu Saleh\n• Farhan Muhib Efty\n\nInteractive Quiz Competitions:\
 nEach session featured a live quiz with cash prizes\, totaling ৳10\,000!
 \nSpecial appreciation to Md Abu Saleh for his dynamic coordination and ho
 sting of these segments.\n\nAcknowledgements:\nWe express sincere gratitud
 e to:\n• IEEE AUST Student Branch – Co-organizer\n• IEEE Robotics an
 d Automation Society-Bangladesh Chapter – Technical Co-sponsor\n• IEEE
  Region 10 Young Professionals – Supporter\n\nA heartfelt thank you to o
 ur passionate volunteers including Tasmia Israt Arpa\, Shafaul Azaum\, Shi
 hab\, Sakib\, Sadman Saharyer Fuad\, Naimul Haque\, and the IEEE AUST SB E
 xecutive Members for their tireless efforts behind the scenes. Special rec
 ognition goes to our dedicated media and design team\, especially Arunavo 
 Diganto and Tasnimul Hasan Prottoy\, for ensuring high-quality branding an
 d visuals throughout the event.\n\nGratitude to Our Advisors &amp; Mentors\nYo
 ur guidance and encouragement have been instrumental in shaping this initi
 ative:\n• Prof. Dr. Shaikh Anowarul Fattah\n• Prof. Dr. Celia Shahnaz\
 n• Prof. Dr. Imamul Hassan Bhuiyan\n\nThe event had an estimated 253 par
 ticipants (In-person &amp; Online)\, including Young Professional (Employed\, 
 early career)\, Entrepreneur / Startup Founder\, University Postgraduate &amp;
  Final Year Students\, Faculty Members and Industry Expert.\n\nStay Connec
 ted with IEEE YP Bangladesh:\nWebsite: r10.ieee.org/bd-yp\nFacebook: IEEE 
 Young Professionals Bangladesh\nLinkedIn: linkedin.com/company/ieeeypbd\n\
 nTogether\, let us continue to empower the next generation of professional
 s through innovation\, collaboration\, and lifelong learning.\n\nAgenda: \
 n- Skill-Boosting Workshops\n- Inspiring Keynote Talks\n- Personalized Men
 toring Sessions\n- Impactful Panel Discussions\n- Global Networking Opport
 unities\n- Interactive Quiz Competition (Exclusively for In-Person Partici
 pants)\n\nAhsanullah University of Science and Technology\, 141 &amp; 142\, Lo
 ve Road\, Tejgaon Industrial Area\, Dhaka\, Dhaka\, Bangladesh\, 1208\, Vi
 rtual: https://events.vtools.ieee.org/m/492714
LOCATION:Ahsanullah University of Science and Technology\, 141 &amp; 142\, Love
  Road\, Tejgaon Industrial Area\, Dhaka\, Dhaka\, Bangladesh\, 1208\, Virt
 ual: https://events.vtools.ieee.org/m/492714
ORGANIZER:rana.shohel10@yahoo.com
SEQUENCE:44
SUMMARY: IEEE Region 10 Young Professionals UpSkill - Bangladesh 2025
URL;VALUE=URI:https://events.vtools.ieee.org/m/492714
X-ALT-DESC:Description: &lt;br /&gt;&lt;p style=&quot;text-align: center\;&quot;&gt;&lt;img src=&quot;htt
 ps://events.vtools.ieee.org/vtools_ui/media/display/b2e0ab00-ce08-44ec-b4d
 d-26ba90a3964a&quot; alt=&quot;&quot; width=&quot;1025&quot; height=&quot;396&quot;&gt;&amp;nbsp\;&lt;/p&gt;\n&lt;div class=&quot;
 xdj266r x14z9mp xat24cr x1lziwak x1vvkbs x126k92a&quot;&gt;&amp;nbsp\;&lt;/div&gt;\n&lt;p&gt;IEEE 
 Region 10 Young Professionals UpSkill - Bangladesh 2025&lt;br&gt;Venue: Ahsanull
 ah University of Science and Technology (AUST)\, Dhaka&lt;br&gt;Date: 26 July 20
 25&lt;br&gt;Theme: &quot;Create a Pathway to a Thriving Career by Bridging Futures wi
 th Emerging Technologies&quot;&lt;/p&gt;\n&lt;p&gt;We are proud to announce the successful 
 completion of UpSkill Bangladesh 2025\, a flagship initiative organized by
  IEEE Young Professionals Bangladesh in collaboration with the IEEE Bangla
 desh Section. This transformative event brought together emerging leaders\
 , global professionals\, and future innovators for a day of meaningful dia
 logue\, technical learning\, and professional growth.&lt;/p&gt;\n&lt;p&gt;Inaugural Ce
 remony&lt;br&gt;Chief Guest:&lt;br&gt;&amp;bull\; Prof. Dr. Md. Ashraful Hoque &amp;ndash\; Vi
 ce-Chancellor\, AUST&lt;br&gt;Special Guests:&lt;br&gt;&amp;bull\; Prof. Dr. M. Imamul Has
 san Bhuiyan &amp;ndash\; Chair\, IEEE Bangladesh Section&lt;br&gt;&amp;bull\; Prof. Dr. 
 Celia Shahnaz &amp;ndash\; IEEE WIE Global Chair &amp;amp\; Past Chair\, IEEE BDS&lt;
 br&gt;Honorable Guest:&lt;br&gt;&amp;bull\; Prof. Dr. A.K.M Ehtesanul Islam &amp;ndash\; Co
 unselor\, IEEE AUST Student Branch&lt;br&gt;Chairperson:&lt;br&gt;&amp;bull\; Engr. Shohel
  Rana &amp;ndash\; Chair\, IEEE Young Professionals Bangladesh&lt;br&gt;Guest of Hon
 our:&lt;br&gt;&amp;bull\; Aishwarya Bandla &amp;ndash\; Chair\, IEEE Region 10 Young Pro
 fessionals&lt;/p&gt;\n&lt;p&gt;Keynote Sessions Speakers:&lt;br&gt;&amp;bull\; Prof. Dr. Tribeni
  Prasad Banerjee&lt;br&gt;&amp;bull\; Dr. Sandip Chanda&lt;br&gt;&amp;bull\; Prof. Ruwan Gopur
 a&lt;br&gt;&amp;bull\; Rishi Kant Thakur&lt;/p&gt;\n&lt;p&gt;Workshops &amp;amp\; Technical Tutorial
 s Speakers:&lt;br&gt;&amp;bull\; Prof. Dr. Shaikh Anowarul Fattah&lt;br&gt;&amp;bull\; Maneesh
 a Dwivedi&lt;/p&gt;\n&lt;p&gt;Industry-Focused Sessions Speakers:&lt;br&gt;&amp;bull\; Zafir Sha
 fiee Chowdhury &amp;ndash\; Co-Founder\, LightCastle Partners&lt;br&gt;&amp;bull\; S M R
 obiul Islam &amp;ndash\; Head of UX Assurance\, Grameenphone Ltd.&lt;/p&gt;\n&lt;p&gt;Ment
 oring &amp;amp\; Networking Sessions:&lt;br&gt;&amp;bull\; Prof. Dr. Imamul Hassan Bhuiy
 an&lt;br&gt;&amp;bull\; Prof. Dr. Shakhia Khan&lt;br&gt;&amp;bull\; Dr. Monjur Morshed&lt;br&gt;&amp;bul
 l\; Prof. Dr. A.K.M Ehtesanul Islam&lt;br&gt;&amp;bull\; Md Abu Saleh&lt;br&gt;&amp;bull\; Far
 han Muhib Efty&lt;/p&gt;\n&lt;p&gt;Interactive Quiz Competitions:&lt;br&gt;Each session feat
 ured a live quiz with cash prizes\, totaling ৳10\,000!&lt;br&gt;Special apprec
 iation to Md Abu Saleh for his dynamic coordination and hosting of these s
 egments.&lt;/p&gt;\n&lt;p&gt;Acknowledgements:&lt;br&gt;We express sincere gratitude to:&lt;br&gt;
 &amp;bull\; IEEE AUST Student Branch &amp;ndash\; Co-organizer&lt;br&gt;&amp;bull\; IEEE Rob
 otics and Automation Society-Bangladesh Chapter &amp;ndash\; Technical Co-spon
 sor&lt;br&gt;&amp;bull\; IEEE Region 10 Young Professionals &amp;ndash\; Supporter&lt;/p&gt;\n
 &lt;p&gt;A heartfelt thank you to our passionate volunteers including Tasmia Isr
 at Arpa\, Shafaul Azaum\, Shihab\, Sakib\, Sadman Saharyer Fuad\, Naimul H
 aque\, and the IEEE AUST SB Executive Members for their tireless efforts b
 ehind the scenes. Special recognition goes to our dedicated media and desi
 gn team\, especially Arunavo Diganto and Tasnimul Hasan Prottoy\, for ensu
 ring high-quality branding and visuals throughout the event.&lt;/p&gt;\n&lt;p&gt;Grati
 tude to Our Advisors &amp;amp\; Mentors&lt;br&gt;Your guidance and encouragement hav
 e been instrumental in shaping this initiative:&lt;br&gt;&amp;bull\; Prof. Dr. Shaik
 h Anowarul Fattah&lt;br&gt;&amp;bull\; Prof. Dr. Celia Shahnaz&lt;br&gt;&amp;bull\; Prof. Dr. 
 Imamul Hassan Bhuiyan&lt;/p&gt;\n&lt;p&gt;The event had an estimated 253 participants 
 (In-person &amp;amp\; Online)\, including Young Professional (Employed\, early
  career)\, Entrepreneur / Startup Founder\, University Postgraduate &amp;amp\;
  Final Year Students\, Faculty Members and Industry Expert.&lt;/p&gt;\n&lt;p&gt;Stay C
 onnected with IEEE YP Bangladesh:&lt;br&gt;Website: r10.ieee.org/bd-yp&lt;br&gt;Facebo
 ok: IEEE Young Professionals Bangladesh&lt;br&gt;LinkedIn: linkedin.com/company/
 ieeeypbd&lt;/p&gt;\n&lt;p&gt;Together\, let us continue to empower the next generation
  of professionals through innovation\, collaboration\, and lifelong learni
 ng.&amp;nbsp\;&lt;/p&gt;&lt;br /&gt;&lt;br /&gt;Agenda: &lt;br /&gt;&lt;ul&gt;\n&lt;li&gt;Skill-Boosting Workshops
 &lt;/li&gt;\n&lt;li&gt;Inspiring Keynote Talks&lt;/li&gt;\n&lt;li&gt;Personalized Mentoring Sessio
 ns&lt;/li&gt;\n&lt;li&gt;Impactful Panel Discussions&lt;/li&gt;\n&lt;li&gt;Global Networking Oppor
 tunities&lt;/li&gt;\n&lt;li&gt;Interactive Quiz Competition (Exclusively for In-Person
  Participants)&lt;/li&gt;\n&lt;/ul&gt;
END:VEVENT
END:VCALENDAR

