BEGIN:VCALENDAR
VERSION:2.0
PRODID:IEEE vTools.Events//EN
CALSCALE:GREGORIAN
BEGIN:VTIMEZONE
TZID:Europe/Istanbul
BEGIN:DAYLIGHT
DTSTART:20380119T061407
TZOFFSETFROM:+0300
TZOFFSETTO:+0300
RRULE:FREQ=YEARLY;BYDAY=3TU;BYMONTH=1
TZNAME:+03
END:DAYLIGHT
BEGIN:STANDARD
DTSTART:20160907T000000
TZOFFSETFROM:+0300
TZOFFSETTO:+0300
RRULE:FREQ=YEARLY;BYDAY=1WE;BYMONTH=9
TZNAME:+03
END:STANDARD
END:VTIMEZONE
BEGIN:VEVENT
DTSTAMP:20250719T082540Z
UID:B3A015A9-0C2E-4DD5-8FA0-561DC3C8742C
DTSTART;TZID=Europe/Istanbul:20250717T200000
DTEND;TZID=Europe/Istanbul:20250717T220000
DESCRIPTION:🎙️IEEE YP Türkiye Talks #17🎙️\n\nhttps://www.youtube
 .com/live/aM6BpQHmQWg\n\n🗓️17 Temmuz Perşembe\, 20.00\n\nIEEE Young 
 Professionals Türkiye WIE temsilcimiz Doğa Umaç’ın moderatörlüğü
 nde gerçekleşecek olan yeni dönemin on yedinci webinarı ile karşını
 zdayız.\n\nUmaç\, İstanbul Üniversitesi-Cerrahpaşa Nanoteknoloji ve B
 iyoteknoloji Enstitüsü’nden Dr. Öğretim Üyesi Merve Erginer&#39;i konuk
  alarak doku mühendisliği alanındaki son gelişmeleri ele alacaklar.\n\
 nSosyal medya hesaplarımız:\n\n[Linkedin](https://www.linkedin.com/compa
 ny/ieeeypturkiye/) I [Instagram](https://www.instagram.com/ieeeypturkiye/)
  I [Facebook](https://www.facebook.com/ieeeypturkiye) I [YouTube](https://
 www.youtube.com/@ieeeypturkiye?sub_confirmation=1)\n\nVirtual: https://eve
 nts.vtools.ieee.org/m/492970
LOCATION:Virtual: https://events.vtools.ieee.org/m/492970
ORGANIZER:ieeetryp@gmail.com
SEQUENCE:13
SUMMARY:YP Türkiye Talks #17 - Doku Mühendisliği ve In Vitro Testlerde G
 üncel Yaklaşımlar
URL;VALUE=URI:https://events.vtools.ieee.org/m/492970
X-ALT-DESC:Description: &lt;br /&gt;&lt;p&gt;🎙️IEEE YP T&amp;uuml\;rkiye Talks #17
 🎙️&amp;nbsp\;&lt;/p&gt;\n&lt;p&gt;&lt;a href=&quot;https://www.youtube.com/live/aM6BpQHmQWg&quot;&gt;
 https://www.youtube.com/live/aM6BpQHmQWg&lt;/a&gt;&amp;nbsp\;&lt;/p&gt;\n&lt;p&gt;🗓️17 Temm
 uz Perşembe\, 20.00&lt;br&gt;&lt;br&gt;IEEE Young Professionals T&amp;uuml\;rkiye WIE tem
 silcimiz Doğa Uma&amp;ccedil\;&amp;rsquo\;ın moderat&amp;ouml\;rl&amp;uuml\;ğ&amp;uuml\;nde
  ger&amp;ccedil\;ekleşecek olan yeni d&amp;ouml\;nemin on yedinci webinarı ile k
 arşınızdayız.&lt;br&gt;&lt;br&gt;Uma&amp;ccedil\;\, İstanbul &amp;Uuml\;niversitesi-Cerra
 hpaşa Nanoteknoloji ve Biyoteknoloji Enstit&amp;uuml\;s&amp;uuml\;&amp;rsquo\;nden Dr
 . &amp;Ouml\;ğretim &amp;Uuml\;yesi Merve Erginer&#39;i konuk alarak doku m&amp;uuml\;hen
 disliği alanındaki son gelişmeleri ele alacaklar.&lt;/p&gt;\n&lt;p&gt;&amp;nbsp\;&lt;/p&gt;\n
 &lt;p dir=&quot;ltr&quot;&gt;Sosyal medya hesaplarımız:&lt;/p&gt;\n&lt;p dir=&quot;ltr&quot;&gt;&lt;strong&gt;&lt;a hre
 f=&quot;https://www.linkedin.com/company/ieeeypturkiye/&quot; target=&quot;_blank&quot; rel=&quot;n
 oopener&quot; data-auth=&quot;NotApplicable&quot; data-linkindex=&quot;2&quot; data-ogsc=&quot;&quot;&gt;Linkedi
 n&lt;/a&gt;&amp;nbsp\;I&amp;nbsp\;&lt;a href=&quot;https://www.instagram.com/ieeeypturkiye/&quot; tar
 get=&quot;_blank&quot; rel=&quot;noopener&quot; data-auth=&quot;NotApplicable&quot; data-linkindex=&quot;3&quot; d
 ata-ogsc=&quot;&quot;&gt;Instagram&lt;/a&gt;&amp;nbsp\;I&amp;nbsp\;&lt;a href=&quot;https://www.facebook.com/
 ieeeypturkiye&quot; target=&quot;_blank&quot; rel=&quot;noopener&quot; data-auth=&quot;NotApplicable&quot; da
 ta-linkindex=&quot;4&quot; data-ogsc=&quot;&quot;&gt;Facebook&lt;/a&gt;&amp;nbsp\;I&amp;nbsp\;&lt;a href=&quot;https://
 www.youtube.com/@ieeeypturkiye?sub_confirmation=1&quot; target=&quot;_blank&quot; rel=&quot;no
 opener&quot; data-auth=&quot;NotApplicable&quot; data-linkindex=&quot;5&quot; data-ogsc=&quot;&quot;&gt;YouTube&lt;
 /a&gt;&lt;/strong&gt;&lt;/p&gt;\n&lt;p dir=&quot;ltr&quot;&gt;&amp;nbsp\;&lt;img src=&quot;https://events.vtools.ieee
 .org/vtools_ui/media/display/26f22a95-0f75-4668-8264-674e06f62b2e&quot; width=&quot;
 612&quot; height=&quot;612&quot;&gt;&lt;/p&gt;
END:VEVENT
END:VCALENDAR

