BEGIN:VCALENDAR
VERSION:2.0
PRODID:IEEE vTools.Events//EN
CALSCALE:GREGORIAN
BEGIN:VTIMEZONE
TZID:Asia/Kolkata
BEGIN:STANDARD
DTSTART:19451014T230000
TZOFFSETFROM:+0630
TZOFFSETTO:+0530
TZNAME:IST
END:STANDARD
END:VTIMEZONE
BEGIN:VEVENT
DTSTAMP:20250926T110208Z
UID:023292F2-0B8B-4D46-98C9-ADA91F9A8782
DTSTART;TZID=Asia/Kolkata:20250718T091500
DTEND;TZID=Asia/Kolkata:20250718T121500
DESCRIPTION:Demo Workshop on Robotics\, Basic Electronics and Power Systems
  to the students of Kendriya Vidyalaya\, IIT Guwahati\n\nSpeaker(s): Dr. C
 hayan Bhawal\, Dr. Praveen Tripathy\n\nDepartment of EEE\, IIT Guwahati\, 
 Guwahati\, Assam\, India\, 781039
LOCATION:Department of EEE\, IIT Guwahati\, Guwahati\, Assam\, India\, 7810
 39
ORGANIZER:ravindranath@iitg.ac.in
SEQUENCE:24
SUMMARY:Demo Workshop on Robotics\, Basic Electronics and Power Systems to 
 Schools Students
URL;VALUE=URI:https://events.vtools.ieee.org/m/493261
X-ALT-DESC:Description: &lt;br /&gt;&lt;p&gt;Demo Workshop on Robotics\, Basic Electron
 ics and Power Systems to the students of Kendriya Vidyalaya\, IIT Guwahati
 &lt;/p&gt;
END:VEVENT
END:VCALENDAR

