BEGIN:VCALENDAR
VERSION:2.0
PRODID:IEEE vTools.Events//EN
CALSCALE:GREGORIAN
BEGIN:VTIMEZONE
TZID:America/New_York
BEGIN:DAYLIGHT
DTSTART:20250309T030000
TZOFFSETFROM:-0500
TZOFFSETTO:-0400
RRULE:FREQ=YEARLY;BYDAY=2SU;BYMONTH=3
TZNAME:EDT
END:DAYLIGHT
BEGIN:STANDARD
DTSTART:20251102T010000
TZOFFSETFROM:-0400
TZOFFSETTO:-0500
RRULE:FREQ=YEARLY;BYDAY=1SU;BYMONTH=11
TZNAME:EST
END:STANDARD
END:VTIMEZONE
BEGIN:VEVENT
DTSTAMP:20251106T010944Z
UID:5C74035A-DEC9-40D5-9510-18105F99FDE6
DTSTART;TZID=America/New_York:20251030T180000
DTEND;TZID=America/New_York:20251030T200000
DESCRIPTION:This is our official October Section meeting for this year.\n\n
 It is mandatory for all Section officers (including Societies Chairs\, Aff
 inity Groups Chairs).\n\nAgenda: \n- Previous Meeting Minutes Approval\n- 
 Society Events / Officer Reporting\n- Affinity Group Events / Officer Repo
 rting\n\n9605 N Tryon St Ste A\, Charlotte\, North Carolina\, United State
 s
LOCATION:9605 N Tryon St Ste A\, Charlotte\, North Carolina\, United States
ORGANIZER:bhowmikpankaj@ieee.org
SEQUENCE:5
SUMMARY:October 2025 Charlotte Section ExCom In-Person Meeting
URL;VALUE=URI:https://events.vtools.ieee.org/m/493315
X-ALT-DESC:Description: &lt;br /&gt;&lt;p&gt;This is our official October Section meeti
 ng for this year.&lt;/p&gt;\n&lt;p&gt;It is mandatory for all Section officers (includ
 ing Societies Chairs\, Affinity Groups Chairs).&lt;/p&gt;&lt;br /&gt;&lt;br /&gt;Agenda: &lt;br
  /&gt;&lt;ol&gt;\n&lt;li&gt;Previous Meeting Minutes Approval&lt;/li&gt;\n&lt;li&gt;Society Events / 
 Officer Reporting&lt;/li&gt;\n&lt;li&gt;Affinity Group Events / Officer Reporting&lt;/li&gt;
 \n&lt;/ol&gt;
END:VEVENT
END:VCALENDAR

