BEGIN:VCALENDAR
VERSION:2.0
PRODID:IEEE vTools.Events//EN
CALSCALE:GREGORIAN
BEGIN:VTIMEZONE
TZID:America/Guatemala
BEGIN:STANDARD
DTSTART:20060930T230000
TZOFFSETFROM:-0500
TZOFFSETTO:-0600
TZNAME:CST
END:STANDARD
END:VTIMEZONE
BEGIN:VEVENT
DTSTAMP:20260219T032529Z
UID:093B65EB-8B99-4C0F-AF93-221238F1BA58
DTSTART;TZID=America/Guatemala:20260131T080000
DTEND;TZID=America/Guatemala:20260131T160000
DESCRIPTION:Reunión Nacional de Ramas Estudiantiles IEEE &amp; IEEE Young Prof
 essionals - Sección IEEE Costa Rica 2026\n\nEsta actividad reunirá a lí
 deres estudiantiles y jóvenes profesionales de todo el país para fortale
 cer la comunidad IEEE mediante talleres\, paneles y espacios de formación
  en liderazgo\, habilidades blandas y desarrollo profesional.\n\nSerá una
  oportunidad para intercambiar ideas\, fomentar la colaboración entre ram
 as\, impulsar nuevas iniciativas y conectar a estudiantes con profesionale
 s que comparten su experiencia y pasión por la tecnología.\n\n¡Una expe
 riencia enriquecedora que promueve el crecimiento\, la continuidad y el im
 pacto del voluntariado IEEE!\n\nEsta actividad esta patrocinada por IEEE Y
 oung Profesionals y IEEE Foundation.\n\nSpeaker(s): Yindra\, Cindy\, Amand
 a\, Andrés\, Esteban\, Daniel\n\nAgenda: \nAGENDA\n\nCentro de Formación
  OIKOUMENE\, San Rafael\, Cartago\, Costa Rica
LOCATION:Centro de Formación OIKOUMENE\, San Rafael\, Cartago\, Costa Rica
ORGANIZER:sec.costarica@ieee.org
SEQUENCE:49
SUMMARY:IEEE Sección Costa Rica RNR &amp; RNYP 2026
URL;VALUE=URI:https://events.vtools.ieee.org/m/493319
X-ALT-DESC:Description: &lt;br /&gt;&lt;p&gt;&lt;strong&gt;Reuni&amp;oacute\;n Nacional de Ramas 
 Estudiantiles IEEE &amp;amp\; IEEE Young Professionals - Secci&amp;oacute\;n IEEE 
 Costa Rica 2026&lt;/strong&gt;&lt;/p&gt;\n&lt;p&gt;&amp;nbsp\;&lt;/p&gt;\n&lt;p&gt;Esta actividad reunir&amp;aac
 ute\; a l&amp;iacute\;deres estudiantiles y j&amp;oacute\;venes profesionales de t
 odo el pa&amp;iacute\;s para fortalecer la comunidad IEEE mediante talleres\, 
 paneles y espacios de formaci&amp;oacute\;n en liderazgo\, habilidades blandas
  y desarrollo profesional.&lt;/p&gt;\n&lt;p&gt;Ser&amp;aacute\; una oportunidad para inter
 cambiar ideas\, fomentar la colaboraci&amp;oacute\;n entre ramas\, impulsar nu
 evas iniciativas y conectar a estudiantes con profesionales que comparten 
 su experiencia y pasi&amp;oacute\;n por la tecnolog&amp;iacute\;a.&lt;/p&gt;\n&lt;p&gt;&amp;iexcl\
 ;Una experiencia enriquecedora que promueve el crecimiento\, la continuida
 d y el impacto del voluntariado IEEE!&lt;br&gt;&lt;br&gt;Esta actividad esta patrocina
 da por IEEE Young Profesionals y IEEE Foundation.&lt;/p&gt;&lt;br /&gt;&lt;br /&gt;Agenda: &lt;
 br /&gt;&lt;p&gt;&lt;strong&gt;AGENDA&lt;/strong&gt;&lt;/p&gt;\n&lt;p&gt;&lt;img src=&quot;https://events.vtools.ie
 ee.org/vtools_ui/media/display/883ecea0-89c8-4ae2-86bb-bcac06801758&quot; width
 =&quot;858&quot; height=&quot;1073&quot;&gt;&lt;/p&gt;
END:VEVENT
END:VCALENDAR

