BEGIN:VCALENDAR
VERSION:2.0
PRODID:IEEE vTools.Events//EN
CALSCALE:GREGORIAN
BEGIN:VTIMEZONE
TZID:America/Chicago
BEGIN:DAYLIGHT
DTSTART:20260308T030000
TZOFFSETFROM:-0600
TZOFFSETTO:-0500
RRULE:FREQ=YEARLY;BYDAY=2SU;BYMONTH=3
TZNAME:CDT
END:DAYLIGHT
BEGIN:STANDARD
DTSTART:20251102T010000
TZOFFSETFROM:-0500
TZOFFSETTO:-0600
RRULE:FREQ=YEARLY;BYDAY=1SU;BYMONTH=11
TZNAME:CST
END:STANDARD
END:VTIMEZONE
BEGIN:VEVENT
DTSTAMP:20251122T163649Z
UID:1B1D117D-D51A-46FA-851C-FEE7514323ED
DTSTART;TZID=America/Chicago:20251121T090000
DTEND;TZID=America/Chicago:20251121T160000
DESCRIPTION:Welcome to the 7th Joint Annual Meeting of the IEEE Magnetics S
 ociety and IEEE Nanotechnology Council Chicago Chapters\, to be held in a 
 hybrid form (in-person plus on Zoom) with in-person venue at Northwestern 
 University on Friday\, November 21\, 2025. The meeting will provide free b
 reakfast &amp; lunch and face-to-face interaction with the best local Chicago 
 reserachers in Magnetics and Nanotechnology!\n\nThe meeting will convene l
 ocal and international academics\, professionals and students with broad i
 nterests in magnetics and nanotechnology. The meeting will provide a forum
  for highlighting the latest advances in magnetism\, spintronics\, nanotec
 hnology\, and nanoelectronics\, and will provide opportunities to facilita
 te networking and collaboration.\n\nThere are no Registration Fees\, but r
 egistration is required.\n\nZoom link for remote attendees:\n\n[https://no
 rthwestern.zoom.us/j/99864906799?pwd=7a3tBbokifgG6NTXTyaMbRAQdr5JSv.1](htt
 ps://gcc02.safelinks.protection.outlook.com/?url=https%3A%2F%2Fnorthwester
 n.zoom.us%2Fj%2F99864906799%3Fpwd%3D7a3tBbokifgG6NTXTyaMbRAQdr5JSv.1&amp;data=
 05%7C02%7Cyili%40anlmail.anl.gov%7Cbd36780425c044fe776708de27854b0a%7C0cfc
 a18525f749e38ae7704d5326e285%7C0%7C0%7C638991650610513391%7CUnknown%7CTWFp
 bGZsb3d8eyJFbXB0eU1hcGkiOnRydWUsIlYiOiIwLjAuMDAwMCIsIlAiOiJXaW4zMiIsIkFOIj
 oiTWFpbCIsIldUIjoyfQ%3D%3D%7C0%7C%7C%7C&amp;sdata=qRJ4jMfcYZDFv9Qo5uURtB6dfhz%
 2BpWH7aY1rJ2a76pg%3D&amp;reserved=0)\n\nConfirmed Speakers:\n\nYayoi Takamura 
 (IEEE Dinstinguished Lecturer)	University of California Davis\nWenzhuo Wu 
 (IEEE Dinstinguished Lecturer)	Purdue University\nJennifer Volk	University
  of Wisconsin Madison\nAdina Lucian-Mayer	University of Illinois Chicago\n
 Dirk Morr	University of Illinois Chicago\nAndrew Higginbotham	University o
 f Chicago\nDavid Barton	Northwestern University\nJeffrey Richards	Northwes
 tern University\nHaidan Wen	Argonne National Laboratory\nJunyi Yang	Argonn
 e National Laboratory\nJinhyeong Jang	Argonne National Laboratory\nShubham
 	Syntiant Corp.\nSean Sullivan	memQ\n\nAdditional Information about Sponso
 rs of the event:\n\nIEEE Magnetics Society ([www.ieeemagnetics.org](https:
 //ieeemagnetics.org/)) focus is on all matters involved in the fundamental
  development\, design\, and application of magnetic devices\, including ma
 gnetic materials and phenomena. The society sponsors numerous conferences 
 throughout the year.\n\nIEEE Nanotechnology Council ([www.ieeenano.org](ht
 tps://ieeenano.org/)) is a multi-disciplinary group whose purpose is to ad
 vance and coordinate work in the field of Nanotechnology carried out throu
 ghout the IEEE in scientific\, literary and educational areas. The Council
  supports the theory\, design\, and development of nanotechnology and its 
 scientific\, engineering\, and industrial applications.\n\nIEEE Nanotechno
 logy Council Young Professionals (https://ieeenano.org/category/young-prof
 essionals) is a representative branch of the Young Professionals segment i
 nside the IEEE Nanotechnology Council\, with the mission of promoting youn
 g professionals for academic success and professional connections.\n\nCo-s
 ponsored by: IEEE Chicago\, IEEE NTC Young Professionals\n\nAgenda: \nBrea
 kfast &amp; coffee	8:30am-8:55am	title\nOpening remarks	8:55am-9:00am\nSession
  1: Frontiers in materials science (Chair: Yue Li\, Argonne)\nYayoi Takamu
 ra (IEEE DL)	UC Davis	9:00am-9:35am	Tailoring Magnetic Spin Textures in La
 0.7Sr0.3MnO3-based Micromagnets\nAdina Lucian-Mayer	UIC	9:35am-10:00am	Qua
 ntum functionality in 2D materials\nHaidan Wen	Argonne	10:00am-10:25am	Exp
 loring ultrafast collective dynamics of emergent materials\ncoffee break	1
 0:25am-10:40am\nSession 2: Advance in electronics (Chair: Vinod Sangwan\, 
 Northwestern U)\nWenzhuo Wu (IEEE DL\, virtual)	Purdue	10:40am-11:15am	Tel
 lurene Electronics and Beyond\nJennifer Volk	UW Madison	11:15am-11:40am	Th
 e Dance of the Magnetic Flux Quanta\nShubham	Syntiant Corp.	11:40am-12:05a
 m	Sensing Sound: MEMS Microphone Technology &amp; Applications\nLunch: 12:05am
 -1:20pm\nSession 3: Quantum circuits and materials (Chair: Valentine Novos
 ad\, Argonne)\nAndrew Higginbotham	U Chicago	1:20pm-1:45pm	Supercondcutor-
 semiconductor hybrid quantum circuit elements\nSean Sullivan	memQ	1:45pm-2
 :10pm	memQ&#39;s Scalable Path to Distributed Quantum Computing\nDirk Morr	UIC
 	2:10pm-2:35pm	Majorana Zero Modes and Quantum Algorithms inTopological Su
 perconductors\nJunyi Yang	Argonne	2:35pm-3:00pm\ncoffee break	3:00pm-3:15p
 m\nSession 4: Applied materials (Chair: Yuepeng Zhang\, Argonne)\nDavid Ba
 rton	Northwestern U	3:15pm-3:40pm\nJeffrey Richards	Northwestern U	3:40pm-
 4:05pm	Electrical Properties of Dense Suspensions of Conductive Particles\
 nJinhyeong Jang	Argonne	4:05pm-4:30pm	Bridging semiconductors and nano-bio
 technology: magneto-electro-photocatalysis\n\nRoom: Room 160\, Bldg: O. T.
  Hogan Biological Sciences Building\, \, 2205 Tech Drive\, Evanston\, Illi
 nois\, United States\, 60208\, Virtual: https://events.vtools.ieee.org/m/4
 93525
LOCATION:Room: Room 160\, Bldg: O. T. Hogan Biological Sciences Building\, 
 \, 2205 Tech Drive\, Evanston\, Illinois\, United States\, 60208\, Virtual
 : https://events.vtools.ieee.org/m/493525
ORGANIZER:yili@anl.gov
SEQUENCE:16
SUMMARY:7th Joint Annual Meeting\, IEEE Magnetics Society and Nanotechnolog
 y Council Chicago Chapters
URL;VALUE=URI:https://events.vtools.ieee.org/m/493525
X-ALT-DESC:Description: &lt;br /&gt;&lt;p&gt;Welcome to the 7th Joint Annual Meeting of
  the IEEE Magnetics Society and IEEE Nanotechnology Council Chicago Chapte
 rs\, to be held in a hybrid form (in-person plus on Zoom) with in-person v
 enue at Northwestern University on Friday\, November 21\, 2025. The meetin
 g will provide free breakfast &amp;amp\; lunch and face-to-face interaction wi
 th the best local Chicago reserachers in Magnetics and Nanotechnology!&lt;/p&gt;
 \n&lt;p&gt;The meeting will convene local and international academics\, professi
 onals and students with broad interests in magnetics and nanotechnology. T
 he meeting will provide a forum for highlighting the latest advances in ma
 gnetism\, spintronics\, nanotechnology\, and nanoelectronics\, and will pr
 ovide opportunities to facilitate networking and collaboration.&lt;/p&gt;\n&lt;p&gt;Th
 ere are no Registration Fees\, but registration is required.&amp;nbsp\;&lt;/p&gt;\n&lt;
 p&gt;&lt;span style=&quot;text-decoration: underline\;&quot;&gt;&lt;strong&gt;Zoom link &lt;/strong&gt;&lt;/
 span&gt;for remote attendees:&lt;/p&gt;\n&lt;p&gt;&lt;a title=&quot;Original URL: https://northwe
 stern.zoom.us/j/99864906799?pwd=7a3tBbokifgG6NTXTyaMbRAQdr5JSv.1. Click or
  tap if you trust this link.&quot; href=&quot;https://gcc02.safelinks.protection.out
 look.com/?url=https%3A%2F%2Fnorthwestern.zoom.us%2Fj%2F99864906799%3Fpwd%3
 D7a3tBbokifgG6NTXTyaMbRAQdr5JSv.1&amp;amp\;data=05%7C02%7Cyili%40anlmail.anl.g
 ov%7Cbd36780425c044fe776708de27854b0a%7C0cfca18525f749e38ae7704d5326e285%7
 C0%7C0%7C638991650610513391%7CUnknown%7CTWFpbGZsb3d8eyJFbXB0eU1hcGkiOnRydW
 UsIlYiOiIwLjAuMDAwMCIsIlAiOiJXaW4zMiIsIkFOIjoiTWFpbCIsIldUIjoyfQ%3D%3D%7C0
 %7C%7C%7C&amp;amp\;sdata=qRJ4jMfcYZDFv9Qo5uURtB6dfhz%2BpWH7aY1rJ2a76pg%3D&amp;amp\
 ;reserved=0&quot; target=&quot;_blank&quot; rel=&quot;noopener noreferrer&quot; data-auth=&quot;NotAppli
 cable&quot; data-linkindex=&quot;0&quot; data-olk-copy-source=&quot;MessageBody&quot;&gt;https://north
 western.zoom.us/j/99864906799?pwd=7a3tBbokifgG6NTXTyaMbRAQdr5JSv.1&lt;/a&gt;&lt;/p&gt;
 \n&lt;p&gt;&lt;span style=&quot;text-decoration: underline\;&quot;&gt;Confirmed Speakers:&lt;/span&gt;
 &lt;/p&gt;\n&lt;table style=&quot;border-collapse: collapse\; width: 457pt\;&quot; border=&quot;0&quot;
  width=&quot;608&quot; cellspacing=&quot;0&quot; cellpadding=&quot;0&quot;&gt;&lt;colgroup&gt;&lt;col style=&quot;mso-wid
 th-source: userset\; mso-width-alt: 13531\; width: 278pt\;&quot; width=&quot;370&quot;&gt; &lt;
 col style=&quot;mso-width-source: userset\; mso-width-alt: 8704\; width: 179pt\
 ;&quot; width=&quot;238&quot;&gt; &lt;/colgroup&gt;\n&lt;tbody&gt;\n&lt;tr style=&quot;height: 15.0pt\;&quot;&gt;\n&lt;td s
 tyle=&quot;height: 15.0pt\; width: 278pt\;&quot; width=&quot;370&quot; height=&quot;20&quot;&gt;Yayoi Takam
 ura (IEEE Dinstinguished Lecturer)&lt;/td&gt;\n&lt;td style=&quot;width: 179pt\;&quot; width=
 &quot;238&quot;&gt;University of California Davis&lt;/td&gt;\n&lt;/tr&gt;\n&lt;tr style=&quot;height: 15.0p
 t\;&quot;&gt;\n&lt;td style=&quot;height: 15.0pt\;&quot; height=&quot;20&quot;&gt;Wenzhuo Wu (IEEE Dinstingu
 ished Lecturer)&lt;/td&gt;\n&lt;td&gt;Purdue University&lt;/td&gt;\n&lt;/tr&gt;\n&lt;tr style=&quot;height
 : 15.0pt\;&quot;&gt;\n&lt;td style=&quot;height: 15.0pt\;&quot; height=&quot;20&quot;&gt;Jennifer Volk&lt;/td&gt;\
 n&lt;td&gt;University of Wisconsin Madison&lt;/td&gt;\n&lt;/tr&gt;\n&lt;tr style=&quot;height: 15.0p
 t\;&quot;&gt;\n&lt;td style=&quot;height: 15.0pt\;&quot; height=&quot;20&quot;&gt;Adina Lucian-Mayer&lt;/td&gt;\n&lt;
 td&gt;University of Illinois Chicago&lt;/td&gt;\n&lt;/tr&gt;\n&lt;tr style=&quot;height: 15.0pt\;
 &quot;&gt;\n&lt;td style=&quot;height: 15.0pt\;&quot; height=&quot;20&quot;&gt;Dirk Morr&lt;/td&gt;\n&lt;td&gt;Universit
 y of Illinois Chicago&lt;/td&gt;\n&lt;/tr&gt;\n&lt;tr style=&quot;height: 15.0pt\;&quot;&gt;\n&lt;td styl
 e=&quot;height: 15.0pt\;&quot; height=&quot;20&quot;&gt;Andrew Higginbotham&lt;/td&gt;\n&lt;td&gt;University 
 of Chicago&lt;/td&gt;\n&lt;/tr&gt;\n&lt;tr style=&quot;height: 15.0pt\;&quot;&gt;\n&lt;td style=&quot;height: 
 15.0pt\;&quot; height=&quot;20&quot;&gt;David Barton&lt;/td&gt;\n&lt;td&gt;Northwestern University&lt;/td&gt;\
 n&lt;/tr&gt;\n&lt;tr style=&quot;height: 15.0pt\;&quot;&gt;\n&lt;td style=&quot;height: 15.0pt\;&quot; height
 =&quot;20&quot;&gt;Jeffrey Richards&lt;/td&gt;\n&lt;td&gt;Northwestern University&lt;/td&gt;\n&lt;/tr&gt;\n&lt;tr 
 style=&quot;height: 15.0pt\;&quot;&gt;\n&lt;td style=&quot;height: 15.0pt\;&quot; height=&quot;20&quot;&gt;Haidan
  Wen&lt;/td&gt;\n&lt;td&gt;Argonne National Laboratory&lt;/td&gt;\n&lt;/tr&gt;\n&lt;tr style=&quot;height:
  15.0pt\;&quot;&gt;\n&lt;td style=&quot;height: 15.0pt\;&quot; height=&quot;20&quot;&gt;Junyi Yang&lt;/td&gt;\n&lt;td
 &gt;Argonne National Laboratory&lt;/td&gt;\n&lt;/tr&gt;\n&lt;tr style=&quot;height: 15.0pt\;&quot;&gt;\n&lt;
 td style=&quot;height: 15.0pt\;&quot; height=&quot;20&quot;&gt;Jinhyeong Jang&lt;/td&gt;\n&lt;td&gt;Argonne N
 ational Laboratory&lt;/td&gt;\n&lt;/tr&gt;\n&lt;tr style=&quot;height: 15.0pt\;&quot;&gt;\n&lt;td style=&quot;
 height: 15.0pt\;&quot; height=&quot;20&quot;&gt;Shubham&lt;/td&gt;\n&lt;td&gt;Syntiant Corp.&lt;/td&gt;\n&lt;/tr&gt;
 \n&lt;tr style=&quot;height: 15.0pt\;&quot;&gt;\n&lt;td style=&quot;height: 15.0pt\;&quot; height=&quot;20&quot;&gt;
 Sean Sullivan&lt;/td&gt;\n&lt;td&gt;memQ&lt;/td&gt;\n&lt;/tr&gt;\n&lt;/tbody&gt;\n&lt;/table&gt;\n&lt;p&gt;&amp;nbsp\;&lt;/
 p&gt;\n&lt;p&gt;&lt;strong&gt;Additional Information about Sponsors of the event:&lt;/strong
 &gt;&lt;/p&gt;\n&lt;p&gt;&lt;strong&gt;IEEE Magnetics Society&lt;/strong&gt;&amp;nbsp\;(&lt;a href=&quot;https://
 ieeemagnetics.org/&quot;&gt;www.ieeemagnetics.org&lt;/a&gt;) focus is on all matters inv
 olved in the fundamental development\, design\, and application of magneti
 c devices\, including magnetic materials and phenomena. The society sponso
 rs numerous conferences throughout the year.&lt;/p&gt;\n&lt;p&gt;&lt;strong&gt;IEEE Nanotech
 nology Council&lt;/strong&gt;&amp;nbsp\;(&lt;a href=&quot;https://ieeenano.org/&quot;&gt;www.ieeenan
 o.org&lt;/a&gt;) is a multi-disciplinary group whose purpose is to advance and c
 oordinate work in the field of Nanotechnology carried out throughout the I
 EEE in scientific\, literary and educational areas. The Council supports t
 he theory\, design\, and development of nanotechnology and its scientific\
 , engineering\, and industrial applications.&lt;/p&gt;\n&lt;p&gt;&lt;strong&gt;IEEE Nanotech
 nology Council Young Professionals&lt;/strong&gt;&amp;nbsp\;&amp;nbsp\;(&lt;a href=&quot;https:/
 /ieeenano.org/category/young-professionals&quot; target=&quot;_blank&quot; rel=&quot;noopener 
 noreferrer&quot; data-saferedirecturl=&quot;https://www.google.com/url?q=https://iee
 enano.org/category/young-professionals&amp;amp\;source=gmail&amp;amp\;ust=16620489
 22766000&amp;amp\;usg=AOvVaw1IQUVd6CEhD-R1VQi45aGZ&quot;&gt;https://&lt;wbr&gt;ieeenano.org/
 category/young-&lt;wbr&gt;professionals&lt;/a&gt;) is a representative branch of the Y
 oung Professionals segment inside the IEEE Nanotechnology Council\, with t
 he mission of promoting young professionals for academic success and profe
 ssional connections.&lt;/p&gt;&lt;br /&gt;&lt;br /&gt;Agenda: &lt;br /&gt;&lt;table style=&quot;border-col
 lapse: collapse\; width: 771pt\;&quot; border=&quot;0&quot; width=&quot;1027&quot; cellspacing=&quot;0&quot; 
 cellpadding=&quot;0&quot;&gt;&lt;colgroup&gt;&lt;col style=&quot;mso-width-source: userset\; mso-widt
 h-alt: 7168\; width: 147pt\;&quot; width=&quot;196&quot;&gt; &lt;col style=&quot;mso-width-source: u
 serset\; mso-width-alt: 5924\; width: 122pt\;&quot; width=&quot;162&quot;&gt; &lt;col style=&quot;ms
 o-width-source: userset\; mso-width-alt: 5156\; width: 106pt\;&quot; width=&quot;141
 &quot;&gt; &lt;col style=&quot;mso-width-source: userset\; mso-width-alt: 19309\; width: 3
 96pt\;&quot; width=&quot;528&quot;&gt; &lt;/colgroup&gt;\n&lt;tbody&gt;\n&lt;tr style=&quot;height: 15.0pt\;&quot;&gt;\n
 &lt;td class=&quot;xl64&quot; style=&quot;height: 15.0pt\; width: 269pt\;&quot; colspan=&quot;2&quot; width
 =&quot;358&quot; height=&quot;20&quot;&gt;Breakfast &amp;amp\; coffee&lt;/td&gt;\n&lt;td style=&quot;width: 106pt\;
 &quot; width=&quot;141&quot;&gt;8:30am-8:55am&lt;/td&gt;\n&lt;td class=&quot;xl63&quot; style=&quot;width: 396pt\;&quot; 
 width=&quot;528&quot;&gt;title&lt;/td&gt;\n&lt;/tr&gt;\n&lt;tr style=&quot;height: 15.0pt\;&quot;&gt;\n&lt;td class=&quot;x
 l67&quot; style=&quot;height: 15.0pt\;&quot; colspan=&quot;2&quot; height=&quot;20&quot;&gt;Opening remarks&lt;/td&gt;
 \n&lt;td class=&quot;xl69&quot; style=&quot;border-left: none\;&quot;&gt;8:55am-9:00am&lt;/td&gt;\n&lt;td cla
 ss=&quot;xl63&quot; style=&quot;border-top: none\;&quot;&gt;&amp;nbsp\;&lt;/td&gt;\n&lt;/tr&gt;\n&lt;tr style=&quot;heigh
 t: 15.0pt\;&quot;&gt;\n&lt;td class=&quot;xl68&quot; style=&quot;height: 15.0pt\;&quot; colspan=&quot;3&quot; heigh
 t=&quot;20&quot;&gt;Session 1: Frontiers in materials science (Chair: Yue Li\, Argonne)
 &lt;/td&gt;\n&lt;td class=&quot;xl63&quot; style=&quot;border-top: none\;&quot;&gt;&amp;nbsp\;&lt;/td&gt;\n&lt;/tr&gt;\n&lt;t
 r style=&quot;mso-height-source: userset\; height: 15.0pt\;&quot;&gt;\n&lt;td class=&quot;xl63&quot;
  style=&quot;height: 15.0pt\; border-top: none\;&quot; height=&quot;20&quot;&gt;Yayoi Takamura (I
 EEE DL)&lt;/td&gt;\n&lt;td class=&quot;xl63&quot; style=&quot;border-top: none\; border-left: none
 \;&quot;&gt;UC Davis&lt;/td&gt;\n&lt;td class=&quot;xl69&quot; style=&quot;border-top: none\; border-left:
  none\;&quot;&gt;9:00am-9:35am&lt;/td&gt;\n&lt;td class=&quot;xl63&quot; style=&quot;border-top: none\;&quot;&gt;T
 ailoring Magnetic Spin Textures in La0.7Sr0.3MnO3-based Micromagnets&lt;/td&gt;\
 n&lt;/tr&gt;\n&lt;tr style=&quot;height: 15.0pt\;&quot;&gt;\n&lt;td class=&quot;xl63&quot; style=&quot;height: 15.
 0pt\; border-top: none\;&quot; height=&quot;20&quot;&gt;Adina Lucian-Mayer&lt;/td&gt;\n&lt;td class=&quot;
 xl63&quot; style=&quot;border-top: none\; border-left: none\;&quot;&gt;UIC&lt;/td&gt;\n&lt;td class=&quot;
 xl69&quot; style=&quot;border-top: none\; border-left: none\;&quot;&gt;9:35am-10:00am&lt;/td&gt;\n
 &lt;td class=&quot;xl63&quot; style=&quot;border-top: none\;&quot;&gt;Quantum functionality in 2D ma
 terials&lt;/td&gt;\n&lt;/tr&gt;\n&lt;tr style=&quot;height: 15.0pt\;&quot;&gt;\n&lt;td class=&quot;xl63&quot; style
 =&quot;height: 15.0pt\; border-top: none\;&quot; height=&quot;20&quot;&gt;Haidan Wen&lt;/td&gt;\n&lt;td cl
 ass=&quot;xl63&quot; style=&quot;border-top: none\; border-left: none\;&quot;&gt;Argonne&lt;/td&gt;\n&lt;t
 d class=&quot;xl69&quot; style=&quot;border-top: none\; border-left: none\;&quot;&gt;10:00am-10:2
 5am&lt;/td&gt;\n&lt;td class=&quot;xl63&quot; style=&quot;border-top: none\;&quot;&gt;Exploring ultrafast 
 collective dynamics of emergent materials&lt;/td&gt;\n&lt;/tr&gt;\n&lt;tr style=&quot;height: 
 15.0pt\;&quot;&gt;\n&lt;td class=&quot;xl67&quot; style=&quot;height: 15.0pt\;&quot; colspan=&quot;2&quot; height=&quot;
 20&quot;&gt;coffee break&lt;/td&gt;\n&lt;td class=&quot;xl69&quot; style=&quot;border-top: none\; border-l
 eft: none\;&quot;&gt;10:25am-10:40am&lt;/td&gt;\n&lt;td class=&quot;xl63&quot; style=&quot;border-top: non
 e\;&quot;&gt;&amp;nbsp\;&lt;/td&gt;\n&lt;/tr&gt;\n&lt;tr style=&quot;height: 15.0pt\;&quot;&gt;\n&lt;td class=&quot;xl68&quot; 
 style=&quot;height: 15.0pt\;&quot; colspan=&quot;3&quot; height=&quot;20&quot;&gt;Session 2: Advance in ele
 ctronics (Chair: Vinod Sangwan\, Northwestern U)&lt;/td&gt;\n&lt;td class=&quot;xl63&quot; st
 yle=&quot;border-top: none\;&quot;&gt;&amp;nbsp\;&lt;/td&gt;\n&lt;/tr&gt;\n&lt;tr style=&quot;height: 15.0pt\;&quot;
 &gt;\n&lt;td class=&quot;xl63&quot; style=&quot;height: 15.0pt\; border-top: none\;&quot; height=&quot;20
 &quot;&gt;Wenzhuo Wu (IEEE DL\, virtual)&lt;/td&gt;\n&lt;td class=&quot;xl63&quot; style=&quot;border-top:
  none\; border-left: none\;&quot;&gt;Purdue&lt;/td&gt;\n&lt;td class=&quot;xl69&quot; style=&quot;border-t
 op: none\; border-left: none\;&quot;&gt;10:40am-11:15am&lt;/td&gt;\n&lt;td class=&quot;xl63&quot; sty
 le=&quot;border-top: none\;&quot;&gt;Tellurene Electronics and Beyond&lt;/td&gt;\n&lt;/tr&gt;\n&lt;tr 
 style=&quot;height: 15.0pt\;&quot;&gt;\n&lt;td class=&quot;xl63&quot; style=&quot;height: 15.0pt\; border
 -top: none\;&quot; height=&quot;20&quot;&gt;Jennifer Volk&lt;/td&gt;\n&lt;td class=&quot;xl63&quot; style=&quot;bord
 er-top: none\; border-left: none\;&quot;&gt;UW Madison&lt;/td&gt;\n&lt;td class=&quot;xl69&quot; styl
 e=&quot;border-top: none\; border-left: none\;&quot;&gt;11:15am-11:40am&lt;/td&gt;\n&lt;td class
 =&quot;xl63&quot; style=&quot;border-top: none\;&quot;&gt;The Dance of the Magnetic Flux Quanta&lt;/
 td&gt;\n&lt;/tr&gt;\n&lt;tr style=&quot;height: 15.0pt\;&quot;&gt;\n&lt;td class=&quot;xl63&quot; style=&quot;height:
  15.0pt\; border-top: none\;&quot; height=&quot;20&quot;&gt;Shubham&lt;/td&gt;\n&lt;td class=&quot;xl63&quot; s
 tyle=&quot;border-top: none\; border-left: none\;&quot;&gt;Syntiant Corp.&lt;/td&gt;\n&lt;td cla
 ss=&quot;xl69&quot; style=&quot;border-top: none\; border-left: none\;&quot;&gt;11:40am-12:05am&lt;/
 td&gt;\n&lt;td class=&quot;xl63&quot; style=&quot;border-top: none\;&quot;&gt;Sensing Sound: MEMS Micro
 phone Technology &amp;amp\; Applications&lt;/td&gt;\n&lt;/tr&gt;\n&lt;tr style=&quot;mso-height-so
 urce: userset\; height: 15.75pt\;&quot;&gt;\n&lt;td class=&quot;xl67&quot; style=&quot;height: 15.75
 pt\;&quot; colspan=&quot;3&quot; height=&quot;21&quot;&gt;Lunch: 12:05am-1:20pm&lt;/td&gt;\n&lt;td class=&quot;xl63&quot;
  style=&quot;border-top: none\;&quot;&gt;&amp;nbsp\;&lt;/td&gt;\n&lt;/tr&gt;\n&lt;tr style=&quot;mso-height-sou
 rce: userset\; height: 15.75pt\;&quot;&gt;\n&lt;td class=&quot;xl68&quot; style=&quot;height: 15.75p
 t\;&quot; colspan=&quot;3&quot; height=&quot;21&quot;&gt;Session 3: Quantum circuits and materials (Ch
 air: Valentine Novosad\, Argonne)&lt;/td&gt;\n&lt;td class=&quot;xl63&quot; style=&quot;border-top
 : none\;&quot;&gt;&amp;nbsp\;&lt;/td&gt;\n&lt;/tr&gt;\n&lt;tr style=&quot;height: 15.0pt\;&quot;&gt;\n&lt;td class=&quot;x
 l63&quot; style=&quot;height: 15.0pt\; border-top: none\;&quot; height=&quot;20&quot;&gt;Andrew Higgin
 botham&lt;/td&gt;\n&lt;td class=&quot;xl63&quot; style=&quot;border-top: none\; border-left: none\
 ;&quot;&gt;U Chicago&lt;/td&gt;\n&lt;td class=&quot;xl69&quot; style=&quot;border-top: none\; border-left:
  none\;&quot;&gt;1:20pm-1:45pm&lt;/td&gt;\n&lt;td class=&quot;xl63&quot; style=&quot;border-top: none\;&quot;&gt;S
 upercondcutor-semiconductor hybrid quantum circuit elements&lt;/td&gt;\n&lt;/tr&gt;\n&lt;
 tr style=&quot;height: 15.0pt\;&quot;&gt;\n&lt;td class=&quot;xl63&quot; style=&quot;height: 15.0pt\; bor
 der-top: none\;&quot; height=&quot;20&quot;&gt;Sean Sullivan&lt;/td&gt;\n&lt;td class=&quot;xl63&quot; style=&quot;b
 order-top: none\; border-left: none\;&quot;&gt;memQ&lt;/td&gt;\n&lt;td class=&quot;xl69&quot; style=&quot;
 border-top: none\; border-left: none\;&quot;&gt;1:45pm-2:10pm&lt;/td&gt;\n&lt;td class=&quot;xl6
 3&quot; style=&quot;border-top: none\;&quot;&gt;&lt;span data-olk-copy-source=&quot;MessageBody&quot;&gt;mem
 Q&#39;s Scalable Path to Distributed Quantum Computing&lt;/span&gt;&lt;/td&gt;\n&lt;/tr&gt;\n&lt;tr
  style=&quot;height: 15.0pt\;&quot;&gt;\n&lt;td class=&quot;xl63&quot; style=&quot;height: 15.0pt\; borde
 r-top: none\;&quot; height=&quot;20&quot;&gt;Dirk Morr&lt;/td&gt;\n&lt;td class=&quot;xl63&quot; style=&quot;border-
 top: none\; border-left: none\;&quot;&gt;UIC&lt;/td&gt;\n&lt;td class=&quot;xl69&quot; style=&quot;border-
 top: none\; border-left: none\;&quot;&gt;2:10pm-2:35pm&lt;/td&gt;\n&lt;td class=&quot;xl63&quot; styl
 e=&quot;border-top: none\;&quot;&gt;Majorana Zero Modes and Quantum Algorithms inTopolo
 gical Superconductors&lt;/td&gt;\n&lt;/tr&gt;\n&lt;tr style=&quot;height: 15.0pt\;&quot;&gt;\n&lt;td clas
 s=&quot;xl63&quot; style=&quot;height: 15.0pt\; border-top: none\;&quot; height=&quot;20&quot;&gt;Junyi Yan
 g&lt;/td&gt;\n&lt;td class=&quot;xl63&quot; style=&quot;border-top: none\; border-left: none\;&quot;&gt;Ar
 gonne&lt;/td&gt;\n&lt;td class=&quot;xl69&quot; style=&quot;border-top: none\; border-left: none\;
 &quot;&gt;2:35pm-3:00pm&lt;/td&gt;\n&lt;td class=&quot;xl63&quot; style=&quot;border-top: none\;&quot;&gt;&amp;nbsp\;&lt;
 /td&gt;\n&lt;/tr&gt;\n&lt;tr style=&quot;height: 15.0pt\;&quot;&gt;\n&lt;td class=&quot;xl67&quot; style=&quot;height
 : 15.0pt\;&quot; colspan=&quot;2&quot; height=&quot;20&quot;&gt;coffee break&lt;/td&gt;\n&lt;td class=&quot;xl69&quot; st
 yle=&quot;border-top: none\; border-left: none\;&quot;&gt;3:00pm-3:15pm&lt;/td&gt;\n&lt;td class
 =&quot;xl63&quot; style=&quot;border-top: none\;&quot;&gt;&amp;nbsp\;&lt;/td&gt;\n&lt;/tr&gt;\n&lt;tr style=&quot;height:
  15.0pt\;&quot;&gt;\n&lt;td class=&quot;xl65&quot; style=&quot;height: 15.0pt\;&quot; colspan=&quot;3&quot; height=
 &quot;20&quot;&gt;Session 4: Applied materials (Chair: Yuepeng Zhang\, Argonne)&lt;/td&gt;\n&lt;
 td class=&quot;xl63&quot; style=&quot;border-top: none\;&quot;&gt;&amp;nbsp\;&lt;/td&gt;\n&lt;/tr&gt;\n&lt;tr style=
 &quot;height: 15.0pt\;&quot;&gt;\n&lt;td class=&quot;xl63&quot; style=&quot;height: 15.0pt\; border-top: 
 none\;&quot; height=&quot;20&quot;&gt;David Barton&lt;/td&gt;\n&lt;td class=&quot;xl63&quot; style=&quot;border-top:
  none\; border-left: none\;&quot;&gt;Northwestern U&lt;/td&gt;\n&lt;td class=&quot;xl69&quot; style=&quot;
 border-top: none\; border-left: none\;&quot;&gt;3:15pm-3:40pm&lt;/td&gt;\n&lt;td class=&quot;xl6
 3&quot; style=&quot;border-top: none\;&quot;&gt;&amp;nbsp\;&lt;/td&gt;\n&lt;/tr&gt;\n&lt;tr style=&quot;height: 15.0
 pt\;&quot;&gt;\n&lt;td class=&quot;xl63&quot; style=&quot;height: 15.0pt\; border-top: none\;&quot; heigh
 t=&quot;20&quot;&gt;Jeffrey Richards&lt;/td&gt;\n&lt;td class=&quot;xl63&quot; style=&quot;border-top: none\; b
 order-left: none\;&quot;&gt;Northwestern U&lt;/td&gt;\n&lt;td class=&quot;xl69&quot; style=&quot;border-to
 p: none\; border-left: none\;&quot;&gt;3:40pm-4:05pm&lt;/td&gt;\n&lt;td class=&quot;xl63&quot; style=
 &quot;border-top: none\;&quot;&gt;Electrical Properties of Dense Suspensions of Conduct
 ive Particles&lt;/td&gt;\n&lt;/tr&gt;\n&lt;tr style=&quot;height: 15.0pt\;&quot;&gt;\n&lt;td class=&quot;xl63&quot;
  style=&quot;height: 15.0pt\; border-top: none\;&quot; height=&quot;20&quot;&gt;Jinhyeong Jang&lt;/t
 d&gt;\n&lt;td class=&quot;xl63&quot; style=&quot;border-top: none\; border-left: none\;&quot;&gt;Argonn
 e&lt;/td&gt;\n&lt;td class=&quot;xl69&quot; style=&quot;border-top: none\; border-left: none\;&quot;&gt;4:
 05pm-4:30pm&lt;/td&gt;\n&lt;td class=&quot;xl63&quot; style=&quot;border-top: none\;&quot;&gt;Bridging sem
 iconductors and nano-biotechnology: magneto-electro-photocatalysis&lt;/td&gt;\n&lt;
 /tr&gt;\n&lt;/tbody&gt;\n&lt;/table&gt;
END:VEVENT
END:VCALENDAR

