BEGIN:VCALENDAR
VERSION:2.0
PRODID:IEEE vTools.Events//EN
CALSCALE:GREGORIAN
BEGIN:VTIMEZONE
TZID:Europe/Istanbul
BEGIN:DAYLIGHT
DTSTART:20380119T061407
TZOFFSETFROM:+0300
TZOFFSETTO:+0300
RRULE:FREQ=YEARLY;BYDAY=3TU;BYMONTH=1
TZNAME:+03
END:DAYLIGHT
BEGIN:STANDARD
DTSTART:20160907T000000
TZOFFSETFROM:+0300
TZOFFSETTO:+0300
RRULE:FREQ=YEARLY;BYDAY=1WE;BYMONTH=9
TZNAME:+03
END:STANDARD
END:VTIMEZONE
BEGIN:VEVENT
DTSTAMP:20250807T141556Z
UID:1957B830-1C2F-4C31-AAEF-D3E4C8ED7958
DTSTART;TZID=Europe/Istanbul:20250801T180000
DTEND;TZID=Europe/Istanbul:20250801T190000
DESCRIPTION:📚✨ IEEE Young Professionals Türkiye olarak bu ayki README
 .txt Kitap Seçkimizde sizlerle büyüleyici bir eser paylaşıyoruz! Ağu
 stos 2025’ün kitabı: Aptallarla Ne Yapmalı? – Onlardan Biri Olmamak
  İçin 📚🌟\n\nGereksiz kişiler\,\nSabrın sınırlarının zorland
 ığı anlar\,\nAynı cümleleri bininci kez kurmak zorunda kalmak\,\nKır
 k akıllının birleşip de bir aptalın kuyuya attığı taşı çıkaram
 aması\,\nVe döne döne içine düştüğümüz o saçma\, yorucu döngü
 ler...\n\nTanıdık geldi mi?\n\nEtkileşimlerimiz neden bu kadar yıprat
 ıcı hale geldi?\nSistem ve süreçler nasıl bu kadar çürüyebildi?\nV
 e neden en boş tenekeler\, en çok sesi çıkarıyor?\n\nRovere bu kitab
 ında sadece kişisel ilişkileri değil\,\nBu davranışları mümkün k
 ılan yapıları da sorguluyor.\n\nAnlatmanın\, konuşmanın\, kendini if
 ade etmenin bir noktadan sonra nafile olduğu\;\nSözün anlamını\, sabr
 ın sınırını yitirdiği o anlar olur ya...\nİşte tam da orada\, bu k
 itap bir sığınak gibi çıkıyor karşımıza.\n\nİronisiyle güldüre
 n\, kavramlarıyla düşündüren\,\nVe satır aralarında sorular sordurt
 an bir metin:\n“Biz ne yaşıyoruz?”\, “Ben buna gerçekten katlanma
 k zorunda mıyım?”\nve elbette\, &quot;Onlardan biri olmamak için ne yapmal
 ı?&quot;\n\n📖 Bu ay\, kendini korumaya çalışanlarla birlikte\,\nGörüne
 ne değil derine bakanlarla birlikte\,\nGeride kalanlara iyi uykular diyer
 ek\,\nBir uyanış kitabı okuyoruz.\n\n📚 ✨Okuduktan sonra düşünce
 lerinizi ve duygularınızı bizimle paylaşmayı unutmayın!\n\nKitap vid
 eosu: https://www.youtube.com/shorts/_OISKgpzJRc\n\nSosyal medya hesaplar
 ımız:\n\n[Linkedin](https://www.linkedin.com/company/ieeeypturkiye/) I [
 Instagram](https://www.instagram.com/ieeeypturkiye/) I [Facebook](https://
 www.facebook.com/ieeeypturkiye) I [YouTube](https://www.youtube.com/@ieeey
 pturkiye?sub_confirmation=1)\n\nVirtual: https://events.vtools.ieee.org/m/
 493632
LOCATION:Virtual: https://events.vtools.ieee.org/m/493632
ORGANIZER:ieeetryp@gmail.com
SEQUENCE:7
SUMMARY:IEEE YOUNG PROFESSIONALS TÜRKIYE - README.TXT #14 - AUGUST 25
URL;VALUE=URI:https://events.vtools.ieee.org/m/493632
X-ALT-DESC:Description: &lt;br /&gt;&lt;p&gt;📚✨ IEEE Young Professionals T&amp;uuml\;r
 kiye olarak bu ayki README.txt Kitap Se&amp;ccedil\;kimizde sizlerle b&amp;uuml\;y
 &amp;uuml\;leyici bir eser paylaşıyoruz! Ağustos 2025&amp;rsquo\;&amp;uuml\;n kitab
 ı: Aptallarla Ne Yapmalı? &amp;ndash\; Onlardan Biri Olmamak İ&amp;ccedil\;in 
 📚🌟&lt;/p&gt;\n&lt;p&gt;Gereksiz kişiler\,&lt;br&gt;Sabrın sınırlarının zorlandı
 ğı anlar\,&lt;br&gt;Aynı c&amp;uuml\;mleleri bininci kez kurmak zorunda kalmak\,&lt;
 br&gt;Kırk akıllının birleşip de bir aptalın kuyuya attığı taşı &amp;c
 cedil\;ıkaramaması\,&lt;br&gt;Ve d&amp;ouml\;ne d&amp;ouml\;ne i&amp;ccedil\;ine d&amp;uuml\;
 şt&amp;uuml\;ğ&amp;uuml\;m&amp;uuml\;z o sa&amp;ccedil\;ma\, yorucu d&amp;ouml\;ng&amp;uuml\;ler
 ...&lt;/p&gt;\n&lt;p&gt;Tanıdık geldi mi?&lt;/p&gt;\n&lt;p&gt;Etkileşimlerimiz neden bu kadar y
 ıpratıcı hale geldi?&lt;br&gt;Sistem ve s&amp;uuml\;re&amp;ccedil\;ler nasıl bu kada
 r &amp;ccedil\;&amp;uuml\;r&amp;uuml\;yebildi?&lt;br&gt;Ve neden en boş tenekeler\, en &amp;cce
 dil\;ok sesi &amp;ccedil\;ıkarıyor?&lt;/p&gt;\n&lt;p&gt;Rovere bu kitabında sadece kiş
 isel ilişkileri değil\,&lt;br&gt;Bu davranışları m&amp;uuml\;mk&amp;uuml\;n kılan 
 yapıları da sorguluyor.&lt;/p&gt;\n&lt;p&gt;Anlatmanın\, konuşmanın\, kendini ifa
 de etmenin bir noktadan sonra nafile olduğu\;&lt;br&gt;S&amp;ouml\;z&amp;uuml\;n anlam
 ını\, sabrın sınırını yitirdiği o anlar olur ya...&lt;br&gt;İşte tam d
 a orada\, bu kitap bir sığınak gibi &amp;ccedil\;ıkıyor karşımıza.&lt;/p&gt;
 \n&lt;p&gt;İronisiyle g&amp;uuml\;ld&amp;uuml\;ren\, kavramlarıyla d&amp;uuml\;ş&amp;uuml\;nd
 &amp;uuml\;ren\,&lt;br&gt;Ve satır aralarında sorular sordurtan bir metin:&lt;br&gt;&amp;ldq
 uo\;Biz ne yaşıyoruz?&amp;rdquo\;\, &amp;ldquo\;Ben buna ger&amp;ccedil\;ekten katla
 nmak zorunda mıyım?&amp;rdquo\;&lt;br&gt;ve elbette\, &quot;Onlardan biri olmamak i&amp;cce
 dil\;in ne yapmalı?&quot;&lt;/p&gt;\n&lt;p&gt;📖 Bu ay\, kendini korumaya &amp;ccedil\;alı
 şanlarla birlikte\,&lt;br&gt;G&amp;ouml\;r&amp;uuml\;nene değil derine bakanlarla birl
 ikte\,&lt;br&gt;Geride kalanlara iyi uykular diyerek\,&lt;br&gt;Bir uyanış kitabı o
 kuyoruz.&lt;/p&gt;\n&lt;p&gt;📚 ✨Okuduktan sonra d&amp;uuml\;ş&amp;uuml\;ncelerinizi ve d
 uygularınızı bizimle paylaşmayı unutmayın!&lt;/p&gt;\n&lt;p&gt;Kitap videosu: &lt;a
  href=&quot;https://www.youtube.com/shorts/_OISKgpzJRc&quot;&gt;https://www.youtube.com
 /shorts/_OISKgpzJRc&lt;/a&gt;&amp;nbsp\;&lt;/p&gt;\n&lt;p dir=&quot;ltr&quot;&gt;Sosyal medya hesaplarım
 ız:&lt;/p&gt;\n&lt;p dir=&quot;ltr&quot;&gt;&lt;strong&gt;&lt;a href=&quot;https://www.linkedin.com/company/i
 eeeypturkiye/&quot; target=&quot;_blank&quot; rel=&quot;noopener&quot; data-auth=&quot;NotApplicable&quot; da
 ta-linkindex=&quot;2&quot; data-ogsc=&quot;&quot;&gt;Linkedin&lt;/a&gt;&amp;nbsp\;I&amp;nbsp\;&lt;a href=&quot;https://
 www.instagram.com/ieeeypturkiye/&quot; target=&quot;_blank&quot; rel=&quot;noopener&quot; data-auth
 =&quot;NotApplicable&quot; data-linkindex=&quot;3&quot; data-ogsc=&quot;&quot;&gt;Instagram&lt;/a&gt;&amp;nbsp\;I&amp;nbs
 p\;&lt;a href=&quot;https://www.facebook.com/ieeeypturkiye&quot; target=&quot;_blank&quot; rel=&quot;n
 oopener&quot; data-auth=&quot;NotApplicable&quot; data-linkindex=&quot;4&quot; data-ogsc=&quot;&quot;&gt;Faceboo
 k&lt;/a&gt;&amp;nbsp\;I&amp;nbsp\;&lt;a href=&quot;https://www.youtube.com/@ieeeypturkiye?sub_co
 nfirmation=1&quot; target=&quot;_blank&quot; rel=&quot;noopener&quot; data-auth=&quot;NotApplicable&quot; dat
 a-linkindex=&quot;5&quot; data-ogsc=&quot;&quot;&gt;YouTube&lt;/a&gt;&lt;/strong&gt;&lt;/p&gt;\n&lt;p dir=&quot;ltr&quot;&gt;&lt;img s
 rc=&quot;https://events.vtools.ieee.org/vtools_ui/media/display/2801ff1d-7505-4
 2e5-a98f-f330e08e2c6c&quot; width=&quot;831&quot; height=&quot;657&quot;&gt;&lt;/p&gt;
END:VEVENT
END:VCALENDAR

