BEGIN:VCALENDAR
VERSION:2.0
PRODID:IEEE vTools.Events//EN
CALSCALE:GREGORIAN
BEGIN:VTIMEZONE
TZID:America/Lima
BEGIN:DAYLIGHT
DTSTART:20380118T221407
TZOFFSETFROM:-0500
TZOFFSETTO:-0500
RRULE:FREQ=YEARLY;BYDAY=3MO;BYMONTH=1
TZNAME:-05
END:DAYLIGHT
BEGIN:STANDARD
DTSTART:19940331T230000
TZOFFSETFROM:-0400
TZOFFSETTO:-0500
RRULE:FREQ=YEARLY;BYDAY=-1TH;BYMONTH=3
TZNAME:-05
END:STANDARD
END:VTIMEZONE
BEGIN:VEVENT
DTSTAMP:20250807T015645Z
UID:C1DD374F-7C66-453B-9C19-1F83B454A78B
DTSTART;TZID=America/Lima:20250802T090000
DTEND;TZID=America/Lima:20250803T145900
DESCRIPTION:La Sociedad de Circuitos y Sistemas de la UNMSM (CAS UNMSM) tie
 ne el agrado de invitar a todos sus miembros a un evento de integración. 
 Esta jornada será una oportunidad para compartir conocimientos\, celebrar
  los logros y fortalecer lazos entre los integrantes\, en un nuevo año ac
 adémico.\n\nEl evento incluirá momentos de convivencia\, comida\, músic
 a y baile\, así como espacios para el diálogo abierto entre los miembros
 \, donde se compartirán experiencias\, ideas y proyectos en desarrollo. A
 simismo\, se realizará la presentación oficial de la nueva directiva\, q
 ue liderará los próximos retos y metas del grupo.\n\nIEEE CAS UNMSM reaf
 irma su compromiso con la difusión de la electrónica y el diseño de sis
 temas\, promoviendo el trabajo colaborativo y la formación técnica. El g
 rupo se consolida como un referente en la UNMSM en temas de circuitos\, si
 stemas embebidos e innovación tecnológica.\n\nAgenda: \nHora	Actividad\n
 09:00 a.m.	Recepción de participantes y bienvenida\n10:00 a.m.	Dinámicas
  de integración\n02:00 p.m.	Parrillada CAS 🍽️\n03:30 p.m.	Discusión
  de perspectivas\n04:30 p.m.	Actividad libre\n05:30 p.m.	Exposición de pr
 oyectos y actividades 2025\n06:30 p.m.	Presentación nueva directiva 2025 
 🎉\n07:00 p.m.	Actividad libre / Bingo\n08:30 p.m.	Bailetón sobre la no
 che\n\nAgosto 03\n\nHora	Actividad\n07:30 a.m.	Despertar y desayuno ligero
 \n08:30 a.m.	Actividades recreativas\n10:00 a.m.	Conversatorio final: idea
 s\, propuestas y visión CAS 2025 💡\n12:00 p.m.	Fotos grupales y agrade
 cimientos 📸\n01:00 p.m.	Almuerzo de cierre\n02:00 p.m.	Palabras de desp
 edida\n\nC. 33\, Cieneguilla 15593\, Lima\, Lima\, Peru
LOCATION:C. 33\, Cieneguilla 15593\, Lima\, Lima\, Peru
ORGANIZER:bryan.huane@unmsm.edu.pe
SEQUENCE:48
SUMMARY:CONECTA2 CAS SM
URL;VALUE=URI:https://events.vtools.ieee.org/m/493915
X-ALT-DESC:Description: &lt;br /&gt;&lt;p data-start=&quot;282&quot; data-end=&quot;648&quot;&gt;La&amp;nbsp\;&lt;
 strong data-start=&quot;320&quot; data-end=&quot;380&quot;&gt;Sociedad de Circuitos y Sistemas de
  la UNMSM (CAS UNMSM)&lt;/strong&gt; tiene el agrado de invitar a todos sus miem
 bros a un evento de integraci&amp;oacute\;n. Esta jornada ser&amp;aacute\; una opo
 rtunidad para &lt;strong data-start=&quot;502&quot; data-end=&quot;596&quot;&gt;compartir conocimien
 tos\, celebrar los logros y fortalecer lazos entre los integrantes&lt;/strong
 &gt;\, en un nuevo a&amp;ntilde\;o acad&amp;eacute\;mico.&lt;/p&gt;\n&lt;p data-start=&quot;650&quot; da
 ta-end=&quot;979&quot;&gt;El evento incluir&amp;aacute\; momentos de &lt;strong data-start=&quot;68
 1&quot; data-end=&quot;720&quot;&gt;convivencia\, comida\, m&amp;uacute\;sica y baile&lt;/strong&gt;\,
  as&amp;iacute\; como espacios para el &lt;strong data-start=&quot;748&quot; data-end=&quot;786&quot;
 &gt;di&amp;aacute\;logo abierto entre los miembros&lt;/strong&gt;\, donde se compartir&amp;
 aacute\;n experiencias\, ideas y proyectos en desarrollo. Asimismo\, se re
 alizar&amp;aacute\; la &lt;strong data-start=&quot;882&quot; data-end=&quot;927&quot;&gt;presentaci&amp;oacu
 te\;n oficial de la nueva directiva&lt;/strong&gt;\, que liderar&amp;aacute\; los pr
 &amp;oacute\;ximos retos y metas del grupo.&lt;/p&gt;\n&lt;p data-start=&quot;981&quot; data-end=
 &quot;1177&quot;&gt;&lt;strong data-start=&quot;104&quot; data-end=&quot;117&quot;&gt;IEEE CAS UNMSM&lt;/strong&gt; rea
 firma su compromiso con la &lt;strong data-start=&quot;148&quot; data-end=&quot;202&quot;&gt;difusi&amp;
 oacute\;n de la electr&amp;oacute\;nica y el dise&amp;ntilde\;o de sistemas&lt;/stron
 g&gt;\, promoviendo el trabajo colaborativo y la formaci&amp;oacute\;n t&amp;eacute\;
 cnica. El grupo se consolida como un &lt;strong data-start=&quot;294&quot; data-end=&quot;31
 9&quot;&gt;referente en la UNMSM&lt;/strong&gt; en temas de circuitos\, sistemas embebid
 os e innovaci&amp;oacute\;n tecnol&amp;oacute\;gica.&lt;/p&gt;\n&lt;p data-start=&quot;981&quot; data
 -end=&quot;1177&quot;&gt;&amp;nbsp\;&lt;/p&gt;\n&lt;p data-start=&quot;981&quot; data-end=&quot;1177&quot;&gt;&amp;nbsp\;&lt;/p&gt;&lt;b
 r /&gt;&lt;br /&gt;Agenda: &lt;br /&gt;&lt;table&gt;\n&lt;thead&gt;\n&lt;tr&gt;\n&lt;th&gt;Hora&lt;/th&gt;\n&lt;th&gt;Activid
 ad&lt;/th&gt;\n&lt;/tr&gt;\n&lt;/thead&gt;\n&lt;tbody&gt;\n&lt;tr&gt;\n&lt;td&gt;09:00 a.m.&lt;/td&gt;\n&lt;td&gt;Recepci&amp;
 oacute\;n de participantes y bienvenida&lt;/td&gt;\n&lt;/tr&gt;\n&lt;tr&gt;\n&lt;td&gt;10:00 a.m.&lt;
 /td&gt;\n&lt;td&gt;Din&amp;aacute\;micas de integraci&amp;oacute\;n&lt;/td&gt;\n&lt;/tr&gt;\n&lt;tr&gt;\n&lt;td&gt;
 02:00 p.m.&lt;/td&gt;\n&lt;td&gt;&lt;strong&gt;Parrillada CAS&lt;/strong&gt; 🍽️&lt;/td&gt;\n&lt;/tr&gt;\n
 &lt;tr&gt;\n&lt;td&gt;03:30 p.m.&lt;/td&gt;\n&lt;td&gt;Discusi&amp;oacute\;n de perspectivas&lt;/td&gt;\n&lt;/t
 r&gt;\n&lt;tr&gt;\n&lt;td&gt;04:30 p.m.&lt;/td&gt;\n&lt;td&gt;Actividad libre&lt;/td&gt;\n&lt;/tr&gt;\n&lt;tr&gt;\n&lt;td&gt;
 05:30 p.m.&lt;/td&gt;\n&lt;td&gt;Exposici&amp;oacute\;n de proyectos y actividades 2025&amp;nb
 sp\;&lt;/td&gt;\n&lt;/tr&gt;\n&lt;tr&gt;\n&lt;td&gt;06:30 p.m.&lt;/td&gt;\n&lt;td&gt;Presentaci&amp;oacute\;n nuev
 a directiva 2025 🎉&lt;/td&gt;\n&lt;/tr&gt;\n&lt;tr&gt;\n&lt;td&gt;07:00 p.m.&lt;/td&gt;\n&lt;td&gt;Activida
 d libre / Bingo&lt;/td&gt;\n&lt;/tr&gt;\n&lt;tr&gt;\n&lt;td&gt;08:30 p.m.&lt;/td&gt;\n&lt;td&gt;Bailet&amp;oacute\
 ;n sobre la noche&amp;nbsp\;&lt;/td&gt;\n&lt;/tr&gt;\n&lt;/tbody&gt;\n&lt;/table&gt;\n&lt;p&gt;&amp;nbsp\;&lt;/p&gt;\n
 &lt;p&gt;Agosto 03&amp;nbsp\;&lt;/p&gt;\n&lt;table&gt;\n&lt;thead&gt;\n&lt;tr&gt;\n&lt;th&gt;Hora&lt;/th&gt;\n&lt;th&gt;Activi
 dad&lt;/th&gt;\n&lt;/tr&gt;\n&lt;/thead&gt;\n&lt;tbody&gt;\n&lt;tr&gt;\n&lt;td&gt;07:30 a.m.&lt;/td&gt;\n&lt;td&gt;Despert
 ar y desayuno ligero&lt;/td&gt;\n&lt;/tr&gt;\n&lt;tr&gt;\n&lt;td&gt;08:30 a.m.&lt;/td&gt;\n&lt;td&gt;Actividad
 es recreativas&lt;/td&gt;\n&lt;/tr&gt;\n&lt;tr&gt;\n&lt;td&gt;10:00 a.m.&lt;/td&gt;\n&lt;td&gt;Conversatorio f
 inal: ideas\, propuestas y visi&amp;oacute\;n CAS 2025 💡&lt;/td&gt;\n&lt;/tr&gt;\n&lt;tr&gt;\
 n&lt;td&gt;12:00 p.m.&lt;/td&gt;\n&lt;td&gt;Fotos grupales y agradecimientos 📸&lt;/td&gt;\n&lt;/tr
 &gt;\n&lt;tr&gt;\n&lt;td&gt;01:00 p.m.&lt;/td&gt;\n&lt;td&gt;Almuerzo de cierre&lt;/td&gt;\n&lt;/tr&gt;\n&lt;tr&gt;\n&lt;t
 d&gt;02:00 p.m.&lt;/td&gt;\n&lt;td&gt;Palabras de despedida&lt;/td&gt;\n&lt;/tr&gt;\n&lt;/tbody&gt;\n&lt;/tabl
 e&gt;\n&lt;p&gt;&amp;nbsp\;&lt;/p&gt;
END:VEVENT
END:VCALENDAR

