BEGIN:VCALENDAR
VERSION:2.0
PRODID:IEEE vTools.Events//EN
CALSCALE:GREGORIAN
BEGIN:VTIMEZONE
TZID:Asia/Kolkata
BEGIN:STANDARD
DTSTART:19451014T230000
TZOFFSETFROM:+0630
TZOFFSETTO:+0530
TZNAME:IST
END:STANDARD
END:VTIMEZONE
BEGIN:VEVENT
DTSTAMP:20251007T110404Z
UID:4ECE1FB0-35D5-4830-A590-261EA1CD844C
DTSTART;TZID=Asia/Kolkata:20250731T103000
DTEND;TZID=Asia/Kolkata:20250731T123000
DESCRIPTION:DL talk of Dr. Kumar Vijay Mishra at Marwadi University open fo
 r all\,\n\nDeep learning for massive MIMO hybrid beamforming\n\nCo-sponsor
 ed by: IEEE GRSS\, IEEE SPS\n\nSpeaker(s): Dr. Kumar Vijay Mishra\, \n\nRo
 om: MC501\, Bldg: Marwadi University\, At: Gauridad\, Rajkot-Morbi Highway
 \, Rajkot\, Gujarat\, India
LOCATION:Room: MC501\, Bldg: Marwadi University\, At: Gauridad\, Rajkot-Mor
 bi Highway\, Rajkot\, Gujarat\, India
ORGANIZER:amit.ved@ieee.org
SEQUENCE:20
SUMMARY:DL Talk: Deep learning for massive MIMO hybrid beamforming by Dr. K
 umar Vijay Mishra\, IEEE GRSS
URL;VALUE=URI:https://events.vtools.ieee.org/m/493947
X-ALT-DESC:Description: &lt;br /&gt;&lt;p&gt;DL talk of Dr. Kumar Vijay Mishra at Marwa
 di University open for all\,&amp;nbsp\;&lt;/p&gt;\n&lt;p&gt;&amp;nbsp\;&lt;/p&gt;\n&lt;p&gt;Deep learning 
 for massive MIMO hybrid beamforming&lt;/p&gt;
END:VEVENT
END:VCALENDAR

