BEGIN:VCALENDAR
VERSION:2.0
PRODID:IEEE vTools.Events//EN
CALSCALE:GREGORIAN
BEGIN:VTIMEZONE
TZID:America/Los_Angeles
BEGIN:DAYLIGHT
DTSTART:20250309T030000
TZOFFSETFROM:-0800
TZOFFSETTO:-0700
RRULE:FREQ=YEARLY;BYDAY=2SU;BYMONTH=3
TZNAME:PDT
END:DAYLIGHT
BEGIN:STANDARD
DTSTART:20251102T010000
TZOFFSETFROM:-0700
TZOFFSETTO:-0800
RRULE:FREQ=YEARLY;BYDAY=1SU;BYMONTH=11
TZNAME:PST
END:STANDARD
END:VTIMEZONE
BEGIN:VEVENT
DTSTAMP:20250922T073543Z
UID:0B73FCF4-8562-41AF-BBCE-3E321970DD10
DTSTART;TZID=America/Los_Angeles:20250914T113000
DTEND;TZID=America/Los_Angeles:20250914T143000
DESCRIPTION:Join fellow IEEE members and Section leaders to socialize\, and
  explore opportunities to connect with the section. This event is free to 
 attend for all IEEE Members. Family members and guests are welcome to join
 \, with a $10 registration fee to cover the price of food and drinks.\n\nP
 hoto Policy\n\nPlease be aware that photography\, video\, and sound record
 ings will take place during the evening. You may be asked to be in a photo
 \, or you may be inadvertently recorded when photographs or videos are mad
 e. Individuals shall not be identified in Vancouver Section published medi
 a without their consent.\n\n6911 Southpoint Drive\, Burnaby \, British Col
 umbia\, Canada\, V3N 4X8
LOCATION:6911 Southpoint Drive\, Burnaby \, British Columbia\, Canada\, V3N
  4X8
ORGANIZER:nima.moazen@ieee.org
SEQUENCE:24
SUMMARY:IEEE VANCOUVER SECTION - SUMMER SOCIAL 2025
URL;VALUE=URI:https://events.vtools.ieee.org/m/494414
X-ALT-DESC:Description: &lt;br /&gt;&lt;p&gt;&lt;img style=&quot;display: block\; margin-left: 
 auto\; margin-right: auto\;&quot; src=&quot;https://events.vtools.ieee.org/vtools_ui
 /media/display/9c3cc48c-fea0-4d37-aa30-8b607fa0945b&quot; width=&quot;669&quot; height=&quot;4
 46&quot;&gt;&lt;/p&gt;\n&lt;p&gt;&amp;nbsp\;&lt;/p&gt;\n&lt;p&gt;Join fellow IEEE members and Section leaders 
 to socialize\, and explore opportunities to connect with the section. This
  event is free to attend for all IEEE Members. Family members and guests a
 re welcome to join\, with a $10 registration fee to cover the price of foo
 d and drinks.&lt;/p&gt;\n&lt;p&gt;&amp;nbsp\;&lt;/p&gt;\n&lt;p&gt;&lt;strong&gt;Photo Policy&lt;/strong&gt;&lt;/p&gt;\n&lt;
 p&gt;Please be aware that photography\, video\, and sound recordings will tak
 e place during the evening. You may be asked to be in a photo\, or you may
  be inadvertently recorded when photographs or videos are made. Individual
 s shall not be identified in Vancouver Section published media without the
 ir consent.&lt;/p&gt;\n&lt;p&gt;&amp;nbsp\;&lt;/p&gt;
END:VEVENT
END:VCALENDAR

