BEGIN:VCALENDAR
VERSION:2.0
PRODID:IEEE vTools.Events//EN
CALSCALE:GREGORIAN
BEGIN:VTIMEZONE
TZID:Europe/London
BEGIN:DAYLIGHT
DTSTART:20250330T020000
TZOFFSETFROM:+0000
TZOFFSETTO:+0100
RRULE:FREQ=YEARLY;BYDAY=-1SU;BYMONTH=3
TZNAME:BST
END:DAYLIGHT
BEGIN:STANDARD
DTSTART:20251026T010000
TZOFFSETFROM:+0100
TZOFFSETTO:+0000
RRULE:FREQ=YEARLY;BYDAY=-1SU;BYMONTH=10
TZNAME:GMT
END:STANDARD
END:VTIMEZONE
BEGIN:VEVENT
DTSTAMP:20250823T203022Z
UID:8B6B8BBD-CBBA-4F09-B740-9AEBC1E1E4F4
DTSTART;TZID=Europe/London:20250818T121500
DTEND;TZID=Europe/London:20250818T131500
DESCRIPTION:IEEE ANTENNAS &amp; PROPAGATION SOCIETY DISTINGUISHED LECTURE by Pr
 of. Özlem Özgün (IEEE AP-S Distinguished Lecturer)\, Hacettepe Universi
 ty\, Turkey\n\nSpeaker(s): Özlem \, \n\nAgenda: \n12:15 Welcome and openi
 ng remarks\n\n12:20 Talk\n\n01:00 Q&amp;A\n\n01:15 Closing\n\nHeriot-Watt Univ
 ersity\, Edinburgh\, Scotland\, United Kingdom
LOCATION:Heriot-Watt University\, Edinburgh\, Scotland\, United Kingdom
ORGANIZER:masood.rehman@ieee.org
SEQUENCE:14
SUMMARY:IEEE ANTENNAS &amp; PROPAGATION SOCIETY DISTINGUISHED LECTURE
URL;VALUE=URI:https://events.vtools.ieee.org/m/495010
X-ALT-DESC:Description: &lt;br /&gt;&lt;p&gt;IEEE ANTENNAS &amp;amp\; PROPAGATION SOCIETY D
 ISTINGUISHED LECTURE by Prof. &amp;Ouml\;zlem &amp;Ouml\;zg&amp;uuml\;n (IEEE AP-S Dis
 tinguished Lecturer)\, Hacettepe University\, Turkey&lt;/p&gt;&lt;br /&gt;&lt;br /&gt;Agenda
 : &lt;br /&gt;&lt;p&gt;12:15 Welcome and opening remarks&lt;/p&gt;\n&lt;p&gt;12:20 Talk&lt;/p&gt;\n&lt;p&gt;01
 :00 Q&amp;amp\;A&lt;/p&gt;\n&lt;p&gt;01:15 Closing&lt;/p&gt;
END:VEVENT
END:VCALENDAR

