BEGIN:VCALENDAR
VERSION:2.0
PRODID:IEEE vTools.Events//EN
CALSCALE:GREGORIAN
BEGIN:VTIMEZONE
TZID:America/Chicago
BEGIN:DAYLIGHT
DTSTART:20250309T030000
TZOFFSETFROM:-0600
TZOFFSETTO:-0500
RRULE:FREQ=YEARLY;BYDAY=2SU;BYMONTH=3
TZNAME:CDT
END:DAYLIGHT
BEGIN:STANDARD
DTSTART:20251102T010000
TZOFFSETFROM:-0500
TZOFFSETTO:-0600
RRULE:FREQ=YEARLY;BYDAY=1SU;BYMONTH=11
TZNAME:CST
END:STANDARD
END:VTIMEZONE
BEGIN:VEVENT
DTSTAMP:20250828T140606Z
UID:28244151-5F7E-4D5B-B31C-691D1EF2F35C
DTSTART;TZID=America/Chicago:20250821T110000
DTEND;TZID=America/Chicago:20250821T130000
DESCRIPTION:This program will be a review with pictures of projects Life Me
 mbers have worked on at the San Antonio Museum of Science and Technology (
 SAMSAT). Since 2017 Lone Star Sections Life Members have volunteered at SA
 MSAT and during the past 9 years dozens of IEEE members have contributed t
 housands of man hours working on scores of difference projects. Photos tak
 en during work sessions will show the wide variety of tasks that have been
  accomplished from 2017 up to the past weekend.\n\nThere is a fee of $15 p
 er IEEE members\, $20 for guests and $5 for students to cover the cost of 
 the meal which you can select from the special luncheon menu. Exact change
  would be greatly appreciated. The LMAG will pay the balance of the cost f
 or the event.\n\nAgenda:\n\n11:00 am - Set up\n\n11:30 am - Opening &amp; Welc
 ome\n\n12:00 noon - Program\n\n1:00 pm close\n\nSpeaker(s): Ernest\, \n\nR
 oom: Private Room\, Bldg: La Fonda Mexican Restaurant - Alamo Heights\, 86
 33 Crownhill Blvd\, San Antonio\, Texas\, United States\, 78209
LOCATION:Room: Private Room\, Bldg: La Fonda Mexican Restaurant - Alamo Hei
 ghts\, 8633 Crownhill Blvd\, San Antonio\, Texas\, United States\, 78209
ORGANIZER:s.atkinson@ieee.org
SEQUENCE:50
SUMMARY:SAMSAT Projects - Volunteering by IEEE Life Members
URL;VALUE=URI:https://events.vtools.ieee.org/m/495011
X-ALT-DESC:Description: &lt;br /&gt;&lt;p&gt;&lt;strong&gt;This program will be a review with
  pictures of projects Life Members have worked on at the San Antonio Museu
 m of Science and Technology (SAMSAT). &amp;nbsp\;Since 2017 Lone Star Sections
  Life Members have volunteered at SAMSAT and during the past 9 years dozen
 s of IEEE members have contributed thousands of man hours working on score
 s of difference projects. &amp;nbsp\;Photos taken during work sessions will sh
 ow the wide variety of tasks that have been accomplished from 2017 up to t
 he past weekend.&lt;/strong&gt;&lt;/p&gt;\n&lt;p&gt;&lt;strong&gt;There is a fee of $15 per IEEE m
 embers\, $20 for guests and $5 for students to cover the cost of the meal 
 which you can select from the special luncheon menu. &amp;nbsp\;Exact change w
 ould be greatly appreciated. &amp;nbsp\;The LMAG will pay the balance of the c
 ost for the event.&lt;/strong&gt;&lt;/p&gt;\n&lt;p&gt;&amp;nbsp\;&lt;/p&gt;\n&lt;p&gt;&lt;strong&gt;Agenda:&lt;/stron
 g&gt;&lt;/p&gt;\n&lt;p&gt;&lt;strong&gt;11:00 am - Set up&lt;/strong&gt;&lt;/p&gt;\n&lt;p&gt;&lt;strong&gt;11:30 am - O
 pening &amp;amp\; Welcome&lt;/strong&gt;&lt;/p&gt;\n&lt;p&gt;&lt;strong&gt;12:00 noon - Program&lt;/stron
 g&gt;&lt;/p&gt;\n&lt;p&gt;&lt;strong&gt;1:00 pm close&lt;/strong&gt;&lt;/p&gt;\n&lt;p&gt;&amp;nbsp\;&lt;/p&gt;\n&lt;p&gt;&amp;nbsp\;&lt;
 /p&gt;\n&lt;p&gt;&amp;nbsp\;&lt;/p&gt;
END:VEVENT
END:VCALENDAR

