BEGIN:VCALENDAR
VERSION:2.0
PRODID:IEEE vTools.Events//EN
CALSCALE:GREGORIAN
BEGIN:VTIMEZONE
TZID:Europe/Madrid
BEGIN:DAYLIGHT
DTSTART:20260329T030000
TZOFFSETFROM:+0100
TZOFFSETTO:+0200
RRULE:FREQ=YEARLY;BYDAY=-1SU;BYMONTH=3
TZNAME:CEST
END:DAYLIGHT
BEGIN:STANDARD
DTSTART:20251026T020000
TZOFFSETFROM:+0200
TZOFFSETTO:+0100
RRULE:FREQ=YEARLY;BYDAY=-1SU;BYMONTH=10
TZNAME:CET
END:STANDARD
END:VTIMEZONE
BEGIN:VEVENT
DTSTAMP:20251219T073558Z
UID:31E8E836-0901-4883-BBD6-4712063FBF6B
DTSTART;TZID=Europe/Madrid:20251126T080000
DTEND;TZID=Europe/Madrid:20251128T180000
DESCRIPTION:IEEE CEDA and IEEE CAS-SSCS technically co-sponsor the 40th edi
 tion of the Conference on Design of Circuits and Integrated Systems (DCIS 
 2025).\n\nThe conference on Design of Circuits and Integrated Systems (DCI
 S) is a well-established international meeting that provides opportunities
  to both researchers in the academia and professionals of industry to exch
 ange new ideas and application experiences in the highly active fields of 
 micro-and nano-electronic circuits and integrated systems. It provides an 
 excellent forum to present and discuss works on the emerging challenges of
 fered by technology\, in the areas of modeling\, design\, implementation a
 nd test of devices\, circuits and systems.\n\nCo-sponsored by: CAS-SSCS Sp
 ain Chapter\n\nBldg: Hotel Santemar\, Joaquín costa\, 28\, Santander\, Ca
 ntabria\, Spain\, 39005
LOCATION:Bldg: Hotel Santemar\, Joaquín costa\, 28\, Santander\, Cantabria
 \, Spain\, 39005
ORGANIZER:pacov@us.es
SEQUENCE:11
SUMMARY:XL Conference on Design of Circuits and Integrated Systems
URL;VALUE=URI:https://events.vtools.ieee.org/m/495132
X-ALT-DESC:Description: &lt;br /&gt;&lt;p&gt;IEEE CEDA and IEEE CAS-SSCS&amp;nbsp\; technic
 ally co-sponsor the 40th edition of the Conference on Design of Circuits a
 nd Integrated Systems (DCIS 2025).&lt;/p&gt;\n&lt;p&gt;The conference on Design of Cir
 cuits and Integrated Systems (DCIS) is a well-established international me
 eting that provides opportunities to both researchers in the academia and 
 professionals of industry to exchange new ideas and application experience
 s in the highly active fields of micro-and nano-electronic circuits and in
 tegrated systems. It provides an excellent forum to present and discuss wo
 rks on the emerging challenges offered by technology\, in the areas of mod
 eling\, design\, implementation and test of devices\, circuits and systems
 .&lt;/p&gt;
END:VEVENT
END:VCALENDAR

