BEGIN:VCALENDAR
VERSION:2.0
PRODID:IEEE vTools.Events//EN
CALSCALE:GREGORIAN
BEGIN:VTIMEZONE
TZID:Europe/Istanbul
BEGIN:DAYLIGHT
DTSTART:20380119T061407
TZOFFSETFROM:+0300
TZOFFSETTO:+0300
RRULE:FREQ=YEARLY;BYDAY=3TU;BYMONTH=1
TZNAME:+03
END:DAYLIGHT
BEGIN:STANDARD
DTSTART:20160907T000000
TZOFFSETFROM:+0300
TZOFFSETTO:+0300
RRULE:FREQ=YEARLY;BYDAY=1WE;BYMONTH=9
TZNAME:+03
END:STANDARD
END:VTIMEZONE
BEGIN:VEVENT
DTSTAMP:20250818T133549Z
UID:28BB97BC-274B-4CA6-AF81-14F4571973A0
DTSTART;TZID=Europe/Istanbul:20250815T180000
DTEND;TZID=Europe/Istanbul:20250815T190000
DESCRIPTION:YP Türkiye Meet Our Ambassador - IEEE R8 WESYP 2025!!!\n\n🎉
  IEEE R8 WESYP 2025 heyecanı başladı!\n\nIEEE Young Professionals Türk
 iye Başkanımız Hüseyin Yapıcı\, 11–13 Eylül 2025 tarihleri arası
 nda Hamburg’da gerçekleşecek olan IEEE Western European Students and Y
 oung Professionals Congress’te (WESYP) Türkiye Elçisi olmuştur! 🇹
 🇷🇩🇪\n\nBu yıl “Artificial Intelligence: Sustainability\, Ethic
 s\, Education\, and Environmental Impact” temasıyla gerçekleşecek ola
 n kongre\, Batı Avrupa’daki öğrenci ve genç profesyonelleri yapay ze
 ka\, sürdürülebilirlik ve liderlik konularında bir araya getiriyor.\n\
 n📍 Hamburg University of Technology\n📅 11–13 Eylül 2025\n📲 Kay
 ıt ve detaylar için: wesyp.ieeer8.org\n\n***\n\n🎉 The excitement for 
 IEEE R8 WESYP 2025 has begun!\n\nIEEE Young Professionals Türkiye Chair\,
  Hüseyin Yapıcı\, has been selected as the Ambassador of Türkiye for t
 he IEEE Western European Students and Young Professionals Congress (WESYP)
 \, which will take place in Hamburg from 11–13 September 2025! 🇹🇷
 🇩🇪\n\nThis year’s congress\, themed “Artificial Intelligence: Su
 stainability\, Ethics\, Education\, and Environmental Impact\,” will bri
 ng together students and young professionals from across Western Europe to
  explore AI\, sustainability\, and leadership topics.\n\n📍 Hamburg Univ
 ersity of Technology\n📅 11–13 September 2025\n📲 For registration a
 nd more details: wesyp.ieeer8.org\n\nOur social medias:\n\n[Linkedin](http
 s://www.linkedin.com/company/ieeeypturkiye/) I [Instagram](https://www.ins
 tagram.com/ieeeypturkiye/) I [Facebook](https://www.facebook.com/ieeeyptur
 kiye) I [YouTube](https://www.youtube.com/@ieeeypturkiye?sub_confirmation=
 1)\n\nVirtual: https://events.vtools.ieee.org/m/495456
LOCATION:Virtual: https://events.vtools.ieee.org/m/495456
ORGANIZER:ieeetryp@gmail.com
SEQUENCE:4
SUMMARY:YP Türkiye Meet Our Ambassador - IEEE R8 WESYP 2025
URL;VALUE=URI:https://events.vtools.ieee.org/m/495456
X-ALT-DESC:Description: &lt;br /&gt;&lt;p&gt;YP T&amp;uuml\;rkiye Meet Our Ambassador - IEE
 E R8 WESYP 2025!!!&lt;/p&gt;\n&lt;p&gt;🎉 IEEE R8 WESYP 2025 heyecanı başladı!&lt;/p
 &gt;\n&lt;p&gt;IEEE Young Professionals T&amp;uuml\;rkiye Başkanımız H&amp;uuml\;seyin Y
 apıcı\, 11&amp;ndash\;13 Eyl&amp;uuml\;l 2025 tarihleri arasında Hamburg&amp;rsquo\
 ;da ger&amp;ccedil\;ekleşecek olan IEEE Western European Students and Young P
 rofessionals Congress&amp;rsquo\;te (WESYP) T&amp;uuml\;rkiye El&amp;ccedil\;isi olmu
 ştur! 🇹🇷🇩🇪&lt;/p&gt;\n&lt;p&gt;Bu yıl &amp;ldquo\;Artificial Intelligence: S
 ustainability\, Ethics\, Education\, and Environmental Impact&amp;rdquo\; tema
 sıyla ger&amp;ccedil\;ekleşecek olan kongre\, Batı Avrupa&amp;rsquo\;daki &amp;ouml
 \;ğrenci ve gen&amp;ccedil\; profesyonelleri yapay zeka\, s&amp;uuml\;rd&amp;uuml\;r&amp;
 uuml\;lebilirlik ve liderlik konularında bir araya getiriyor.&lt;/p&gt;\n&lt;p&gt;
 📍 Hamburg University of Technology&lt;br&gt;📅 11&amp;ndash\;13 Eyl&amp;uuml\;l 202
 5&lt;br&gt;📲 Kayıt ve detaylar i&amp;ccedil\;in: wesyp.ieeer8.org&lt;/p&gt;\n&lt;p&gt;***&lt;/p
 &gt;\n&lt;p&gt;🎉 The excitement for IEEE R8 WESYP 2025 has begun!&lt;/p&gt;\n&lt;p&gt;IEEE Y
 oung Professionals T&amp;uuml\;rkiye Chair\, H&amp;uuml\;seyin Yapıcı\, has been
  selected as the Ambassador of T&amp;uuml\;rkiye for the IEEE Western European
  Students and Young Professionals Congress (WESYP)\, which will take place
  in Hamburg from 11&amp;ndash\;13 September 2025! 🇹🇷🇩🇪&lt;/p&gt;\n&lt;p&gt;Thi
 s year&amp;rsquo\;s congress\, themed &amp;ldquo\;Artificial Intelligence: Sustain
 ability\, Ethics\, Education\, and Environmental Impact\,&amp;rdquo\; will bri
 ng together students and young professionals from across Western Europe to
  explore AI\, sustainability\, and leadership topics.&lt;/p&gt;\n&lt;p&gt;📍 Hamburg
  University of Technology&lt;br&gt;📅 11&amp;ndash\;13 September 2025&lt;br&gt;📲 For 
 registration and more details: wesyp.ieeer8.org&lt;/p&gt;\n&lt;p dir=&quot;ltr&quot;&gt;Our soci
 al medias:&lt;/p&gt;\n&lt;p dir=&quot;ltr&quot;&gt;&lt;strong&gt;&lt;a href=&quot;https://www.linkedin.com/com
 pany/ieeeypturkiye/&quot; target=&quot;_blank&quot; rel=&quot;noopener&quot; data-auth=&quot;NotApplicab
 le&quot; data-linkindex=&quot;2&quot; data-ogsc=&quot;&quot;&gt;Linkedin&lt;/a&gt;&amp;nbsp\;I&amp;nbsp\;&lt;a href=&quot;ht
 tps://www.instagram.com/ieeeypturkiye/&quot; target=&quot;_blank&quot; rel=&quot;noopener&quot; dat
 a-auth=&quot;NotApplicable&quot; data-linkindex=&quot;3&quot; data-ogsc=&quot;&quot;&gt;Instagram&lt;/a&gt;&amp;nbsp\
 ;I&amp;nbsp\;&lt;a href=&quot;https://www.facebook.com/ieeeypturkiye&quot; target=&quot;_blank&quot; 
 rel=&quot;noopener&quot; data-auth=&quot;NotApplicable&quot; data-linkindex=&quot;4&quot; data-ogsc=&quot;&quot;&gt;F
 acebook&lt;/a&gt;&amp;nbsp\;I&amp;nbsp\;&lt;a href=&quot;https://www.youtube.com/@ieeeypturkiye?
 sub_confirmation=1&quot; target=&quot;_blank&quot; rel=&quot;noopener&quot; data-auth=&quot;NotApplicabl
 e&quot; data-linkindex=&quot;5&quot; data-ogsc=&quot;&quot;&gt;YouTube&lt;/a&gt;&lt;/strong&gt;&lt;/p&gt;\n&lt;p dir=&quot;ltr&quot;&gt;
 &amp;nbsp\;&lt;img src=&quot;https://events.vtools.ieee.org/vtools_ui/media/display/35
 33e937-cb1b-4e2c-a215-536c6726cc66&quot;&gt;&lt;/p&gt;
END:VEVENT
END:VCALENDAR

