BEGIN:VCALENDAR
VERSION:2.0
PRODID:IEEE vTools.Events//EN
CALSCALE:GREGORIAN
BEGIN:VTIMEZONE
TZID:Europe/Budapest
BEGIN:DAYLIGHT
DTSTART:20250330T030000
TZOFFSETFROM:+0100
TZOFFSETTO:+0200
RRULE:FREQ=YEARLY;BYDAY=-1SU;BYMONTH=3
TZNAME:CEST
END:DAYLIGHT
BEGIN:STANDARD
DTSTART:20251026T020000
TZOFFSETFROM:+0200
TZOFFSETTO:+0100
RRULE:FREQ=YEARLY;BYDAY=-1SU;BYMONTH=10
TZNAME:CET
END:STANDARD
END:VTIMEZONE
BEGIN:VEVENT
DTSTAMP:20250811T151856Z
UID:3F355EA3-55AC-4597-9334-2B51DDE329C8
DTSTART;TZID=Europe/Budapest:20250807T160000
DTEND;TZID=Europe/Budapest:20250807T170000
DESCRIPTION:IEEE Life Member Activity Mentoring program in the frame of Int
 ernational Youth Conference on Energy [IYCE&#39;25](https://www.iyce-conf.org/
 ) [IYCE&#39;25 - Program](https://www.iyce-conf.org/program)\n\nSpeaker(s): Pr
 of. Berceli\, Prof. Madarász\, Prof. Szirányi\n\n Ensana Thermal Margits
 ziget\,  Zielinski Szilárd sétány\,\, Budapest\, Budapest Fovaros\, Hun
 gary\, 1007
LOCATION: Ensana Thermal Margitsziget\,  Zielinski Szilárd sétány\,\, Bu
 dapest\, Budapest Fovaros\, Hungary\, 1007
ORGANIZER:kadar.peter@uni-obuda.hu
SEQUENCE:50
SUMMARY:LM Mentoring event: Passing the electrical engineering experiences 
 to the new generation 
URL;VALUE=URI:https://events.vtools.ieee.org/m/495502
X-ALT-DESC:Description: &lt;br /&gt;&lt;p class=&quot;MsoNormal&quot;&gt;IEEE Life Member Activit
 y Mentoring program in the frame of&amp;nbsp\;&lt;strong&gt;International Youth Conf
 erence on Energy &lt;/strong&gt;&lt;a href=&quot;https://www.iyce-conf.org/&quot;&gt;IYCE&#39;25&lt;/a&gt;
 &amp;nbsp\;&amp;nbsp\; &lt;a href=&quot;https://www.iyce-conf.org/program&quot;&gt;IYCE&#39;25 - Progr
 am&lt;/a&gt;&lt;/p&gt;
END:VEVENT
END:VCALENDAR

