BEGIN:VCALENDAR
VERSION:2.0
PRODID:IEEE vTools.Events//EN
CALSCALE:GREGORIAN
BEGIN:VTIMEZONE
TZID:America/Los_Angeles
BEGIN:DAYLIGHT
DTSTART:20250309T030000
TZOFFSETFROM:-0800
TZOFFSETTO:-0700
RRULE:FREQ=YEARLY;BYDAY=2SU;BYMONTH=3
TZNAME:PDT
END:DAYLIGHT
BEGIN:STANDARD
DTSTART:20251102T010000
TZOFFSETFROM:-0700
TZOFFSETTO:-0800
RRULE:FREQ=YEARLY;BYDAY=1SU;BYMONTH=11
TZNAME:PST
END:STANDARD
END:VTIMEZONE
BEGIN:VEVENT
DTSTAMP:20250817T040326Z
UID:FC0A2700-BBEA-4D2E-BC21-3ACFB98596E8
DTSTART;TZID=America/Los_Angeles:20250813T173000
DTEND;TZID=America/Los_Angeles:20250813T203000
DESCRIPTION:CHEERS OCEANEERS! August 2025\n\nPLEASE note the time zone of t
 he vTools event date and time. This appears to be a recent glitch or chang
 e in the way vTools works\, and it may display the event in the UTC time z
 one when you first open it\, so it looks wrong. The event is on Wednesday\
 , August 13th\, 5:30pm California time (PDT).\n\nOur main presenter is: Al
 ex Ferré\, of Hybrid Reef Solutions and ALMA Blue / ALMA Life Sciences. A
 lex always provides us with engaging presentations from the cutting edge o
 f BlueTech and the fight to protect the oceans and coral reefs from climat
 e change.\n\n***\n\nWelcome to the monthly event for the IEEE Oceanic Engi
 neering Society (OES)\, San Diego Chapter\, which is hosting this meeting 
 jointly along with TMA BlueTech (The Maritime Alliance)\, and MTS (Marine 
 Technology Society).\n\nPlease join us for the main presentation and also 
 plenty of time for networking and friendly conversation about everything o
 ceanic\, engineering\, science\, Blue Tech\, and more. No need to be an IE
 EE or OES member\, or TMA\, or MTS. Everyone is invited.\n\nThis month\, w
 e will be at Quantum Brewing again\, a cool science-themed brewery founded
  by a biochemist.\n\nNo ticket required\, but please order something for y
 ourself from the brewery.\n\nPlease grab a bite from a nearby restaurant\,
  which is okay to bring into the brewery per the owner.\n\nThe food and dr
 inks are not being funded by the hosts. Please open your own tab.\n\nSpeak
 er(s): Alex Ferré\n\nAgenda: \nAgenda:\n\n5:30pm: Arrival and networking\
 , order food/drinks for yourself.\n\n6:15pm: OES and other hosting group a
 nnouncements.\n\n6:20pm: Main Presentation\n\n6:40pm (approximately): “o
 pen mic” for any other attendees to present anything they like (ocean-re
 lated\, of course).\n\nExamples: employers presenting opportunities for em
 ployment\, job seekers presenting a quick bio\, internship program opportu
 nities\, promoting other events\, seeking funding\, “show and tell” of
  any cool technology you are working on\, etc.\n\n*For the open mic portio
 n of the event\, please observe a time-limit of 3 minutes maximum per pers
 on. If you want to give a longer presentation\, please ask to be the main 
 presenter for an upcoming monthly event.\n\n7:00pm to close: enjoy some dr
 inks and chatting with fellow oceanic engineering enthusiasts.\n\nRSVPs ar
 e appreciated for planning purposes.\n\nBldg: Quantum Brewing\, 5375 Kearn
 y Villa Rd\, #116\, San Diego\, California\, United States\, 92123
LOCATION:Bldg: Quantum Brewing\, 5375 Kearny Villa Rd\, #116\, San Diego\, 
 California\, United States\, 92123
ORGANIZER:greg_laugle@yahoo.com
SEQUENCE:22
SUMMARY:CHEERS OCEANEERS! August 2025
URL;VALUE=URI:https://events.vtools.ieee.org/m/495505
X-ALT-DESC:Description: &lt;br /&gt;&lt;p class=&quot;MsoNormal&quot; style=&quot;margin-bottom: 10
 .5pt\; background: white\;&quot;&gt;&lt;strong&gt;&lt;span style=&quot;font-size: 14.0pt\; font-
 family: &#39;Calibri&#39;\,sans-serif\; color: black\; text-transform: uppercase\;
  mso-ligatures: none\;&quot;&gt;CHEERS OCEANEERS! August 2025&lt;/span&gt;&lt;/strong&gt;&lt;/p&gt;\
 n&lt;div&gt;\n&lt;p class=&quot;MsoNormal&quot;&gt;&lt;span style=&quot;font-family: &#39;Georgia&#39;\,serif\; 
 mso-fareast-font-family: &#39;Times New Roman&#39;\; color: #444444\; letter-spaci
 ng: .25pt\;&quot;&gt;PLEASE note the time zone of the vTools event date and time. 
 &amp;nbsp\;This appears to be a recent glitch or change in the way vTools work
 s\, and it may display the event in the UTC time zone when you first open 
 it\, so it looks wrong. &amp;nbsp\;The event is on Wednesday\, August 13th\, 5
 :30pm California time (PDT).&lt;/span&gt;&lt;/p&gt;\n&lt;p class=&quot;MsoNormal&quot;&gt;&lt;span style=
 &quot;font-family: &#39;Georgia&#39;\,serif\; mso-fareast-font-family: &#39;Times New Roman
 &#39;\; color: #444444\; letter-spacing: .25pt\;&quot;&gt;Our main presenter is: &lt;stro
 ng&gt;Alex Ferr&amp;eacute\;&lt;/strong&gt;\, of Hybrid Reef Solutions and ALMA Blue / 
 ALMA Life Sciences.&amp;nbsp\; Alex always provides us with engaging presentat
 ions from the cutting edge of BlueTech and the fight to protect the oceans
  and coral reefs from climate change.&lt;/span&gt;&lt;/p&gt;\n&lt;/div&gt;\n&lt;p class=&quot;MsoNor
 mal&quot; style=&quot;margin-bottom: 7.5pt\; background: white\;&quot;&gt;&lt;span style=&quot;font-
 family: Calibri\, sans-serif\; font-size: 12pt\;&quot;&gt;***&lt;/span&gt;&lt;/p&gt;\n&lt;p class
 =&quot;MsoNormal&quot; style=&quot;margin-bottom: 7.5pt\; background: white\;&quot;&gt;&lt;span styl
 e=&quot;font-family: Calibri\, sans-serif\; font-size: 12pt\;&quot;&gt;Welcome to the m
 onthly event for the IEEE Oceanic Engineering Society (OES)\, San Diego Ch
 apter\, which is hosting this meeting jointly along with TMA BlueTech (The
  Maritime Alliance)\, and MTS (Marine Technology Society).&lt;/span&gt;&lt;/p&gt;\n&lt;p 
 class=&quot;MsoNormal&quot; style=&quot;margin-bottom: 7.5pt\; background: white\;&quot;&gt;&lt;span
  style=&quot;font-size: 12.0pt\; font-family: &#39;Calibri&#39;\,sans-serif\; color: bl
 ack\; mso-ligatures: none\;&quot;&gt;Please join us for the main presentation and 
 also plenty of time for networking and friendly conversation about everyth
 ing oceanic\, engineering\, science\, Blue Tech\, and more.&amp;nbsp\; No need
  to be an IEEE or OES member\, or TMA\, or MTS.&amp;nbsp\; Everyone is invited
 .&lt;/span&gt;&lt;/p&gt;\n&lt;p class=&quot;MsoNormal&quot; style=&quot;margin-bottom: 7.5pt\; backgroun
 d: white\;&quot;&gt;This month\, we will be at Quantum Brewing again\, a cool scie
 nce-themed brewery founded by a biochemist.&lt;/p&gt;\n&lt;p class=&quot;MsoNormal&quot; styl
 e=&quot;margin-bottom: 7.5pt\; background: white\;&quot;&gt;&lt;span style=&quot;font-size: 12.
 0pt\; font-family: &#39;Calibri&#39;\,sans-serif\; color: black\; mso-ligatures: n
 one\;&quot;&gt;No ticket required\, but please order something for yourself from t
 he brewery.&lt;/span&gt;&lt;/p&gt;\n&lt;p class=&quot;MsoNormal&quot; style=&quot;margin-bottom: 7.5pt\;
  background: white\;&quot;&gt;&lt;span style=&quot;font-size: 12.0pt\; font-family: &#39;Calib
 ri&#39;\,sans-serif\; color: black\; mso-ligatures: none\;&quot;&gt;Please grab a bite
  from a nearby restaurant\, which is okay to bring into the brewery per th
 e owner.&lt;/span&gt;&lt;/p&gt;\n&lt;p class=&quot;MsoNormal&quot; style=&quot;margin-bottom: 7.5pt\; ba
 ckground: white\;&quot;&gt;&lt;span style=&quot;font-size: 12.0pt\; font-family: &#39;Calibri&#39;
 \,sans-serif\; color: black\; mso-ligatures: none\;&quot;&gt;The food and drinks a
 re &lt;u&gt;not&lt;/u&gt; being funded by the hosts.&amp;nbsp\; Please open your own tab.&lt;
 /span&gt;&lt;/p&gt;&lt;br /&gt;&lt;br /&gt;Agenda: &lt;br /&gt;&lt;p class=&quot;MsoNormal&quot; style=&quot;margin-bot
 tom: 7.5pt\; background: white\;&quot;&gt;&lt;span style=&quot;font-size: 12.0pt\; font-fa
 mily: &#39;Calibri&#39;\,sans-serif\; color: black\; mso-ligatures: none\;&quot;&gt;Agenda
 : &lt;/span&gt;&lt;/p&gt;\n&lt;p class=&quot;MsoNormal&quot; style=&quot;margin-bottom: 7.5pt\; backgrou
 nd: white\;&quot;&gt;&lt;span style=&quot;font-size: 12.0pt\; font-family: &#39;Calibri&#39;\,sans
 -serif\; color: black\; mso-ligatures: none\;&quot;&gt;5:30pm: Arrival and network
 ing\, order food/drinks for yourself.&lt;/span&gt;&lt;/p&gt;\n&lt;p class=&quot;MsoNormal&quot; sty
 le=&quot;margin-bottom: 7.5pt\; background: white\;&quot;&gt;&lt;span style=&quot;font-size: 12
 .0pt\; font-family: &#39;Calibri&#39;\,sans-serif\; color: black\; mso-ligatures: 
 none\;&quot;&gt;6:15pm: OES and other hosting group announcements.&lt;/span&gt;&lt;/p&gt;\n&lt;p 
 class=&quot;MsoNormal&quot; style=&quot;margin-bottom: 7.5pt\; background: white\;&quot;&gt;&lt;span
  style=&quot;font-size: 12.0pt\; font-family: &#39;Calibri&#39;\,sans-serif\; color: bl
 ack\; mso-ligatures: none\;&quot;&gt;6:20pm: Main Presentation&lt;/span&gt;&lt;/p&gt;\n&lt;p clas
 s=&quot;MsoNormal&quot; style=&quot;margin-bottom: 7.5pt\; background: white\;&quot;&gt;&lt;span sty
 le=&quot;font-size: 12.0pt\; font-family: &#39;Calibri&#39;\,sans-serif\; color: black\
 ; mso-ligatures: none\;&quot;&gt;6:40pm (approximately): &amp;ldquo\;open mic&amp;rdquo\; 
 for any other attendees to present anything they like (ocean-related\, of 
 course).&lt;/span&gt;&lt;/p&gt;\n&lt;p class=&quot;MsoNormal&quot; style=&quot;margin-bottom: 7.5pt\; ba
 ckground: white\;&quot;&gt;&lt;span style=&quot;font-size: 12.0pt\; font-family: &#39;Calibri&#39;
 \,sans-serif\; color: black\; mso-ligatures: none\;&quot;&gt;Examples: employers p
 resenting opportunities for employment\, job seekers presenting a quick bi
 o\, internship program opportunities\, promoting other events\, seeking fu
 nding\, &amp;ldquo\;show and tell&amp;rdquo\; of any cool technology you are worki
 ng on\, etc.&lt;/span&gt;&lt;/p&gt;\n&lt;p class=&quot;MsoNormal&quot; style=&quot;margin-bottom: 7.5pt\
 ; background: white\;&quot;&gt;&lt;span style=&quot;font-size: 12.0pt\; font-family: &#39;Cali
 bri&#39;\,sans-serif\; color: black\; mso-ligatures: none\;&quot;&gt;*For the open mic
  portion of the event\, please observe a time-limit of 3 minutes maximum p
 er person.&amp;nbsp\; If you want to give a longer presentation\, please ask t
 o be the main presenter for an upcoming monthly event.&lt;/span&gt;&lt;/p&gt;\n&lt;p clas
 s=&quot;MsoNormal&quot; style=&quot;margin-bottom: 7.5pt\; background: white\;&quot;&gt;&lt;span sty
 le=&quot;font-size: 12.0pt\; font-family: &#39;Calibri&#39;\,sans-serif\; color: black\
 ; mso-ligatures: none\;&quot;&gt;7:00pm to close: enjoy some drinks and chatting w
 ith fellow oceanic engineering enthusiasts.&lt;/span&gt;&lt;/p&gt;\n&lt;p class=&quot;MsoNorma
 l&quot; style=&quot;margin-bottom: 7.5pt\; background: white\;&quot;&gt;&lt;span style=&quot;font-si
 ze: 12.0pt\; font-family: &#39;Calibri&#39;\,sans-serif\; color: black\; mso-ligat
 ures: none\;&quot;&gt;RSVPs are appreciated for planning purposes.&lt;/span&gt;&lt;/p&gt;\n&lt;p 
 class=&quot;MsoNormal&quot; style=&quot;margin-bottom: 7.5pt\; background: white\;&quot;&gt;&amp;nbsp
 \;&lt;/p&gt;
END:VEVENT
END:VCALENDAR

