BEGIN:VCALENDAR
VERSION:2.0
PRODID:IEEE vTools.Events//EN
CALSCALE:GREGORIAN
BEGIN:VTIMEZONE
TZID:America/Los_Angeles
BEGIN:DAYLIGHT
DTSTART:20250309T030000
TZOFFSETFROM:-0800
TZOFFSETTO:-0700
RRULE:FREQ=YEARLY;BYDAY=2SU;BYMONTH=3
TZNAME:PDT
END:DAYLIGHT
BEGIN:STANDARD
DTSTART:20251102T010000
TZOFFSETFROM:-0700
TZOFFSETTO:-0800
RRULE:FREQ=YEARLY;BYDAY=1SU;BYMONTH=11
TZNAME:PST
END:STANDARD
END:VTIMEZONE
BEGIN:VEVENT
DTSTAMP:20250823T162747Z
UID:85B946A7-F757-4F1A-93EF-DEEEB0ABE766
DTSTART;TZID=America/Los_Angeles:20250822T150000
DTEND;TZID=America/Los_Angeles:20250822T160000
DESCRIPTION:AI in Telecom &amp; Wireless Career and Innovation Talk with Bhaska
 ra Rallabandi\, Co-Founder of Invences Inc.\n\nJoin us for an inspiring se
 ssion with Bhaskara Rallabandi\, IEEE Senior Member and Founder of Invence
 s Inc.\, as he shares how AI and next-generation wireless technologies are
  shaping the future of telecommunications. Bhaskara will discuss real-worl
 d applications of Private 5G\, cloud-native infrastructure\, and Industry 
 4.0 innovations\, while offering insights into the skills and opportunitie
 s driving careers in this rapidly evolving field.\n\nDate: Friday\, August
  22\, 2025\nTime: 3:00 PM – 4:00 PM (Pacific Time)\nHosted by: IEEE DeVr
 y University-SoCal Student Branch (STB61901)\n\nCo-sponsored by: Invences 
 Inc.\n\nSpeaker(s): Mr. Rallabandi\, \n\nAgenda: \nAgenda for 1-Hour Talk\
 n\n-\nIntroduction &amp; Welcome\n\n-\n5G to 6G Evolution – Key enablers\, e
 merging trends\n\n-\nEnterprise Private Networks – Use cases in manufact
 uring &amp; logistics\n\n-\nCloud\, MEC &amp; Edge in Telecom – Role in low-late
 ncy applications\n\n-\nGenerative AI in Telecommunications – Network opt
 imization &amp; GenAI use cases\n\n-\nFounding Invences Inc. – Journey from 
 telecom engineer to deep-tech entrepreneur\n\n-\nCareer &amp; Skills Advice 
 – Key skills and value of professional networks\n\n-\nQ&amp;A with Students 
 – Mentorship and career guidance\n\nVirtual: https://events.vtools.ieee.
 org/m/495517
LOCATION:Virtual: https://events.vtools.ieee.org/m/495517
ORGANIZER:nazila_safavi@yahoo.com
SEQUENCE:31
SUMMARY:AI in Telecom &amp; Wireless Career and Innovation Talk with Bhaskara R
 allabandi\, Co-Founder of Invences Inc. Hosted by Dr. Nazila Safavi
URL;VALUE=URI:https://events.vtools.ieee.org/m/495517
X-ALT-DESC:Description: &lt;br /&gt;&lt;p&gt;AI in Telecom &amp;amp\; Wireless Career and I
 nnovation Talk with Bhaskara Rallabandi\, Co-Founder of Invences Inc.&lt;/p&gt;\
 n&lt;p&gt;Join us for an inspiring session with &lt;strong data-start=&quot;220&quot; data-en
 d=&quot;243&quot;&gt;Bhaskara Rallabandi&lt;/strong&gt;\, IEEE Senior Member and Founder of &lt;
 strong data-start=&quot;279&quot; data-end=&quot;296&quot;&gt;Invences Inc.&lt;/strong&gt;\, as he shar
 es how &lt;strong data-start=&quot;315&quot; data-end=&quot;363&quot;&gt;AI and next-generation wire
 less technologies&lt;/strong&gt; are shaping the future of telecommunications. B
 haskara will discuss real-world applications of &lt;strong data-start=&quot;459&quot; d
 ata-end=&quot;532&quot;&gt;Private 5G\, cloud-native infrastructure\, and Industry 4.0 
 innovations&lt;/strong&gt;\, while offering insights into the &lt;strong data-start
 =&quot;567&quot; data-end=&quot;595&quot;&gt;skills and opportunities&lt;/strong&gt; driving careers in
  this rapidly evolving field.&lt;/p&gt;\n&lt;p data-start=&quot;259&quot; data-end=&quot;410&quot;&gt;&lt;str
 ong data-start=&quot;259&quot; data-end=&quot;268&quot;&gt;Date:&lt;/strong&gt; Friday\, August 22\, 20
 25&lt;br data-start=&quot;292&quot; data-end=&quot;295&quot;&gt;&lt;strong data-start=&quot;295&quot; data-end=&quot;3
 04&quot;&gt;Time:&lt;/strong&gt; 3:00 PM &amp;ndash\; 4:00 PM (Pacific Time)&lt;br data-start=&quot;
 337&quot; data-end=&quot;340&quot;&gt;&lt;strong data-start=&quot;340&quot; data-end=&quot;354&quot;&gt;Hosted by:&lt;/st
 rong&gt; IEEE DeVry University-SoCal Student Branch (STB61901)&lt;/p&gt;\n&lt;p data-s
 tart=&quot;2076&quot; data-end=&quot;2132&quot;&gt;&amp;nbsp\;&lt;/p&gt;&lt;br /&gt;&lt;br /&gt;Agenda: &lt;br /&gt;&lt;h4 data-
 start=&quot;1539&quot; data-end=&quot;1572&quot;&gt;&lt;strong data-start=&quot;1544&quot; data-end=&quot;1570&quot;&gt;Age
 nda for 1-Hour Talk&lt;/strong&gt;&lt;/h4&gt;\n&lt;ol data-start=&quot;1574&quot; data-end=&quot;2132&quot;&gt;\
 n&lt;li data-start=&quot;1574&quot; data-end=&quot;1605&quot;&gt;\n&lt;p data-start=&quot;1577&quot; data-end=&quot;16
 05&quot;&gt;&lt;strong data-start=&quot;1577&quot; data-end=&quot;1603&quot;&gt;Introduction &amp;amp\; Welcome&lt;
 /strong&gt;&lt;/p&gt;\n&lt;/li&gt;\n&lt;li data-start=&quot;1606&quot; data-end=&quot;1665&quot;&gt;\n&lt;p data-start
 =&quot;1609&quot; data-end=&quot;1665&quot;&gt;&lt;strong data-start=&quot;1609&quot; data-end=&quot;1631&quot;&gt;5G to 6G
  Evolution&lt;/strong&gt; &amp;ndash\; Key enablers\, emerging trends&lt;/p&gt;\n&lt;/li&gt;\n&lt;l
 i data-start=&quot;1666&quot; data-end=&quot;1743&quot;&gt;\n&lt;p data-start=&quot;1669&quot; data-end=&quot;1743&quot;
 &gt;&lt;strong data-start=&quot;1669&quot; data-end=&quot;1700&quot;&gt;Enterprise Private Networks&lt;/st
 rong&gt; &amp;ndash\; Use cases in manufacturing &amp;amp\; logistics&lt;/p&gt;\n&lt;/li&gt;\n&lt;li
  data-start=&quot;1744&quot; data-end=&quot;1816&quot;&gt;\n&lt;p data-start=&quot;1747&quot; data-end=&quot;1816&quot;&gt;
 &lt;strong data-start=&quot;1747&quot; data-end=&quot;1779&quot;&gt;Cloud\, MEC &amp;amp\; Edge in Telec
 om&lt;/strong&gt; &amp;ndash\; Role in low-latency applications&lt;/p&gt;\n&lt;/li&gt;\n&lt;li data
 -start=&quot;1817&quot; data-end=&quot;1902&quot;&gt;\n&lt;p data-start=&quot;1820&quot; data-end=&quot;1902&quot;&gt;&lt;stro
 ng data-start=&quot;1820&quot; data-end=&quot;1859&quot;&gt;Generative AI in Telecommunications&lt;/
 strong&gt; &amp;ndash\; Network optimization &amp;amp\; GenAI use cases&lt;/p&gt;\n&lt;/li&gt;\n&lt;
 li data-start=&quot;1903&quot; data-end=&quot;1992&quot;&gt;\n&lt;p data-start=&quot;1906&quot; data-end=&quot;1992
 &quot;&gt;&lt;strong data-start=&quot;1906&quot; data-end=&quot;1932&quot;&gt;Founding Invences Inc.&lt;/strong
 &gt; &amp;ndash\; Journey from telecom engineer to deep-tech entrepreneur&lt;/p&gt;\n&lt;/
 li&gt;\n&lt;li data-start=&quot;1993&quot; data-end=&quot;2072&quot;&gt;\n&lt;p data-start=&quot;1996&quot; data-end
 =&quot;2072&quot;&gt;&lt;strong data-start=&quot;1996&quot; data-end=&quot;2022&quot;&gt;Career &amp;amp\; Skills Adv
 ice&lt;/strong&gt; &amp;ndash\; Key skills and value of professional networks&lt;/p&gt;\n&lt;
 /li&gt;\n&lt;li data-start=&quot;2073&quot; data-end=&quot;2132&quot;&gt;\n&lt;p data-start=&quot;2076&quot; data-en
 d=&quot;2132&quot;&gt;&lt;strong data-start=&quot;2076&quot; data-end=&quot;2097&quot;&gt;Q&amp;amp\;A with Students&lt;
 /strong&gt; &amp;ndash\; Mentorship and career guidance&lt;/p&gt;\n&lt;/li&gt;\n&lt;/ol&gt;
END:VEVENT
END:VCALENDAR

